BEGIN:VCALENDAR
VERSION:2.0
PRODID:-//One Montgomery Green - ECPv6.15.20//NONSGML v1.0//EN
CALSCALE:GREGORIAN
METHOD:PUBLISH
X-ORIGINAL-URL:https://onemontgomerygreen.org
X-WR-CALDESC:Events for One Montgomery Green
REFRESH-INTERVAL;VALUE=DURATION:PT1H
X-Robots-Tag:noindex
X-PUBLISHED-TTL:PT1H
BEGIN:VTIMEZONE
TZID:America/New_York
BEGIN:DAYLIGHT
TZOFFSETFROM:-0500
TZOFFSETTO:-0400
TZNAME:EDT
DTSTART:20210314T070000
END:DAYLIGHT
BEGIN:STANDARD
TZOFFSETFROM:-0400
TZOFFSETTO:-0500
TZNAME:EST
DTSTART:20211107T060000
END:STANDARD
BEGIN:DAYLIGHT
TZOFFSETFROM:-0500
TZOFFSETTO:-0400
TZNAME:EDT
DTSTART:20220313T070000
END:DAYLIGHT
BEGIN:STANDARD
TZOFFSETFROM:-0400
TZOFFSETTO:-0500
TZNAME:EST
DTSTART:20221106T060000
END:STANDARD
BEGIN:DAYLIGHT
TZOFFSETFROM:-0500
TZOFFSETTO:-0400
TZNAME:EDT
DTSTART:20230312T070000
END:DAYLIGHT
BEGIN:STANDARD
TZOFFSETFROM:-0400
TZOFFSETTO:-0500
TZNAME:EST
DTSTART:20231105T060000
END:STANDARD
END:VTIMEZONE
BEGIN:VEVENT
DTSTART;VALUE=DATE:20220716
DTEND;VALUE=DATE:20220725
DTSTAMP:20260423T055615
CREATED:20220708T205753Z
LAST-MODIFIED:20220708T210010Z
UID:9433-1657929600-1658707199@onemontgomerygreen.org
SUMMARY:9th Annual Latino Conservation Week
DESCRIPTION:Montgomery Parks is hosting a series of free special events and programs as part of the 9th Annual  Latino Conservation Week\, July 16 – 24\, 2022 \nLatino Conservation Week(opens in a new tab) (LCW) was created by the Hispanic Access Foundation(opens in a new tab) in 2014 to connect Latino communities across the country with opportunities to get involved in outdoor recreation\, conservation education\, and advocacy efforts.   \nThe week aims to inspire the next generation of environmental stewards.  As the largest minority group in America – one that is expected to grow to nearly one-third of the population by 2050 – the Latino community’s role as stewards is critical to the future success and preservation of our nation’s public lands.  This year\, there are expected to be more than 160 events nationwide. We hope you can join us!  \nTO FIND OUT MORE  \n______________________________________ \nLa Semana de Conservación Latina (LCW\, por sus siglas en inglés) fue creada por Hispanic Access Foundation(opens in a new tab)  en 2014 para conectar a las comunidades latinas de todo el país con oportunidades para involucrarse en la recreación al aire libre\, la educación sobre la conservación y los esfuerzos de defensa. \nLa semana tiene como objetivo inspirar a la próxima generación de administradores ambientales. Como el grupo minoritario más grande de Estados Unidos\, uno que se espera que crezca a casi un tercio de la población para 2050\, el papel de la comunidad latina como administradores es fundamental para el éxito futuro y la preservación de las tierras públicas de nuestra nación. Este año\, se espera que haya más de 160 eventos en todo el país. Esperamos que pueda unirse a nosotros! \n*All events are free. Some require registration. / *Todos los eventos son gratuitos. Algunos requieren registro. \nTO FIND OUT MORE \nhttps://montgomeryparks.org/celebrate-latino-conservation-week-2022/
URL:https://onemontgomerygreen.org/index.php/calendarevent/9th-annual-latino-conservation-week/
LOCATION:MD
CATEGORIES:festival,fiesta
ATTACH;FMTTYPE=image/webp:https://onemontgomerygreen.org/wp-content/uploads/2022/07/LCW-BANNER_.webp
END:VEVENT
BEGIN:VEVENT
DTSTART;TZID=America/New_York:20220718T180000
DTEND;TZID=America/New_York:20220718T193000
DTSTAMP:20260423T055615
CREATED:20220708T203627Z
LAST-MODIFIED:20220708T203627Z
UID:9425-1658167200-1658172600@onemontgomerygreen.org
SUMMARY:Solar United Neighbors: Sesión informativa de energía solar
DESCRIPTION:Sesión informativa de energía solar\n\nMiércoles 18 de julio (versión en español)\n6 p.m. – 7:30 p.m.\nseminario web\n\n\n\nAprenda sobre la energía solar y sus beneficios para su hogar o negocio pequeño. Lo guiaremos a través de la tecnología\, economía\, financiación y más. \nTambién aprenderá sobre el grupo de compra colectiva solar que lanzamos. La membresía del grupo de compra colectiva es gratis y los miembros *no* están obligados a comprar paneles solares. \nLos miembros del grupo obtienen: \n• una revisión gratuita de su techo para ver si los paneles solares funcionarán para usted\n• asistencia personalizada para todas sus preguntas sobre la energía solar\n• una propuesta individualizada de energía solar a precio al por mayor \nInfórmese sin compromiso y desde la comodidad de su hogar. ¡Esta será una presentación en vivo\, así que traiga sus preguntas sobre la energía solar y las responderemos! \nDespués de registrarse\, Solar United Neighbors puede comunicarse con usted por correo electrónico o por teléfono con actualizaciones de la campaña y otras ofertas de participación. Puedes acabar tu suscripción en cualquier momento. \n\nhaga clic para registrarse \n\n\n\n____________________________________ \n(TRANSLATED) \nSolar United Neighbors is making solar more accessible to everyone. We’re excited to share that our team will be hosting a virtual Solar Energy Information Session conducted entirely en Español! ¡Una sesión informativa en español! \nAs part of our ongoing commitment to developing a more equitable and inclusive energy system\, we’re working towards offering our solar resources and technical assistance in multiple languages. Removing language barriers helps more communities share the benefits of rooftop solar. \nDuring the information session\, attendees will learn about solar energy and its benefits for your home or small business. Our team of experts will take you through technology\, economics\, financing\, and more – all in Spanish! \n\n\n\nSpanish language solar energy information session \n\n\n\nWednesday\, July 18\n6 p.m. – 7:30 p.m.\nVirtual \n\n\n\nClick to register
URL:https://onemontgomerygreen.org/index.php/calendarevent/solar-united-neighbors-sesion-informativa-de-energia-solar/
LOCATION:MD
CATEGORIES:Virtual Event,Virtual Workshop,webinar
ATTACH;FMTTYPE=image/png:https://onemontgomerygreen.org/wp-content/uploads/2018/12/SolarUnitedNeighbors.png
ORGANIZER;CN="Solar United Neighbors":MAILTO:info@solarunitedneighbors.org
END:VEVENT
END:VCALENDAR