BEGIN:VCALENDAR
VERSION:2.0
PRODID:-//One Montgomery Green - ECPv6.15.20//NONSGML v1.0//EN
CALSCALE:GREGORIAN
METHOD:PUBLISH
X-WR-CALNAME:One Montgomery Green
X-ORIGINAL-URL:https://onemontgomerygreen.org
X-WR-CALDESC:Events for One Montgomery Green
REFRESH-INTERVAL;VALUE=DURATION:PT1H
X-Robots-Tag:noindex
X-PUBLISHED-TTL:PT1H
BEGIN:VTIMEZONE
TZID:America/New_York
BEGIN:DAYLIGHT
TZOFFSETFROM:-0500
TZOFFSETTO:-0400
TZNAME:EDT
DTSTART:20210314T070000
END:DAYLIGHT
BEGIN:STANDARD
TZOFFSETFROM:-0400
TZOFFSETTO:-0500
TZNAME:EST
DTSTART:20211107T060000
END:STANDARD
BEGIN:DAYLIGHT
TZOFFSETFROM:-0500
TZOFFSETTO:-0400
TZNAME:EDT
DTSTART:20220313T070000
END:DAYLIGHT
BEGIN:STANDARD
TZOFFSETFROM:-0400
TZOFFSETTO:-0500
TZNAME:EST
DTSTART:20221106T060000
END:STANDARD
BEGIN:DAYLIGHT
TZOFFSETFROM:-0500
TZOFFSETTO:-0400
TZNAME:EDT
DTSTART:20230312T070000
END:DAYLIGHT
BEGIN:STANDARD
TZOFFSETFROM:-0400
TZOFFSETTO:-0500
TZNAME:EST
DTSTART:20231105T060000
END:STANDARD
END:VTIMEZONE
BEGIN:VEVENT
DTSTART;TZID=America/New_York:20220728T190000
DTEND;TZID=America/New_York:20220728T200000
DTSTAMP:20260421T102715
CREATED:20220708T202650Z
LAST-MODIFIED:20220708T202650Z
UID:9421-1659034800-1659038400@onemontgomerygreen.org
SUMMARY:ANS Naturalist Hour: The Summer Buzz: All About Bees and Wasps
DESCRIPTION:The Summer Buzz: All About Bees and Wasps \nThursday\, July 28 at 7pm \nWe’ll explore the natural history of this ecologically and economically important group of insects. Learn how some insects take advantage of the fearsome reputation of bees and wasps by mimicking their appearance and behavior. \n\nTO REGISTER
URL:https://onemontgomerygreen.org/index.php/calendarevent/ans-naturalist-hour-the-summer-buzz-all-about-bees-and-wasps/
CATEGORIES:Virtual Event,virtual meeting
ATTACH;FMTTYPE=image/jpeg:https://onemontgomerygreen.org/wp-content/uploads/2022/02/maxresdefault-e1644778864918.jpg
ORGANIZER;CN="Audubon Naturalist Society":MAILTO:contact@anshome.org
END:VEVENT
END:VCALENDAR