BEGIN:VCALENDAR
VERSION:2.0
PRODID:-//One Montgomery Green - ECPv6.15.20//NONSGML v1.0//EN
CALSCALE:GREGORIAN
METHOD:PUBLISH
X-WR-CALNAME:One Montgomery Green
X-ORIGINAL-URL:https://onemontgomerygreen.org
X-WR-CALDESC:Events for One Montgomery Green
REFRESH-INTERVAL;VALUE=DURATION:PT1H
X-Robots-Tag:noindex
X-PUBLISHED-TTL:PT1H
BEGIN:VTIMEZONE
TZID:America/New_York
BEGIN:DAYLIGHT
TZOFFSETFROM:-0500
TZOFFSETTO:-0400
TZNAME:EDT
DTSTART:20210314T070000
END:DAYLIGHT
BEGIN:STANDARD
TZOFFSETFROM:-0400
TZOFFSETTO:-0500
TZNAME:EST
DTSTART:20211107T060000
END:STANDARD
BEGIN:DAYLIGHT
TZOFFSETFROM:-0500
TZOFFSETTO:-0400
TZNAME:EDT
DTSTART:20220313T070000
END:DAYLIGHT
BEGIN:STANDARD
TZOFFSETFROM:-0400
TZOFFSETTO:-0500
TZNAME:EST
DTSTART:20221106T060000
END:STANDARD
BEGIN:DAYLIGHT
TZOFFSETFROM:-0500
TZOFFSETTO:-0400
TZNAME:EDT
DTSTART:20230312T070000
END:DAYLIGHT
BEGIN:STANDARD
TZOFFSETFROM:-0400
TZOFFSETTO:-0500
TZNAME:EST
DTSTART:20231105T060000
END:STANDARD
END:VTIMEZONE
BEGIN:VEVENT
DTSTART;TZID=America/New_York:20220817T190000
DTEND;TZID=America/New_York:20220817T200000
DTSTAMP:20260421T141645
CREATED:20220812T005459Z
LAST-MODIFIED:20220812T005459Z
UID:9519-1660762800-1660766400@onemontgomerygreen.org
SUMMARY:Earth&Mind Compost Cycle—How to Start Composting Today
DESCRIPTION:Dear fellow students and residents of Montgomery County\, \n\n\nJoin Earth&Mind on Wednesday\, August 17 at 7 PM on Zoom  \nto discuss how expanding composting and compost use locally can address food waste disposal with our guest speaker\, Director of Composting for Community Project from the Institute for Local Self-Reliance (ILSR)\, Brenda Platt!  \nStudent participants will also be eligible for SSL hours. The project is a Montgomery County Girl Scout-led project and might be of particular interest to OMG’s network of MCPS students and others. \nRSVP FORM \nWhat you will gain from this event… \n1. Where your yard trimmings and food scraps go and the push to divert wasted food from disposal \n2. The basics of how to compost\, what the process entails and the benefits \n3. How you can start composting or support local composting efforts \nJoin us on August 17! \nWhy attend on this date? \nEarly fall is a great time to start composting – learn how to compost before the winter season approaches!
URL:https://onemontgomerygreen.org/index.php/calendarevent/earthmind-compost-cycle-how-to-start-composting-today/
CATEGORIES:Virtual Event,virtual meeting,Zoom event,Zoom meeting,Zoom workshop
ATTACH;FMTTYPE=image/png:https://onemontgomerygreen.org/wp-content/uploads/2022/08/Screen-Shot-2022-08-11-at-8.40.24-PM.png
END:VEVENT
END:VCALENDAR