BEGIN:VCALENDAR
VERSION:2.0
PRODID:-//One Montgomery Green - ECPv6.15.20//NONSGML v1.0//EN
CALSCALE:GREGORIAN
METHOD:PUBLISH
X-WR-CALNAME:One Montgomery Green
X-ORIGINAL-URL:https://onemontgomerygreen.org
X-WR-CALDESC:Events for One Montgomery Green
REFRESH-INTERVAL;VALUE=DURATION:PT1H
X-Robots-Tag:noindex
X-PUBLISHED-TTL:PT1H
BEGIN:VTIMEZONE
TZID:America/New_York
BEGIN:DAYLIGHT
TZOFFSETFROM:-0500
TZOFFSETTO:-0400
TZNAME:EDT
DTSTART:20210314T070000
END:DAYLIGHT
BEGIN:STANDARD
TZOFFSETFROM:-0400
TZOFFSETTO:-0500
TZNAME:EST
DTSTART:20211107T060000
END:STANDARD
BEGIN:DAYLIGHT
TZOFFSETFROM:-0500
TZOFFSETTO:-0400
TZNAME:EDT
DTSTART:20220313T070000
END:DAYLIGHT
BEGIN:STANDARD
TZOFFSETFROM:-0400
TZOFFSETTO:-0500
TZNAME:EST
DTSTART:20221106T060000
END:STANDARD
BEGIN:DAYLIGHT
TZOFFSETFROM:-0500
TZOFFSETTO:-0400
TZNAME:EDT
DTSTART:20230312T070000
END:DAYLIGHT
BEGIN:STANDARD
TZOFFSETFROM:-0400
TZOFFSETTO:-0500
TZNAME:EST
DTSTART:20231105T060000
END:STANDARD
END:VTIMEZONE
BEGIN:VEVENT
DTSTART;TZID=America/New_York:20220913T090000
DTEND;TZID=America/New_York:20220913T150000
DTSTAMP:20260425T095249
CREATED:20220823T235325Z
LAST-MODIFIED:20220823T235445Z
UID:9586-1663059600-1663081200@onemontgomerygreen.org
SUMMARY:Recycling Empty HDPE #2 Containers (Pesticide & Fertilizer and some Paint Containers)
DESCRIPTION:Recycling Empty HDPE #2 Containers (Pesticide & Fertilizer and some Paint Containers)\n\nSeptember 13 @ 9:00 am – 3:00 pm\nGreen Farm Maintenance Facility\, 8301 Turkey Thicket Drive\, Gaithersburg MD 20879 \n\n\n\nM-NCPPC has partnered with the Maryland Department of Agriculture (MDA) for the collection and recycling of empty high-density polyethylene (HDPE #2) plastic containers that once held pesticide\, fertilizer\, or some paint products (this includes many of the buckets of paint purchased for ballfield lining). Park staff\, the public\, private industry\, and other agencies/organizations are welcome to bring approved HDPE #2 plastic containers for recycling. \nThis is a great opportunity to reduce waste! \n**Please note: HDPE #2 containers are generally accepted in commingled recycling dumpsters as long as they have not contained pesticide\, fertilizer\, or other hazardous substances. \n \nAt a minimum\, to be accepted\, containers must be:\n• Triple-Rinsed\n• Free of caps and labels\, metal handles removed\n• HDPE #2 plastic with this symbol on the container bottom: \n  \n\n\n\nVenue\n\nGreen Farm Maintenance Faciliy\, 8301 Turkey Thicket Drive\, Gaithersburg MD 20879\n\n8301 Turkey Thicket Drive\nGaithersburg\, MD 20879 United States + Google Map
URL:https://onemontgomerygreen.org/index.php/calendarevent/recycling-empty-hdpe-2-containers-pesticide-fertilizer-and-some-paint-containers/
LOCATION:Green Farm Maintenance Facility\, 8301 Turkey Thicket Drive\, Gaithersburg\, Maryland\, 20879\, United States
CATEGORIES:Agriculture,Recycling
ATTACH;FMTTYPE=image/bmp:https://onemontgomerygreen.org/wp-content/uploads/2022/08/MncppcLogo.bmp
END:VEVENT
END:VCALENDAR