BEGIN:VCALENDAR
VERSION:2.0
PRODID:-//One Montgomery Green - ECPv6.15.20//NONSGML v1.0//EN
CALSCALE:GREGORIAN
METHOD:PUBLISH
X-WR-CALNAME:One Montgomery Green
X-ORIGINAL-URL:https://onemontgomerygreen.org
X-WR-CALDESC:Events for One Montgomery Green
REFRESH-INTERVAL;VALUE=DURATION:PT1H
X-Robots-Tag:noindex
X-PUBLISHED-TTL:PT1H
BEGIN:VTIMEZONE
TZID:America/New_York
BEGIN:DAYLIGHT
TZOFFSETFROM:-0500
TZOFFSETTO:-0400
TZNAME:EDT
DTSTART:20210314T070000
END:DAYLIGHT
BEGIN:STANDARD
TZOFFSETFROM:-0400
TZOFFSETTO:-0500
TZNAME:EST
DTSTART:20211107T060000
END:STANDARD
BEGIN:DAYLIGHT
TZOFFSETFROM:-0500
TZOFFSETTO:-0400
TZNAME:EDT
DTSTART:20220313T070000
END:DAYLIGHT
BEGIN:STANDARD
TZOFFSETFROM:-0400
TZOFFSETTO:-0500
TZNAME:EST
DTSTART:20221106T060000
END:STANDARD
BEGIN:DAYLIGHT
TZOFFSETFROM:-0500
TZOFFSETTO:-0400
TZNAME:EDT
DTSTART:20230312T070000
END:DAYLIGHT
BEGIN:STANDARD
TZOFFSETFROM:-0400
TZOFFSETTO:-0500
TZNAME:EST
DTSTART:20231105T060000
END:STANDARD
END:VTIMEZONE
BEGIN:VEVENT
DTSTART;TZID=America/New_York:20220917T100000
DTEND;TZID=America/New_York:20220917T160000
DTSTAMP:20260419T162600
CREATED:20220804T205600Z
LAST-MODIFIED:20220804T205600Z
UID:9498-1663408800-1663430400@onemontgomerygreen.org
SUMMARY:National Drive Electric Week Event @ Poolesville Day 2022
DESCRIPTION:One Montgomery Green will partner with \n \nNational Drive Electric Week Event at Poolesville Day 2022 \n \n \nJoin One Montgomery Green as we support Poolesville Green at National Drive Electric Poolesville Day 2022\nSaturday\, September 17\, 2022 • 10:00 am – 4:00 pm\n Poolesville Parking Lot at Rt 109 and Rt 107\n(Anytime Fitness Parking lot across from Basset’s Restaurant)\n19942 Fisher Ave\, Poolesville\, MD 20837 \n\nPoolesville Green’s 2021 National Drive Electric Week (NDEW) Poolesville Day Electric Vehicle Show was a huge success again! With 260+ vehicles registered\, we were the largest NDEW event out of 245+ events worldwide (based on registered vehicles). We expect even more visitors\, more highlights\, more big sponsors\, manufacturers\, and dealerships\, more rides and drives\, more give-a-ways\, and more FUN this coming year! Let’s make 2022 the biggest and best year ever. Come help us make it happen!\n\n\nTo register and for all the information: https://driveelectricweek.org/event?eventid=3074
URL:https://onemontgomerygreen.org/index.php/calendarevent/national-drive-electric-week-event-poolesville-day-2022/
LOCATION:Poolesville Parking Lot at Rt 109 and Rt 107 (Anytime Fitness Parking lot across from Basset’s Restaurant)\, 19950 Fisher Ave\, Poolesville\, MD\, 20837\, United States
CATEGORIES:food,fun,fun for families,Fun for kids,parade,performance
ATTACH;FMTTYPE=image/jpeg:https://onemontgomerygreen.org/wp-content/uploads/2021/03/PoolesvilleGreen_EV2021-e1616354373525.jpg
END:VEVENT
END:VCALENDAR