BEGIN:VCALENDAR
VERSION:2.0
PRODID:-//One Montgomery Green - ECPv6.15.20//NONSGML v1.0//EN
CALSCALE:GREGORIAN
METHOD:PUBLISH
X-ORIGINAL-URL:https://onemontgomerygreen.org
X-WR-CALDESC:Events for One Montgomery Green
REFRESH-INTERVAL;VALUE=DURATION:PT1H
X-Robots-Tag:noindex
X-PUBLISHED-TTL:PT1H
BEGIN:VTIMEZONE
TZID:America/New_York
BEGIN:DAYLIGHT
TZOFFSETFROM:-0500
TZOFFSETTO:-0400
TZNAME:EDT
DTSTART:20210314T070000
END:DAYLIGHT
BEGIN:STANDARD
TZOFFSETFROM:-0400
TZOFFSETTO:-0500
TZNAME:EST
DTSTART:20211107T060000
END:STANDARD
BEGIN:DAYLIGHT
TZOFFSETFROM:-0500
TZOFFSETTO:-0400
TZNAME:EDT
DTSTART:20220313T070000
END:DAYLIGHT
BEGIN:STANDARD
TZOFFSETFROM:-0400
TZOFFSETTO:-0500
TZNAME:EST
DTSTART:20221106T060000
END:STANDARD
BEGIN:DAYLIGHT
TZOFFSETFROM:-0500
TZOFFSETTO:-0400
TZNAME:EDT
DTSTART:20230312T070000
END:DAYLIGHT
BEGIN:STANDARD
TZOFFSETFROM:-0400
TZOFFSETTO:-0500
TZNAME:EST
DTSTART:20231105T060000
END:STANDARD
END:VTIMEZONE
BEGIN:VEVENT
DTSTART;TZID=America/New_York:20220922T153000
DTEND;TZID=America/New_York:20220922T190000
DTSTAMP:20260421T163924
CREATED:20220916T202702Z
LAST-MODIFIED:20220916T202702Z
UID:9642-1663860600-1663873200@onemontgomerygreen.org
SUMMARY:Leaders in Energy : 9th Annual Green Jobs Forum – Find Your Path into a Green Job
DESCRIPTION:On September 22nd from 3:30-7:00 PM EDT\, Leaders in Energy is holding its 9th Annual Green Jobs Forum virtually – “Find Your Path to a Green Job.” \nThe event will include three key topics. The first is Green Job Opportunities. We will hear about hiring underway at the U.S. Department of Energy (DOE) as it adds a large number of staff with wide-ranging skills to its Clean Energy Corps. Opportunities can also be found as start-ups and businesses grow in the green sector (e.g.\, the circular economy\, carbon reduction\, alternative transportation and more). This can help people create their own jobs and jobs for others. We’ll hear from representatives with the US DOE\, and Bethesda Green’s Innovation Lab whose programs support entrepreneurs\, along with other speakers.   \nThe second topic will be centered around Educational Pathways to a Green Job.  It will focus on traditional educational pathways\, as well as non-traditional ways such as certificates\, apprenticeships and transferable skills. Alternative educational options are becoming more prevalent along with a greater diversity of degree programs.  Institutions are creating short-form certificate programs to equip current and aspiring members of the workforce with critical skills and knowledge to bring sustainability practices to an organization. We’ll hear about opportunities like these from a number of groups\, including the International Society of Sustainability Professionals.  \nThe third topic will focus on Being Inspired by and Learning from Others who have Landed or Created Green Jobs. We will hear from a diverse group of green professionals who landed or created their own jobs in the public and private sectors. They will share about their experiences in order to help others along this path. If your aspiration is to move into the green jobs world\, this panel will be both encouraging and informative.   \nThe Forum will conclude with Creating Networking Connections – a half-hour session for attendees to meet one another and to share about the event. \nRegister below and find your pathway to a green job! \nThis year\, we’ve created three different payment tiers\, to make admission work for your budget.\nChoose the payment that’s right for you! \n\nTO REGISTER: https://events.r20.constantcontact.com/register/eventReg?oeidk=a07ejcoyoofac464820&oseq=&c=&ch=
URL:https://onemontgomerygreen.org/index.php/calendarevent/leaders-in-energy-9th-annual-green-jobs-forum-find-your-path-into-a-green-job/
LOCATION:virtual
CATEGORIES:Community,Education,Environment,Green,Nature,sustainability,Virtual Event
ATTACH;FMTTYPE=image/png:https://onemontgomerygreen.org/wp-content/uploads/2022/09/Green-Jobs-Forum.png
ORGANIZER;CN="Leaders in Energy":MAILTO:info@leadersinenergy.org
END:VEVENT
BEGIN:VEVENT
DTSTART;TZID=America/New_York:20220922T190000
DTEND;TZID=America/New_York:20220922T200000
DTSTAMP:20260421T163924
CREATED:20220916T192521Z
LAST-MODIFIED:20220916T192521Z
UID:9632-1663873200-1663876800@onemontgomerygreen.org
SUMMARY:SAPPlings Forum: Back to the Future
DESCRIPTION:The SAPPlings will be kicking off the 2022-23 school year with a student forum chock full of news about how you can get involved with local environmental and sustainability events and activities\, plus a look at programs for the year ahead. \nRegister: https://us02web.zoom.us/meeting/register/tZIod-6hpzgiG9NHJexXZaNygcTgB5AZ-Cbm
URL:https://onemontgomerygreen.org/index.php/calendarevent/sapplings-forum-back-to-the-future/
CATEGORIES:forum,Zoom event,Zoom meeting
ATTACH;FMTTYPE=image/png:https://onemontgomerygreen.org/wp-content/uploads/2022/09/9222022flyer.png
ORGANIZER;CN="One Montgomery Green":MAILTO:info@onemontgomerygreen.org
END:VEVENT
END:VCALENDAR