BEGIN:VCALENDAR
VERSION:2.0
PRODID:-//One Montgomery Green - ECPv6.15.20//NONSGML v1.0//EN
CALSCALE:GREGORIAN
METHOD:PUBLISH
X-WR-CALNAME:One Montgomery Green
X-ORIGINAL-URL:https://onemontgomerygreen.org
X-WR-CALDESC:Events for One Montgomery Green
REFRESH-INTERVAL;VALUE=DURATION:PT1H
X-Robots-Tag:noindex
X-PUBLISHED-TTL:PT1H
BEGIN:VTIMEZONE
TZID:America/New_York
BEGIN:DAYLIGHT
TZOFFSETFROM:-0500
TZOFFSETTO:-0400
TZNAME:EDT
DTSTART:20210314T070000
END:DAYLIGHT
BEGIN:STANDARD
TZOFFSETFROM:-0400
TZOFFSETTO:-0500
TZNAME:EST
DTSTART:20211107T060000
END:STANDARD
BEGIN:DAYLIGHT
TZOFFSETFROM:-0500
TZOFFSETTO:-0400
TZNAME:EDT
DTSTART:20220313T070000
END:DAYLIGHT
BEGIN:STANDARD
TZOFFSETFROM:-0400
TZOFFSETTO:-0500
TZNAME:EST
DTSTART:20221106T060000
END:STANDARD
BEGIN:DAYLIGHT
TZOFFSETFROM:-0500
TZOFFSETTO:-0400
TZNAME:EDT
DTSTART:20230312T070000
END:DAYLIGHT
BEGIN:STANDARD
TZOFFSETFROM:-0400
TZOFFSETTO:-0500
TZNAME:EST
DTSTART:20231105T060000
END:STANDARD
END:VTIMEZONE
BEGIN:VEVENT
DTSTART;TZID=America/New_York:20220924T090000
DTEND;TZID=America/New_York:20220924T130000
DTSTAMP:20260421T110802
CREATED:20220921T185701Z
LAST-MODIFIED:20220921T185803Z
UID:9663-1664010000-1664024400@onemontgomerygreen.org
SUMMARY:Friends of Patuxent's Pollinator Festival\, The Return!
DESCRIPTION:Friends of Patuxent’s Pollinator Festival\, The Return!\n(The first one since the COVID closures.) \nSaturday\, September 24\, 2022\, 9 am to 1 pm  \nPatuxent Research Refuge North Tract\, 230 Bald Eagle Drive\, Laurel\, MD 20724 \n  \nPollinator Festival 2022 will take place on Patuxent Research Refuge’s North Tract (230 Bald Eagle Drive; Laurel) at the Education Building and vicinity\, on Saturday\, September 24th\, from 9 a.m. to 1 p.m. The Festival is free and open to the public (donations also welcome). Come enjoy free native-plant and milkweed-seed giveaways\, science and art activities\, plant and insect identification walks and talks\, educational presentations on gardening for pollinators; meet some of Maryland’s 450+ species of native bees; watch monarch butterfly-tagging and releases\, and more! Learn and explore with us! \nExhibitors and fun\, engaging educational activity stations for all ages will include: Annmarie Sculpture Garden & Arts Center; the University of Maryland’s Entomology Zoo; the Maryland Native Plant Society; the US Fish & Wildlife Service monarch butterfly tagging program; Master Gardeners of Anne Arundel County and Bowie Green; Laurel for Patuxent; the US Geological Survey’s Bee Lab; the Rachel Carson Council\, Inc.; the Maryland Natural History Association; BUMBA; and the Friends of Patuxent (FOP). The FOP Wildlife Images Bookstore & Nature Shop traveling pop-up shop will also be present\, as will some appropriate\, invited vendors who will share a percentage of profits with the Friends. (For more on the Friends of Patuxent Research Refuge\, Inc.\, which sponsors the Festival\, please visit our website: https://friendsofpatuxent.org .) \nAs always\, the mission of the Friends of Patuxent is to support the missions of the Patuxent Research Refuge and the Eastern Ecological Science Center (EESC). We are a nonprofit\, 501(c)3 group; the profits from income received by the Friends of Patuxent will benefit the Refuge and the EESC. \n  \nFor more information: https://friendsofpatuxent.org/event-4886950
URL:https://onemontgomerygreen.org/index.php/calendarevent/friends-of-patuxents-pollinator-festival-the-return/
LOCATION:Patuxent Research Refuge North Tract\, 230 Bald Eagle Drive\, Laurel\, MD\, United States
CATEGORIES:Community,demonstrations,Education,Environment,events,Fairs & Festivals,festival,fun,fun for families,Fun for kids,Green
ATTACH;FMTTYPE=image/jpeg:https://onemontgomerygreen.org/wp-content/uploads/2022/09/Patuxent-PollFest-2022-latest-logo-20220916_152852.jpg
ORGANIZER;CN="Friends of Patuxent":MAILTO:friendsprr@friendsofpatuxent.org
END:VEVENT
BEGIN:VEVENT
DTSTART;TZID=America/New_York:20220924T163000
DTEND;TZID=America/New_York:20220924T180000
DTSTAMP:20260421T110802
CREATED:20220916T201015Z
LAST-MODIFIED:20220916T201015Z
UID:9638-1664037000-1664042400@onemontgomerygreen.org
SUMMARY:Celebrate Wheaton's New Mural
DESCRIPTION:For more information\, visit www.theartandwalkabilityproject.com
URL:https://onemontgomerygreen.org/index.php/calendarevent/celebrate-wheatons-new-mural/
CATEGORIES:celebration,In Person,in person event,in-person
ATTACH;FMTTYPE=image/png:https://onemontgomerygreen.org/wp-content/uploads/2022/09/WheatonMural-wLogos.png
ORGANIZER;CN="The Art & Walkability Project":MAILTO:MargaretKRifkin@TheArtandWalkabilityProject.com
END:VEVENT
END:VCALENDAR