BEGIN:VCALENDAR
VERSION:2.0
PRODID:-//One Montgomery Green - ECPv6.15.20//NONSGML v1.0//EN
CALSCALE:GREGORIAN
METHOD:PUBLISH
X-ORIGINAL-URL:https://onemontgomerygreen.org
X-WR-CALDESC:Events for One Montgomery Green
REFRESH-INTERVAL;VALUE=DURATION:PT1H
X-Robots-Tag:noindex
X-PUBLISHED-TTL:PT1H
BEGIN:VTIMEZONE
TZID:America/New_York
BEGIN:DAYLIGHT
TZOFFSETFROM:-0500
TZOFFSETTO:-0400
TZNAME:EDT
DTSTART:20210314T070000
END:DAYLIGHT
BEGIN:STANDARD
TZOFFSETFROM:-0400
TZOFFSETTO:-0500
TZNAME:EST
DTSTART:20211107T060000
END:STANDARD
BEGIN:DAYLIGHT
TZOFFSETFROM:-0500
TZOFFSETTO:-0400
TZNAME:EDT
DTSTART:20220313T070000
END:DAYLIGHT
BEGIN:STANDARD
TZOFFSETFROM:-0400
TZOFFSETTO:-0500
TZNAME:EST
DTSTART:20221106T060000
END:STANDARD
BEGIN:DAYLIGHT
TZOFFSETFROM:-0500
TZOFFSETTO:-0400
TZNAME:EDT
DTSTART:20230312T070000
END:DAYLIGHT
BEGIN:STANDARD
TZOFFSETFROM:-0400
TZOFFSETTO:-0500
TZNAME:EST
DTSTART:20231105T060000
END:STANDARD
END:VTIMEZONE
BEGIN:VEVENT
DTSTART;TZID=America/New_York:20221006T093000
DTEND;TZID=America/New_York:20221006T103000
DTSTAMP:20260423T233949
CREATED:20221004T204318Z
LAST-MODIFIED:20221004T204318Z
UID:9756-1665048600-1665052200@onemontgomerygreen.org
SUMMARY:MD Pensions & Climate Risk: The Road to Net Zero
DESCRIPTION:Join our panel of distinguished speakers to discuss the state of play for pension fund decarbonization in Maryland\, and how Maryland’s pension system can align itself with the state’s 2045 net zero emissions goal.  \nRecognizing that climate risk is investment risk\, Maryland enacted legislation (SB 566 and HB 0740) in 2022 that requires the State Retirement and Pension System (SRPS) to assess climate risk across certain parts of its investment portfolio\, and identify investment opportunities in renewable energy technologies. \nThis bill is a positive move toward decarbonizing the SRPS and reducing climate risk for retirees\, but more work is needed to fully decarbonize its portfolio. Join us as we talk about next steps! \nSpeakers will include former Deputy Secretary of the Treasury Sarah Bloom Raskin\, pension fund decarbonization expert Tom Sanzillo\, Maryland Senator Sarah Elfreth\, and Maryland Delegate Brooke Lierman.  \nWHEN: \nThursday\, October 6\, 9:30AM ET \nWHERE: \nZoom – RSVP to receive the Zoom link \nRSVP today!
URL:https://onemontgomerygreen.org/index.php/calendarevent/md-pensions-climate-risk-the-road-to-net-zero/
LOCATION:MD
CATEGORIES:Zoom event,Zoom meeting
ATTACH;FMTTYPE=image/png:https://onemontgomerygreen.org/wp-content/uploads/2022/10/MDDivestmentWebinar2.png
ORGANIZER;CN="Chesapeake Climate Action Network":MAILTO:info@chesapeakeclimate.org
END:VEVENT
BEGIN:VEVENT
DTSTART;TZID=America/New_York:20221006T190000
DTEND;TZID=America/New_York:20221006T200000
DTSTAMP:20260423T233949
CREATED:20221004T203423Z
LAST-MODIFIED:20221004T203746Z
UID:9752-1665082800-1665086400@onemontgomerygreen.org
SUMMARY:Electrify Everything
DESCRIPTION:Electrify Everything \nLearn four things you can do RIGHT NOW to electrify your home. \n\n\nBy City of Rockville\n\n\n\n\n\n\n\n\n\n\n\n\nThu\, October 6\, 2022\, 7:00 PM – 8:00 PM EDT\n\n\n\n\nOnline \n\n\n\n\n\n\n\n\nAbout this event\n\n\n\n\nOctober is Energy Action Month and as such\, the theme for this year is Electrify Everything. Join Montgomery County Residential Energy Program Manager Larissa Johnson as she shares with you four things you can do RIGHT NOW to electrify your home. Once you make these changes\, your home will be more comfortable\, your indoor and outdoor air quality will be healthier\, your monthly bills will be lower\, and you will keep more money in your pockets. Oh\, and there will be fun giveaways mailed to those who attend. \n\nTo register: https://www.eventbrite.com/e/electrify-everything-tickets-395318376907
URL:https://onemontgomerygreen.org/index.php/calendarevent/electrify-everything/
LOCATION:MD
CATEGORIES:online event
ATTACH;FMTTYPE=image/png:https://onemontgomerygreen.org/wp-content/uploads/2022/10/Screen-Shot-2022-10-04-at-4.31.00-PM.png
END:VEVENT
END:VCALENDAR