BEGIN:VCALENDAR
VERSION:2.0
PRODID:-//One Montgomery Green - ECPv6.15.20//NONSGML v1.0//EN
CALSCALE:GREGORIAN
METHOD:PUBLISH
X-ORIGINAL-URL:https://onemontgomerygreen.org
X-WR-CALDESC:Events for One Montgomery Green
REFRESH-INTERVAL;VALUE=DURATION:PT1H
X-Robots-Tag:noindex
X-PUBLISHED-TTL:PT1H
BEGIN:VTIMEZONE
TZID:America/New_York
BEGIN:DAYLIGHT
TZOFFSETFROM:-0500
TZOFFSETTO:-0400
TZNAME:EDT
DTSTART:20210314T070000
END:DAYLIGHT
BEGIN:STANDARD
TZOFFSETFROM:-0400
TZOFFSETTO:-0500
TZNAME:EST
DTSTART:20211107T060000
END:STANDARD
BEGIN:DAYLIGHT
TZOFFSETFROM:-0500
TZOFFSETTO:-0400
TZNAME:EDT
DTSTART:20220313T070000
END:DAYLIGHT
BEGIN:STANDARD
TZOFFSETFROM:-0400
TZOFFSETTO:-0500
TZNAME:EST
DTSTART:20221106T060000
END:STANDARD
BEGIN:DAYLIGHT
TZOFFSETFROM:-0500
TZOFFSETTO:-0400
TZNAME:EDT
DTSTART:20230312T070000
END:DAYLIGHT
BEGIN:STANDARD
TZOFFSETFROM:-0400
TZOFFSETTO:-0500
TZNAME:EST
DTSTART:20231105T060000
END:STANDARD
END:VTIMEZONE
BEGIN:VEVENT
DTSTART;TZID=America/New_York:20221013T190000
DTEND;TZID=America/New_York:20221013T200000
DTSTAMP:20260424T003842
CREATED:20221010T201700Z
LAST-MODIFIED:20221010T201700Z
UID:9770-1665687600-1665691200@onemontgomerygreen.org
SUMMARY:SAPPlings Forum: Sustainability in Sports!
DESCRIPTION:Register in advance for this meeting:\nhttps://us02web.zoom.us/meeting/register/tZUrdO-vqjgpHdFVC4Nbe04PuIW5tIylkhqa
URL:https://onemontgomerygreen.org/index.php/calendarevent/sapplings-forum-sustainability-in-sports/
LOCATION:MD
CATEGORIES:forum,Zoom event,Zoom meeting
ATTACH;FMTTYPE=image/png:https://onemontgomerygreen.org/wp-content/uploads/2022/10/SAPPlings-Forum_Sustainability-In-Sports-10.13.2022-copy.png
ORGANIZER;CN="One Montgomery Green":MAILTO:info@onemontgomerygreen.org
END:VEVENT
END:VCALENDAR