BEGIN:VCALENDAR
VERSION:2.0
PRODID:-//One Montgomery Green - ECPv6.15.20//NONSGML v1.0//EN
CALSCALE:GREGORIAN
METHOD:PUBLISH
X-WR-CALNAME:One Montgomery Green
X-ORIGINAL-URL:https://onemontgomerygreen.org
X-WR-CALDESC:Events for One Montgomery Green
REFRESH-INTERVAL;VALUE=DURATION:PT1H
X-Robots-Tag:noindex
X-PUBLISHED-TTL:PT1H
BEGIN:VTIMEZONE
TZID:America/New_York
BEGIN:DAYLIGHT
TZOFFSETFROM:-0500
TZOFFSETTO:-0400
TZNAME:EDT
DTSTART:20210314T070000
END:DAYLIGHT
BEGIN:STANDARD
TZOFFSETFROM:-0400
TZOFFSETTO:-0500
TZNAME:EST
DTSTART:20211107T060000
END:STANDARD
BEGIN:DAYLIGHT
TZOFFSETFROM:-0500
TZOFFSETTO:-0400
TZNAME:EDT
DTSTART:20220313T070000
END:DAYLIGHT
BEGIN:STANDARD
TZOFFSETFROM:-0400
TZOFFSETTO:-0500
TZNAME:EST
DTSTART:20221106T060000
END:STANDARD
BEGIN:DAYLIGHT
TZOFFSETFROM:-0500
TZOFFSETTO:-0400
TZNAME:EDT
DTSTART:20230312T070000
END:DAYLIGHT
BEGIN:STANDARD
TZOFFSETFROM:-0400
TZOFFSETTO:-0500
TZNAME:EST
DTSTART:20231105T060000
END:STANDARD
END:VTIMEZONE
BEGIN:VEVENT
DTSTART;TZID=America/New_York:20221016T123000
DTEND;TZID=America/New_York:20221016T143000
DTSTAMP:20260423T233739
CREATED:20220823T224118Z
LAST-MODIFIED:20220823T224118Z
UID:9572-1665923400-1665930600@onemontgomerygreen.org
SUMMARY:Free E-Scooter Training at Westfield Montgomery Mall\, Bethesda
DESCRIPTION:For more information\, visit: https://www.montgomerycountymd.gov/DOT-DIR/commuter/bikewalk/index.html
URL:https://onemontgomerygreen.org/index.php/calendarevent/free-e-scooter-training-at-westfield-montgomery-mall-bethesda/
LOCATION:Westfield Montgomery Mall\, former Sears Parking Lot\, Bethesda\, MD\, 20817\, United States
CATEGORIES:e-scooter training,training
ATTACH;FMTTYPE=application/pdf:https://onemontgomerygreen.org/wp-content/uploads/2022/08/E-ScooterClasses-Fall2022.pdf
END:VEVENT
BEGIN:VEVENT
DTSTART;TZID=America/New_York:20221016T153000
DTEND;TZID=America/New_York:20221016T170000
DTSTAMP:20260423T233739
CREATED:20221003T202645Z
LAST-MODIFIED:20221003T202645Z
UID:9712-1665934200-1665939600@onemontgomerygreen.org
SUMMARY:Food Recovery Week: Tour Koiner Farm\, a Closed-Loop Micro-food System
DESCRIPTION:SUNDAY\, OCT 16 — 3:30 – 5:00PM\nTour Koiner Farm\, a Closed-Loop Micro-food System \n \nCome tour Koiner Farm and learn how we are supporting a closed-loop micro-food system. You will hear first hand from Koiner Farm’s farm managers about composting capacity\, community impact and the repeatability of our model. You will also have the opportunity for a meet-n-greet with representatives from the Montgomery County Department of Environmental Protection\, the Montgomery County Food Council\, Community Food Rescue\, and others who are working to make our local food system more sustainable and resilient. \nPresented by: Koiner Farm\, Charles Koiner Conservancy for Urban Farming\, Montgomery County Food Council\, Montgomery County Department of Environmental Protection\, Manna’s Community Food Rescue \nREGISTER HERE
URL:https://onemontgomerygreen.org/index.php/calendarevent/food-recovery-week-tour-koiner-farm-a-closed-loop-micro-food-system/
LOCATION:The Charles Koiner Center for Urban Farming\, 737 Easely Street\, Silver Spring\, MD\, 20910\, United States
CATEGORIES:In Person,tour
ATTACH;FMTTYPE=image/jpeg:https://onemontgomerygreen.org/wp-content/uploads/2022/10/CFR_Manna_FRweek2022_logo_300dpi-CMYK-e1660943666691.jpg
ORGANIZER;CN="Montgomery County Food Council Environmental Impact Working Group":MAILTO:info@mocofoodcouncil.org
END:VEVENT
END:VCALENDAR