BEGIN:VCALENDAR
VERSION:2.0
PRODID:-//One Montgomery Green - ECPv6.15.20//NONSGML v1.0//EN
CALSCALE:GREGORIAN
METHOD:PUBLISH
X-WR-CALNAME:One Montgomery Green
X-ORIGINAL-URL:https://onemontgomerygreen.org
X-WR-CALDESC:Events for One Montgomery Green
REFRESH-INTERVAL;VALUE=DURATION:PT1H
X-Robots-Tag:noindex
X-PUBLISHED-TTL:PT1H
BEGIN:VTIMEZONE
TZID:America/New_York
BEGIN:DAYLIGHT
TZOFFSETFROM:-0500
TZOFFSETTO:-0400
TZNAME:EDT
DTSTART:20210314T070000
END:DAYLIGHT
BEGIN:STANDARD
TZOFFSETFROM:-0400
TZOFFSETTO:-0500
TZNAME:EST
DTSTART:20211107T060000
END:STANDARD
BEGIN:DAYLIGHT
TZOFFSETFROM:-0500
TZOFFSETTO:-0400
TZNAME:EDT
DTSTART:20220313T070000
END:DAYLIGHT
BEGIN:STANDARD
TZOFFSETFROM:-0400
TZOFFSETTO:-0500
TZNAME:EST
DTSTART:20221106T060000
END:STANDARD
BEGIN:DAYLIGHT
TZOFFSETFROM:-0500
TZOFFSETTO:-0400
TZNAME:EDT
DTSTART:20230312T070000
END:DAYLIGHT
BEGIN:STANDARD
TZOFFSETFROM:-0400
TZOFFSETTO:-0500
TZNAME:EST
DTSTART:20231105T060000
END:STANDARD
END:VTIMEZONE
BEGIN:VEVENT
DTSTART;TZID=America/New_York:20221017T120000
DTEND;TZID=America/New_York:20221017T130000
DTSTAMP:20260424T182603
CREATED:20221003T203219Z
LAST-MODIFIED:20221003T203219Z
UID:9717-1666008000-1666011600@onemontgomerygreen.org
SUMMARY:Food Recovery Week: Composting as a Statement for Ecological Diplomacy
DESCRIPTION:MONDAY\, OCT 17 — Noon – 1:00PM (Virtual)\nComposting as a Statement for Ecological Diplomacy: Embassies Leading by Example in DC\nDiscover which embassies in DC are enhancing our local food systems and making a statement by reducing food waste and by composting. You will hear from embassy project leaders about the nuts and bolts of their composting operations. Embassies\, government and international institution buildings as well as restaurants that partner directly with embassies will leave inspired and informed on how to get their own composting operation started. Speakers will also share insights on how to maintain a smooth-running food recovery practice.  \nPresented by: Regenerative Solutions \nREGISTER HERE\nFor more information: https://dmvfoodrecoveryweek.org/
URL:https://onemontgomerygreen.org/index.php/calendarevent/food-recovery-week-composting-as-a-statement-for-ecological-diplomacy/
LOCATION:MD
CATEGORIES:Virtual Event
ATTACH;FMTTYPE=image/jpeg:https://onemontgomerygreen.org/wp-content/uploads/2022/10/CFR_Manna_FRweek2022_logo_300dpi-CMYK-e1660943666691.jpg
ORGANIZER;CN="Montgomery County Food Council Environmental Impact Working Group":MAILTO:info@mocofoodcouncil.org
END:VEVENT
BEGIN:VEVENT
DTSTART;TZID=America/New_York:20221017T173000
DTEND;TZID=America/New_York:20221017T183000
DTSTAMP:20260424T182603
CREATED:20221003T203613Z
LAST-MODIFIED:20221003T203613Z
UID:9720-1666027800-1666031400@onemontgomerygreen.org
SUMMARY:Food Recovery Week: Minimizing Food Waste at Home
DESCRIPTION:MONDAY\, OCT 17 — 5:30 – 6:30PM (Virtual)\nMinimizing Food Waste at Home \nCome learn how to reduce food waste in your home by properly storing\, saving and freezing your food\, getting creative with leftovers\, and preparing recipes with minimal food waste. Get inspired to make a measurable difference by signing up for a seriously fun 4-week take home challenge! \nPresented by: Capital Area Food Bank\, Recycle Leaders \nREGISTER HERE\n  \nFor more information: https://dmvfoodrecoveryweek.org/
URL:https://onemontgomerygreen.org/index.php/calendarevent/food-recovery-week-minimizing-food-waste-at-home/
LOCATION:MD
CATEGORIES:Virtual Event
ATTACH;FMTTYPE=image/jpeg:https://onemontgomerygreen.org/wp-content/uploads/2022/10/CFR_Manna_FRweek2022_logo_300dpi-CMYK-e1660943666691.jpg
ORGANIZER;CN="Montgomery County Food Council Environmental Impact Working Group":MAILTO:info@mocofoodcouncil.org
END:VEVENT
BEGIN:VEVENT
DTSTART;TZID=America/New_York:20221017T190000
DTEND;TZID=America/New_York:20221017T200000
DTSTAMP:20260424T182603
CREATED:20221003T203942Z
LAST-MODIFIED:20221003T203942Z
UID:9722-1666033200-1666036800@onemontgomerygreen.org
SUMMARY:Food Recovery Week: Food Waste 101: A Roadmap to Achieving 50% Reduction by 2030
DESCRIPTION:MONDAY\, OCT 17 — 7:00 – 8:00 PM (Virtual)\nFood Waste 101: A Roadmap to Achieving 50% Reduction by 2030\nEver wonder who generates the most food waste\, why food waste is a problem for climate\, and what are the most effective ways to reduce it? ReFED\, a nationally-respected consortium of food waste experts\, recommends 40 evidence-based ways to combat food waste. You will learn the most impactful activities that households\, restaurants\, businesses\, and farms can do to prevent\, recover and recycle food waste to achieve the US and international goals to reduce food waste 50% by 2030. This session also sets the table for DMV Food Recovery Week’s events that dive deeper into local implementation of ReFED recommendations. \nPresented by: ReFED\, Montgomery County Food Council\, Environmental Law Institute \nREGISTER HERE\nFor more information: https://dmvfoodrecoveryweek.org/
URL:https://onemontgomerygreen.org/index.php/calendarevent/food-recovery-week-food-waste-101-a-roadmap-to-achieving-50-reduction-by-2030/
LOCATION:MD
CATEGORIES:Virtual Event
ATTACH;FMTTYPE=image/jpeg:https://onemontgomerygreen.org/wp-content/uploads/2022/10/CFR_Manna_FRweek2022_logo_300dpi-CMYK-e1660943666691.jpg
ORGANIZER;CN="Montgomery County Food Council Environmental Impact Working Group":MAILTO:info@mocofoodcouncil.org
END:VEVENT
END:VCALENDAR