BEGIN:VCALENDAR
VERSION:2.0
PRODID:-//One Montgomery Green - ECPv6.15.20//NONSGML v1.0//EN
CALSCALE:GREGORIAN
METHOD:PUBLISH
X-ORIGINAL-URL:https://onemontgomerygreen.org
X-WR-CALDESC:Events for One Montgomery Green
REFRESH-INTERVAL;VALUE=DURATION:PT1H
X-Robots-Tag:noindex
X-PUBLISHED-TTL:PT1H
BEGIN:VTIMEZONE
TZID:America/New_York
BEGIN:DAYLIGHT
TZOFFSETFROM:-0500
TZOFFSETTO:-0400
TZNAME:EDT
DTSTART:20210314T070000
END:DAYLIGHT
BEGIN:STANDARD
TZOFFSETFROM:-0400
TZOFFSETTO:-0500
TZNAME:EST
DTSTART:20211107T060000
END:STANDARD
BEGIN:DAYLIGHT
TZOFFSETFROM:-0500
TZOFFSETTO:-0400
TZNAME:EDT
DTSTART:20220313T070000
END:DAYLIGHT
BEGIN:STANDARD
TZOFFSETFROM:-0400
TZOFFSETTO:-0500
TZNAME:EST
DTSTART:20221106T060000
END:STANDARD
BEGIN:DAYLIGHT
TZOFFSETFROM:-0500
TZOFFSETTO:-0400
TZNAME:EDT
DTSTART:20230312T070000
END:DAYLIGHT
BEGIN:STANDARD
TZOFFSETFROM:-0400
TZOFFSETTO:-0500
TZNAME:EST
DTSTART:20231105T060000
END:STANDARD
END:VTIMEZONE
BEGIN:VEVENT
DTSTART;TZID=America/New_York:20221019T190000
DTEND;TZID=America/New_York:20221019T200000
DTSTAMP:20260424T195101
CREATED:20221004T194541Z
LAST-MODIFIED:20221004T194541Z
UID:9732-1666206000-1666209600@onemontgomerygreen.org
SUMMARY:Food Recovery Week: Food Waste Policy: Pitfalls & Progress
DESCRIPTION:WEDNESDAY\, OCT 19 — 7:00 – 8:00PM (Virtual)\nFood Waste Policy: Pitfalls & Progress\nJoin us for a panel discussion about the local food waste policy landscape. Representatives from across the DMV will share their most impactful policies and frustrating roadblocks. Learn about innovative policies and how to advocate for the upcoming Farm Bill to expand national and local food waste programs. \nPresented by: Institute for Public Health Innovation\, DC Food Policy Council\, Montgomery County Department of Environmental Protection\, Prince George’s County Department of the Environment\, Prince George’s County Food Equity Council\, Fairfax Food Council\, and NRDC. \nREGISTER HERE\nFor more information: https://dmvfoodrecoveryweek.org/
URL:https://onemontgomerygreen.org/index.php/calendarevent/food-recovery-week-food-waste-policy-pitfalls-progress/
LOCATION:MD
CATEGORIES:Virtual Event
ATTACH;FMTTYPE=image/jpeg:https://onemontgomerygreen.org/wp-content/uploads/2022/10/CFR_Manna_FRweek2022_logo_300dpi-CMYK-e1660943666691.jpg
ORGANIZER;CN="Montgomery County Food Council Environmental Impact Working Group":MAILTO:info@mocofoodcouncil.org
END:VEVENT
BEGIN:VEVENT
DTSTART;TZID=America/New_York:20221019T190000
DTEND;TZID=America/New_York:20221019T203000
DTSTAMP:20260424T195101
CREATED:20221004T205217Z
LAST-MODIFIED:20221004T205217Z
UID:9760-1666206000-1666211400@onemontgomerygreen.org
SUMMARY:ANS October 2022 Conservation Café: America the Beautiful for All
DESCRIPTION:This Hispanic Heritage Month\, ANS is joining with the America the Beautiful For All campaign to highlight the importance of both conservation and access to public lands.  \nJoin me on Wednesday\, October 19\, 7-8:30 pm to hear from Mariana Del Valle Prieto Cervantes\, Director of Strategic Initiatives at GreenLatinos.  \nWe’ll learn about this powerful new coalition that reflects the diversity of America and centers the voices of people of color working to conserve 30% of our public lands\, waters\, and ocean by 2030. The political power necessary to accomplish the twin goals of conservation and environmental justice rests entirely on our ability to shift power\, grow\, and cultivate a united environmental community that truly represents America. We are stronger and more effective when we work together. \n \nThe America the Beautiful for All Coalition’s Twin Goals:  \n\nConserve at least 30% of land\, water\, and ocean by 2030 to avoid massive species loss\, secure equitable access to nature’s benefits\, and prevent and repair the impacts of the climate crisis for all communities. \nImplement a Justice40 metric for the America the Beautiful Initiative to ensure at least 40% of investments are made in communities of color and frontline communities that have historically seen little to no investment in conservation and equitable access to nature. \n\nVIRTUAL. Tickets $10-$15.  \nEmail eliza.cava@anshome.org for complimentary tickets if needed. CLICK HERE TO REGISTER
URL:https://onemontgomerygreen.org/index.php/calendarevent/ans-october-2022-conservation-cafe-america-the-beautiful-for-all/
LOCATION:MD
CATEGORIES:Conservation Cafe,Virtual Event,virtual meeting
ATTACH;FMTTYPE=image/png:https://onemontgomerygreen.org/wp-content/uploads/2022/10/1664811468357-ANSHHM2022.png
END:VEVENT
END:VCALENDAR