BEGIN:VCALENDAR
VERSION:2.0
PRODID:-//One Montgomery Green - ECPv6.15.20//NONSGML v1.0//EN
CALSCALE:GREGORIAN
METHOD:PUBLISH
X-ORIGINAL-URL:https://onemontgomerygreen.org
X-WR-CALDESC:Events for One Montgomery Green
REFRESH-INTERVAL;VALUE=DURATION:PT1H
X-Robots-Tag:noindex
X-PUBLISHED-TTL:PT1H
BEGIN:VTIMEZONE
TZID:America/New_York
BEGIN:DAYLIGHT
TZOFFSETFROM:-0500
TZOFFSETTO:-0400
TZNAME:EDT
DTSTART:20210314T070000
END:DAYLIGHT
BEGIN:STANDARD
TZOFFSETFROM:-0400
TZOFFSETTO:-0500
TZNAME:EST
DTSTART:20211107T060000
END:STANDARD
BEGIN:DAYLIGHT
TZOFFSETFROM:-0500
TZOFFSETTO:-0400
TZNAME:EDT
DTSTART:20220313T070000
END:DAYLIGHT
BEGIN:STANDARD
TZOFFSETFROM:-0400
TZOFFSETTO:-0500
TZNAME:EST
DTSTART:20221106T060000
END:STANDARD
BEGIN:DAYLIGHT
TZOFFSETFROM:-0500
TZOFFSETTO:-0400
TZNAME:EDT
DTSTART:20230312T070000
END:DAYLIGHT
BEGIN:STANDARD
TZOFFSETFROM:-0400
TZOFFSETTO:-0500
TZNAME:EST
DTSTART:20231105T060000
END:STANDARD
END:VTIMEZONE
BEGIN:VEVENT
DTSTART;TZID=America/New_York:20221106T093000
DTEND;TZID=America/New_York:20221106T110000
DTSTAMP:20260423T233933
CREATED:20221018T191858Z
LAST-MODIFIED:20221018T191858Z
UID:9801-1667727000-1667732400@onemontgomerygreen.org
SUMMARY:DC EcoWomen Nature Hike thru Huntley Meadows Park\, Alex.\, VA
DESCRIPTION:Join DC EcoWomen on Sunday\, November 6 at 9:30 AM for a 2.8 mile trek through Huntley Meadows Park. \nAs a historical wetland and wildlife conservation area and one of Fairfax County’s largest parks\, Huntley Meadows is a great place to visit to immerse yourself in nature and learn about local wildlife\, including birds\, reptiles\, and even muskrats. Exact meeting location and voluntary carpool sign-up will be sent to registered participants. \nThis event is open to all who identify as women and their friends and families. To register\, please do so at the Eventbrite link below\, before November 4th\, 11 PM ET. \nRegister Here>>>
URL:https://onemontgomerygreen.org/index.php/calendarevent/dc-ecowomen-nature-hike-thru-huntley-meadows-park-alex-va/
LOCATION:Huntley Meadows Park\, 3701 Lockheed Blvd\, Alexandria\, VA\, 22306\, United States
CATEGORIES:hike,nature walk
ATTACH;FMTTYPE=image/png:https://onemontgomerygreen.org/wp-content/uploads/2022/10/Nature_Hike_11.6.22.png
END:VEVENT
END:VCALENDAR