BEGIN:VCALENDAR
VERSION:2.0
PRODID:-//One Montgomery Green - ECPv6.15.20//NONSGML v1.0//EN
CALSCALE:GREGORIAN
METHOD:PUBLISH
X-WR-CALNAME:One Montgomery Green
X-ORIGINAL-URL:https://onemontgomerygreen.org
X-WR-CALDESC:Events for One Montgomery Green
REFRESH-INTERVAL;VALUE=DURATION:PT1H
X-Robots-Tag:noindex
X-PUBLISHED-TTL:PT1H
BEGIN:VTIMEZONE
TZID:America/New_York
BEGIN:DAYLIGHT
TZOFFSETFROM:-0500
TZOFFSETTO:-0400
TZNAME:EDT
DTSTART:20210314T070000
END:DAYLIGHT
BEGIN:STANDARD
TZOFFSETFROM:-0400
TZOFFSETTO:-0500
TZNAME:EST
DTSTART:20211107T060000
END:STANDARD
BEGIN:DAYLIGHT
TZOFFSETFROM:-0500
TZOFFSETTO:-0400
TZNAME:EDT
DTSTART:20220313T070000
END:DAYLIGHT
BEGIN:STANDARD
TZOFFSETFROM:-0400
TZOFFSETTO:-0500
TZNAME:EST
DTSTART:20221106T060000
END:STANDARD
BEGIN:DAYLIGHT
TZOFFSETFROM:-0500
TZOFFSETTO:-0400
TZNAME:EDT
DTSTART:20230312T070000
END:DAYLIGHT
BEGIN:STANDARD
TZOFFSETFROM:-0400
TZOFFSETTO:-0500
TZNAME:EST
DTSTART:20231105T060000
END:STANDARD
END:VTIMEZONE
BEGIN:VEVENT
DTSTART;TZID=America/New_York:20221110T173000
DTEND;TZID=America/New_York:20221110T193000
DTSTAMP:20260425T104544
CREATED:20221031T210737Z
LAST-MODIFIED:20221102T155003Z
UID:9824-1668101400-1668108600@onemontgomerygreen.org
SUMMARY:Wheaton Sustainable Innovation Zone (WSIZ) Mixer
DESCRIPTION:For more information and to register:  https://conta.cc/3DJdjiz \n  \n \n 
URL:https://onemontgomerygreen.org/index.php/calendarevent/wheaton-sustainable-innovation-zone-wsiz-mixer/
LOCATION:Worksource Montgomery\, 11510 Georgia Ave\, Wheaton\, MD\, 20902\, United States
CATEGORIES:In Person,in person event,in-person,information,mixer
ATTACH;FMTTYPE=image/jpeg:https://onemontgomerygreen.org/wp-content/uploads/2022/10/WSIZ_Mixer_111022-English-2.jpg
ORGANIZER;CN="One Montgomery Green":MAILTO:info@onemontgomerygreen.org
END:VEVENT
BEGIN:VEVENT
DTSTART;TZID=America/New_York:20221110T190000
DTEND;TZID=America/New_York:20221110T200000
DTSTAMP:20260425T104544
CREATED:20221101T191356Z
LAST-MODIFIED:20221103T161611Z
UID:9841-1668106800-1668110400@onemontgomerygreen.org
SUMMARY:SAPPlings Public Webinar – Melting Glaciers\, Rising Seas
DESCRIPTION:  \nSPEAKERS: \nDr. Richard Alley (PhD 1987 Wisconsin; Evan Pugh University Professor\, Geosciences\, Penn State) studies the Antarctic and Greenland ice sheets to help predict future climate and sea-level changes. He has been honored for research\, teaching\, and service. He participated in the UN Intergovernmental Panel on Climate Change (co-recipient\, 2007 Nobel Peace Prize)\, and provided requested advice to high government officials from both major political parties. He has authored or coauthored over 300 refereed scientific papers. His was presenter for the PBS TV miniseries Earth: The Operators’ Manual\, based on his book. His popular account of climate change and ice cores\, The Two-Mile Time Machine\, was Phi Beta Kappa’s science book of the year. He is happily married with two grown daughters\, a bicycle\, and a pair of soccer cleats. \nJeremy Cox is a reporter with the Chesapeake Bay Journal\, a nonprofit news organization that covers the environment in the 64\,000-square-mile Chesapeake watershed. He also hosts the Journal’s official podcast\, Chesapeake Uncharted. The first season focused entirely on climate change. Jeremy lives near Salisbury\, Maryland\, and enjoys kayaking\, bird-watching and running. \nRegister in advance for this meeting: https://us02web.zoom.us/webinar/register/WN_l_Wr-PKqS5y6h_ZXDRItwg
URL:https://onemontgomerygreen.org/index.php/calendarevent/sapplings-public-webinar-melting-glaciers-rising-seas-whats-happening-in-antarctica-and-what-it-means-for-the-world/
LOCATION:MD
CATEGORIES:SAPPlings,virtual meeting,webinar,Zoom event,Zoom meeting
ATTACH;FMTTYPE=image/jpeg:https://onemontgomerygreen.org/wp-content/uploads/2022/11/11.10.22_SAPPlingsForum_Glaciers2.jpg
ORGANIZER;CN="One Montgomery Green":MAILTO:info@onemontgomerygreen.org
END:VEVENT
END:VCALENDAR