BEGIN:VCALENDAR
VERSION:2.0
PRODID:-//One Montgomery Green - ECPv6.15.20//NONSGML v1.0//EN
CALSCALE:GREGORIAN
METHOD:PUBLISH
X-WR-CALNAME:One Montgomery Green
X-ORIGINAL-URL:https://onemontgomerygreen.org
X-WR-CALDESC:Events for One Montgomery Green
REFRESH-INTERVAL;VALUE=DURATION:PT1H
X-Robots-Tag:noindex
X-PUBLISHED-TTL:PT1H
BEGIN:VTIMEZONE
TZID:America/New_York
BEGIN:DAYLIGHT
TZOFFSETFROM:-0500
TZOFFSETTO:-0400
TZNAME:EDT
DTSTART:20210314T070000
END:DAYLIGHT
BEGIN:STANDARD
TZOFFSETFROM:-0400
TZOFFSETTO:-0500
TZNAME:EST
DTSTART:20211107T060000
END:STANDARD
BEGIN:DAYLIGHT
TZOFFSETFROM:-0500
TZOFFSETTO:-0400
TZNAME:EDT
DTSTART:20220313T070000
END:DAYLIGHT
BEGIN:STANDARD
TZOFFSETFROM:-0400
TZOFFSETTO:-0500
TZNAME:EST
DTSTART:20221106T060000
END:STANDARD
BEGIN:DAYLIGHT
TZOFFSETFROM:-0500
TZOFFSETTO:-0400
TZNAME:EDT
DTSTART:20230312T070000
END:DAYLIGHT
BEGIN:STANDARD
TZOFFSETFROM:-0400
TZOFFSETTO:-0500
TZNAME:EST
DTSTART:20231105T060000
END:STANDARD
END:VTIMEZONE
BEGIN:VEVENT
DTSTART;TZID=America/New_York:20221130T120000
DTEND;TZID=America/New_York:20221130T130000
DTSTAMP:20260424T195747
CREATED:20221128T225258Z
LAST-MODIFIED:20221128T225258Z
UID:9889-1669809600-1669813200@onemontgomerygreen.org
SUMMARY:Bethesda Green Innovation Lab Open House
DESCRIPTION:Are you an entrepreneur working on climate solutions? The Bethesda Green Innovation Lab wants to hear from you! Join us for an upcoming virtual open house to learn more about our expansive suite of programs to support entrepreneurs working on innovative solutions to elevate sustainability and promote environmental and social impact throughout the economy. We’ll also go over how to apply for our 2023 Accelerator Cohort!  \nWednesday\, November 30th from 12pm to 1pm EST. \nRegister Here
URL:https://onemontgomerygreen.org/index.php/calendarevent/bethesda-green-innovation-lab-open-house/
LOCATION:MD
CATEGORIES:Virtual Event,virtual meeting,Virtual Workshop
ATTACH;FMTTYPE=image/jpeg:https://onemontgomerygreen.org/wp-content/uploads/2022/11/c52c08ad-720e-9e44-25cb-4f88ea6faa6a.jpg
ORGANIZER;CN="Bethesda Green":MAILTO:info@bethesdagreen.org
END:VEVENT
BEGIN:VEVENT
DTSTART;TZID=America/New_York:20221130T173000
DTEND;TZID=America/New_York:20221130T190000
DTSTAMP:20260424T195747
CREATED:20221128T224512Z
LAST-MODIFIED:20221128T224633Z
UID:9886-1669829400-1669834800@onemontgomerygreen.org
SUMMARY:Race\, History and Rock Creek: The History and Future of the Carter Barron Amphitheater
DESCRIPTION:Race\, History and Rock Creek:\nThe History and Future of the Carter Barron Amphitheater \n \nWednesday\, November 30\, 5:30 pm to 7:00 pm ET (VIRTUAL) \nA panel discussion will explore the history and significance of the Carter Barron Amphitheater. National Parks Conservation Association (NPCA)’s Alan Spears\, and community leader Donna Potts will discuss their perspectives. Tony Richardson\, leader of the Carter Barron Alliance at the Conservancy\, will moderate\, and National Park Service (NPS) staff will share their vision for the future of the amphitheater. \nRegister Here
URL:https://onemontgomerygreen.org/index.php/calendarevent/9886/
LOCATION:MD
CATEGORIES:Virtual Event,virtual meeting
ATTACH;FMTTYPE=image/png:https://onemontgomerygreen.org/wp-content/uploads/2022/03/RockCreekConservancy.png
END:VEVENT
END:VCALENDAR