BEGIN:VCALENDAR
VERSION:2.0
PRODID:-//One Montgomery Green - ECPv6.15.20//NONSGML v1.0//EN
CALSCALE:GREGORIAN
METHOD:PUBLISH
X-WR-CALNAME:One Montgomery Green
X-ORIGINAL-URL:https://onemontgomerygreen.org
X-WR-CALDESC:Events for One Montgomery Green
REFRESH-INTERVAL;VALUE=DURATION:PT1H
X-Robots-Tag:noindex
X-PUBLISHED-TTL:PT1H
BEGIN:VTIMEZONE
TZID:America/New_York
BEGIN:DAYLIGHT
TZOFFSETFROM:-0500
TZOFFSETTO:-0400
TZNAME:EDT
DTSTART:20230312T070000
END:DAYLIGHT
BEGIN:STANDARD
TZOFFSETFROM:-0400
TZOFFSETTO:-0500
TZNAME:EST
DTSTART:20231105T060000
END:STANDARD
BEGIN:DAYLIGHT
TZOFFSETFROM:-0500
TZOFFSETTO:-0400
TZNAME:EDT
DTSTART:20240310T070000
END:DAYLIGHT
BEGIN:STANDARD
TZOFFSETFROM:-0400
TZOFFSETTO:-0500
TZNAME:EST
DTSTART:20241103T060000
END:STANDARD
BEGIN:DAYLIGHT
TZOFFSETFROM:-0500
TZOFFSETTO:-0400
TZNAME:EDT
DTSTART:20250309T070000
END:DAYLIGHT
BEGIN:STANDARD
TZOFFSETFROM:-0400
TZOFFSETTO:-0500
TZNAME:EST
DTSTART:20251102T060000
END:STANDARD
END:VTIMEZONE
BEGIN:VEVENT
DTSTART;TZID=America/New_York:20240430T183000
DTEND;TZID=America/New_York:20240430T193000
DTSTAMP:20260424T024952
CREATED:20240411T212251Z
LAST-MODIFIED:20240411T212251Z
UID:10978-1714501800-1714505400@onemontgomerygreen.org
SUMMARY:Backyard Food Scraps Composting Webinar 
DESCRIPTION:Backyard Food Scraps Composting Webinar (Online – April 30\, 6:30 -7:30 pm)\, join DEP’s Recycling and Resource Management Division – Waste Reduction and Recycling Section staff for a virtual workshop to learn how to compost various types of food scraps in your backyard. Free – for more information\, click here. \n  \nhttps://events.gcc.teams.microsoft.com/event/16d2a756-4550-4fb9-83b1-0b8bb6fa0e5c@6e01b1f9-b1e5-4073-ac97-778069a0ad64
URL:https://onemontgomerygreen.org/index.php/calendarevent/backyard-food-scraps-composting-webinar/
LOCATION:MD
CATEGORIES:webinar
ATTACH;FMTTYPE=image/jpeg:https://onemontgomerygreen.org/wp-content/uploads/2024/04/compost-bin-cover.jpg
END:VEVENT
END:VCALENDAR