BEGIN:VCALENDAR
VERSION:2.0
PRODID:-//One Montgomery Green - ECPv6.15.20//NONSGML v1.0//EN
CALSCALE:GREGORIAN
METHOD:PUBLISH
X-ORIGINAL-URL:https://onemontgomerygreen.org
X-WR-CALDESC:Events for One Montgomery Green
REFRESH-INTERVAL;VALUE=DURATION:PT1H
X-Robots-Tag:noindex
X-PUBLISHED-TTL:PT1H
BEGIN:VTIMEZONE
TZID:America/New_York
BEGIN:DAYLIGHT
TZOFFSETFROM:-0500
TZOFFSETTO:-0400
TZNAME:EDT
DTSTART:20230312T070000
END:DAYLIGHT
BEGIN:STANDARD
TZOFFSETFROM:-0400
TZOFFSETTO:-0500
TZNAME:EST
DTSTART:20231105T060000
END:STANDARD
BEGIN:DAYLIGHT
TZOFFSETFROM:-0500
TZOFFSETTO:-0400
TZNAME:EDT
DTSTART:20240310T070000
END:DAYLIGHT
BEGIN:STANDARD
TZOFFSETFROM:-0400
TZOFFSETTO:-0500
TZNAME:EST
DTSTART:20241103T060000
END:STANDARD
BEGIN:DAYLIGHT
TZOFFSETFROM:-0500
TZOFFSETTO:-0400
TZNAME:EDT
DTSTART:20250309T070000
END:DAYLIGHT
BEGIN:STANDARD
TZOFFSETFROM:-0400
TZOFFSETTO:-0500
TZNAME:EST
DTSTART:20251102T060000
END:STANDARD
END:VTIMEZONE
BEGIN:VEVENT
DTSTART;TZID=America/New_York:20240505T100000
DTEND;TZID=America/New_York:20240505T120000
DTSTAMP:20260425T211343
CREATED:20240430T162602Z
LAST-MODIFIED:20240430T162602Z
UID:11096-1714903200-1714910400@onemontgomerygreen.org
SUMMARY:Weed Warriors Event at Malcolm King Park
DESCRIPTION:Weed Warriors Event!\nHelp us remove invasive plants in Malcolm King Park\, and learn about the native plants that are found there. We are pulling out plants like multiflora rose and oriental bittersweet\, that crowd out the beautiful native plants and the wildlife they support. Wander and enjoy the beauty of this gorgeous park after the event. \nTo help\, you must be wearing long pants\, sturdy shoes and be aware that the plants can be thorny. See you there! \nWhen? Sun.\, May 5\, 2024 from 10am to 12pm. \nWhere? Malcolm King Park at the end of School Drive. \nQuestions? Contact Mary Hlavinka @ mjhlavinka@gmail.com \nWe want to give a big thank you to our volunteer weed warriors—The work you do makes a big difference in protecting the local ecosystem of our park!
URL:https://onemontgomerygreen.org/index.php/calendarevent/weed-warriors-event-at-malcolm-king-park/
LOCATION:Malcolm King Park\, 1200 West Side Dr\, Gaithersburg\, MD\, 20878\, United States
CATEGORIES:Cleanup,Weed Warrior Workday,weeding
ATTACH;FMTTYPE=image/jpeg:https://onemontgomerygreen.org/wp-content/uploads/2020/02/cef5bab9-f6d5-47f1-8f7b-b25ce4b2883b.jpg
END:VEVENT
END:VCALENDAR