BEGIN:VCALENDAR
VERSION:2.0
PRODID:-//One Montgomery Green - ECPv6.15.20//NONSGML v1.0//EN
CALSCALE:GREGORIAN
METHOD:PUBLISH
X-ORIGINAL-URL:https://onemontgomerygreen.org
X-WR-CALDESC:Events for One Montgomery Green
REFRESH-INTERVAL;VALUE=DURATION:PT1H
X-Robots-Tag:noindex
X-PUBLISHED-TTL:PT1H
BEGIN:VTIMEZONE
TZID:America/New_York
BEGIN:DAYLIGHT
TZOFFSETFROM:-0500
TZOFFSETTO:-0400
TZNAME:EDT
DTSTART:20230312T070000
END:DAYLIGHT
BEGIN:STANDARD
TZOFFSETFROM:-0400
TZOFFSETTO:-0500
TZNAME:EST
DTSTART:20231105T060000
END:STANDARD
BEGIN:DAYLIGHT
TZOFFSETFROM:-0500
TZOFFSETTO:-0400
TZNAME:EDT
DTSTART:20240310T070000
END:DAYLIGHT
BEGIN:STANDARD
TZOFFSETFROM:-0400
TZOFFSETTO:-0500
TZNAME:EST
DTSTART:20241103T060000
END:STANDARD
BEGIN:DAYLIGHT
TZOFFSETFROM:-0500
TZOFFSETTO:-0400
TZNAME:EDT
DTSTART:20250309T070000
END:DAYLIGHT
BEGIN:STANDARD
TZOFFSETFROM:-0400
TZOFFSETTO:-0500
TZNAME:EST
DTSTART:20251102T060000
END:STANDARD
END:VTIMEZONE
BEGIN:VEVENT
DTSTART;TZID=America/New_York:20240515T120000
DTEND;TZID=America/New_York:20240515T130000
DTSTAMP:20260424T000227
CREATED:20240426T225118Z
LAST-MODIFIED:20240426T225118Z
UID:11075-1715774400-1715778000@onemontgomerygreen.org
SUMMARY:Health Pros Climate Webinar
DESCRIPTION:May 15\, 2024 • 12:00 PM \nMaryland healthcare professionals:  Join Health Professionals for a Healthy Climate to learn more about the way #ClimateChange and water intersect to impact your health. Featuring  environmental health scientist Natalie Exum. May 15\, noon. Register today!   \n@mdlcv @PotomacRiverkeeperNetwork @MDPHA \nbit.ly/mdhealthpros 
URL:https://onemontgomerygreen.org/index.php/calendarevent/health-pros-climate-webinar/
LOCATION:MD
CATEGORIES:webinar
ATTACH;FMTTYPE=image/jpeg:https://onemontgomerygreen.org/wp-content/uploads/2024/04/97cd0b52-856d-4866-acec-dae761afabbb.jpg
END:VEVENT
END:VCALENDAR