BEGIN:VCALENDAR
VERSION:2.0
PRODID:-//One Montgomery Green - ECPv6.15.20//NONSGML v1.0//EN
CALSCALE:GREGORIAN
METHOD:PUBLISH
X-ORIGINAL-URL:https://onemontgomerygreen.org
X-WR-CALDESC:Events for One Montgomery Green
REFRESH-INTERVAL;VALUE=DURATION:PT1H
X-Robots-Tag:noindex
X-PUBLISHED-TTL:PT1H
BEGIN:VTIMEZONE
TZID:America/New_York
BEGIN:DAYLIGHT
TZOFFSETFROM:-0500
TZOFFSETTO:-0400
TZNAME:EDT
DTSTART:20230312T070000
END:DAYLIGHT
BEGIN:STANDARD
TZOFFSETFROM:-0400
TZOFFSETTO:-0500
TZNAME:EST
DTSTART:20231105T060000
END:STANDARD
BEGIN:DAYLIGHT
TZOFFSETFROM:-0500
TZOFFSETTO:-0400
TZNAME:EDT
DTSTART:20240310T070000
END:DAYLIGHT
BEGIN:STANDARD
TZOFFSETFROM:-0400
TZOFFSETTO:-0500
TZNAME:EST
DTSTART:20241103T060000
END:STANDARD
BEGIN:DAYLIGHT
TZOFFSETFROM:-0500
TZOFFSETTO:-0400
TZNAME:EDT
DTSTART:20250309T070000
END:DAYLIGHT
BEGIN:STANDARD
TZOFFSETFROM:-0400
TZOFFSETTO:-0500
TZNAME:EST
DTSTART:20251102T060000
END:STANDARD
END:VTIMEZONE
BEGIN:VEVENT
DTSTART;TZID=America/New_York:20240604T190000
DTEND;TZID=America/New_York:20240604T203000
DTSTAMP:20260423T045226
CREATED:20240523T221307Z
LAST-MODIFIED:20240527T205330Z
UID:11148-1717527600-1717533000@onemontgomerygreen.org
SUMMARY:Nature Forward Conservation Cafe: Data Centers & Local National Parks
DESCRIPTION:Data centers pose a great threat to our national parks and climate goals!  \nJoin us via Zoom on June 4th @ 7pm!  \nJoin us for an important presentation by Kyle Hart\, Mid-Atlantic Program Manager at National Parks Conservation Association\, about the growing\, unchecked data center industry and how it is impacting our local National Parks and climate change goals. From industrial development directly adjacent to parks\, growing carbon emissions and climate change\, and large electric transmission lines traversing park landscapes\, the threat from data centers to national parks is on all fronts. Failing to reform the data center industry in the region threatens to undermine decades of conservation and environmental efforts in Virginia\, Maryland\, and beyond. \nRegister for the June 4th Conservation Cafe
URL:https://onemontgomerygreen.org/index.php/calendarevent/11148/
LOCATION:MD
CATEGORIES:Conservation Cafe,Zoom event,Zoom meeting
ATTACH;FMTTYPE=image/jpeg:https://onemontgomerygreen.org/wp-content/uploads/2022/12/NatureForward-e1673041551664.jpg
ORGANIZER;CN="Nature Forward":MAILTO:contact@natureforward.org
END:VEVENT
END:VCALENDAR