BEGIN:VCALENDAR
VERSION:2.0
PRODID:-//One Montgomery Green - ECPv6.15.20//NONSGML v1.0//EN
CALSCALE:GREGORIAN
METHOD:PUBLISH
X-ORIGINAL-URL:https://onemontgomerygreen.org
X-WR-CALDESC:Events for One Montgomery Green
REFRESH-INTERVAL;VALUE=DURATION:PT1H
X-Robots-Tag:noindex
X-PUBLISHED-TTL:PT1H
BEGIN:VTIMEZONE
TZID:America/New_York
BEGIN:DAYLIGHT
TZOFFSETFROM:-0500
TZOFFSETTO:-0400
TZNAME:EDT
DTSTART:20230312T070000
END:DAYLIGHT
BEGIN:STANDARD
TZOFFSETFROM:-0400
TZOFFSETTO:-0500
TZNAME:EST
DTSTART:20231105T060000
END:STANDARD
BEGIN:DAYLIGHT
TZOFFSETFROM:-0500
TZOFFSETTO:-0400
TZNAME:EDT
DTSTART:20240310T070000
END:DAYLIGHT
BEGIN:STANDARD
TZOFFSETFROM:-0400
TZOFFSETTO:-0500
TZNAME:EST
DTSTART:20241103T060000
END:STANDARD
BEGIN:DAYLIGHT
TZOFFSETFROM:-0500
TZOFFSETTO:-0400
TZNAME:EDT
DTSTART:20250309T070000
END:DAYLIGHT
BEGIN:STANDARD
TZOFFSETFROM:-0400
TZOFFSETTO:-0500
TZNAME:EST
DTSTART:20251102T060000
END:STANDARD
END:VTIMEZONE
BEGIN:VEVENT
DTSTART;TZID=America/New_York:20240608T100000
DTEND;TZID=America/New_York:20240608T110000
DTSTAMP:20260422T234126
CREATED:20240522T231615Z
LAST-MODIFIED:20240523T220555Z
UID:11144-1717840800-1717844400@onemontgomerygreen.org
SUMMARY:Next Top Energy Star event @ Meadowside Nature Center
DESCRIPTION:Are You Montgomery County’s Next Top Energy Star? \nSaturday\, June 8\, 2024 |  10:00 AM – 11:00 AM \nMeadowside Nature Center\n5100 Meadowside Lane\, Rockville\, MD 20855 \nIn partnership with Montgomery Parks\, we are looking for our Next Top Energy Star! Attend our Energy Star program and pass the challenges: learn about electricity\, tackle the topic of pollution\, and identify sources of energy. All participants will take the Energy Star Pledge and receive their very own Next Top Energy Star kit to take home to show the world that you’re a Star.  This event takes place at Meadowside Nature Center on Saturday\, June 8\, 2024\, from 10:00 am – 11:00 am. There is no fee to participate but registering is encouraged.
URL:https://onemontgomerygreen.org/index.php/calendarevent/next-top-energy-star-event-meadowside-nature-center/
LOCATION:Meadowside Nature Center\, 5100 Meadowside Lane\, Rockville\, MD\, 20853\, United States
CATEGORIES:training
ATTACH;FMTTYPE=image/png:https://onemontgomerygreen.org/wp-content/uploads/2024/03/EnergyConnection_LOGO-tag-3.png
ORGANIZER;CN="Montgomery Energy Connection":MAILTO:https://mygreenmontgomery.org/contact-us/
END:VEVENT
BEGIN:VEVENT
DTSTART;TZID=America/New_York:20240608T180000
DTEND;TZID=America/New_York:20240608T210000
DTSTAMP:20260422T234126
CREATED:20240430T161338Z
LAST-MODIFIED:20240430T161338Z
UID:11093-1717869600-1717880400@onemontgomerygreen.org
SUMMARY:350MoCo 10th Anniversary Party
DESCRIPTION:In 2014 a few County residents concerned about the climate crisis started to work together to get the county to divest from fossil fuel investments. Since then\, 350MoCo has taken on the County and State governments\, supported BIPOC movements for climate justice\, and turned out to protest and demand change at the County and national stages. We are proud of what we’ve accomplished and we want to keep doing it for another 10 years!   \n \nPlease join us on June 8 to celebrate\, HAVE FUN\, and help us build a base of support into the future. We are working to hire our first staff member and you can be a part of making that possible! \nHere’s all the details: \n\n\nWHAT: 350MoCo 10th Anniversary Party\nThere will be music\, an auction\, great speakers and FUN! \nWHEN: Saturday\, Jun 8\, 2024\, 6-9PM \nWHERE: Busboys and Poets\, 235 Carroll St NW\, Washington\, DC 20012 \nHOW: Fill out the RSVP form right here! \nTickets come with a drink on us! Light snacks will be available\, or order from the BB&P menu anytime.
URL:https://onemontgomerygreen.org/index.php/calendarevent/350moco-10th-anniversary-party/
LOCATION:Busboys and Poets Takoma Park\, 235 Carroll St NW\, Washington\, DC\, 20012\, United States
CATEGORIES:anniversary party,celebration
ATTACH;FMTTYPE=image/png:https://onemontgomerygreen.org/wp-content/uploads/2024/04/350MoCo-LogoHZ.png
END:VEVENT
END:VCALENDAR