BEGIN:VCALENDAR
VERSION:2.0
PRODID:-//One Montgomery Green - ECPv6.15.20//NONSGML v1.0//EN
CALSCALE:GREGORIAN
METHOD:PUBLISH
X-WR-CALNAME:One Montgomery Green
X-ORIGINAL-URL:https://onemontgomerygreen.org
X-WR-CALDESC:Events for One Montgomery Green
REFRESH-INTERVAL;VALUE=DURATION:PT1H
X-Robots-Tag:noindex
X-PUBLISHED-TTL:PT1H
BEGIN:VTIMEZONE
TZID:America/New_York
BEGIN:DAYLIGHT
TZOFFSETFROM:-0500
TZOFFSETTO:-0400
TZNAME:EDT
DTSTART:20230312T070000
END:DAYLIGHT
BEGIN:STANDARD
TZOFFSETFROM:-0400
TZOFFSETTO:-0500
TZNAME:EST
DTSTART:20231105T060000
END:STANDARD
BEGIN:DAYLIGHT
TZOFFSETFROM:-0500
TZOFFSETTO:-0400
TZNAME:EDT
DTSTART:20240310T070000
END:DAYLIGHT
BEGIN:STANDARD
TZOFFSETFROM:-0400
TZOFFSETTO:-0500
TZNAME:EST
DTSTART:20241103T060000
END:STANDARD
BEGIN:DAYLIGHT
TZOFFSETFROM:-0500
TZOFFSETTO:-0400
TZNAME:EDT
DTSTART:20250309T070000
END:DAYLIGHT
BEGIN:STANDARD
TZOFFSETFROM:-0400
TZOFFSETTO:-0500
TZNAME:EST
DTSTART:20251102T060000
END:STANDARD
END:VTIMEZONE
BEGIN:VEVENT
DTSTART;TZID=America/New_York:20240609T100000
DTEND;TZID=America/New_York:20240609T130000
DTSTAMP:20260423T113906
CREATED:20240426T221409Z
LAST-MODIFIED:20240426T221409Z
UID:11060-1717927200-1717938000@onemontgomerygreen.org
SUMMARY:Free Adult Learn to Ride Bike Training – Twinbrook Metro
DESCRIPTION:Free Adult Bike Riding Training for Those 18-and-Older to be Held in June\n \nAdult Learn to Ride Bike class schedule: \n\nSunday\, June 9. 10 a.m.-1 p.m. Davis Construction at the Twinbrook Metro Center I\, 12530 Parklawn Dr.\, Rockville.\nSaturday\, June 15. 10 a.m.-1 p.m. GEICO Chevy Chase Building\, 5260 Western Ave.\, Chevy Chase.\n\nAdult Basic Skills Bike Class schedule: \n\nSaturday\, June 1. 11 a.m.-1 p.m. Bethesda Rescue Squad parking lot\, 5020 Battery Ln.\, Bethesda.\nSunday\, June 23.10 a.m.-noon. Wheaton Ice Arena (back parking lot)\, 11711 Orebaugh Dr.\, Wheaton. *Free scooter class to follow.\n\nRain dates for all the adult bike classes will be one week after the original class date and time. \nRead More
URL:https://onemontgomerygreen.org/index.php/calendarevent/free-adult-learn-to-ride-bike-training-twinbrook-metro/
LOCATION:James G. Davis Construction Co\, 12530 Parklawn Drive.\, Rockville\, MD\, 20851\, United States
CATEGORIES:bike,Biking
ATTACH;FMTTYPE=image/png:https://onemontgomerygreen.org/wp-content/uploads/2017/05/MCDOTlogo2line_transp.png
END:VEVENT
END:VCALENDAR