BEGIN:VCALENDAR
VERSION:2.0
PRODID:-//One Montgomery Green - ECPv6.15.20//NONSGML v1.0//EN
CALSCALE:GREGORIAN
METHOD:PUBLISH
X-ORIGINAL-URL:https://onemontgomerygreen.org
X-WR-CALDESC:Events for One Montgomery Green
REFRESH-INTERVAL;VALUE=DURATION:PT1H
X-Robots-Tag:noindex
X-PUBLISHED-TTL:PT1H
BEGIN:VTIMEZONE
TZID:America/New_York
BEGIN:DAYLIGHT
TZOFFSETFROM:-0500
TZOFFSETTO:-0400
TZNAME:EDT
DTSTART:20230312T070000
END:DAYLIGHT
BEGIN:STANDARD
TZOFFSETFROM:-0400
TZOFFSETTO:-0500
TZNAME:EST
DTSTART:20231105T060000
END:STANDARD
BEGIN:DAYLIGHT
TZOFFSETFROM:-0500
TZOFFSETTO:-0400
TZNAME:EDT
DTSTART:20240310T070000
END:DAYLIGHT
BEGIN:STANDARD
TZOFFSETFROM:-0400
TZOFFSETTO:-0500
TZNAME:EST
DTSTART:20241103T060000
END:STANDARD
BEGIN:DAYLIGHT
TZOFFSETFROM:-0500
TZOFFSETTO:-0400
TZNAME:EDT
DTSTART:20250309T070000
END:DAYLIGHT
BEGIN:STANDARD
TZOFFSETFROM:-0400
TZOFFSETTO:-0500
TZNAME:EST
DTSTART:20251102T060000
END:STANDARD
END:VTIMEZONE
BEGIN:VEVENT
DTSTART;TZID=America/New_York:20240615T100000
DTEND;TZID=America/New_York:20240615T120000
DTSTAMP:20260423T060544
CREATED:20240426T221733Z
LAST-MODIFIED:20240426T221733Z
UID:11064-1718445600-1718452800@onemontgomerygreen.org
SUMMARY:Free Adult Bike Riding Training – GEICO Chevy Chase
DESCRIPTION:Free Adult Bike Riding Training for Those 18-and-Older to be Held in June\n \nAdult Learn to Ride Bike class schedule: \n\nSunday\, June 9. 10 a.m.-1 p.m. Davis Construction at the Twinbrook Metro Center I\, 12530 Parklawn Dr.\, Rockville.\nSaturday\, June 15. 10 a.m.-1 p.m. GEICO Chevy Chase Building\, 5260 Western Ave.\, Chevy Chase.\n\nAdult Basic Skills Bike Class schedule: \n\nSaturday\, June 1. 11 a.m.-1 p.m. Bethesda Rescue Squad parking lot\, 5020 Battery Ln.\, Bethesda.\nSunday\, June 23.10 a.m.-noon. Wheaton Ice Arena (back parking lot)\, 11711 Orebaugh Dr.\, Wheaton. *Free scooter class to follow.\n\nRain dates for all the adult bike classes will be one week after the original class date and time. \nRead More
URL:https://onemontgomerygreen.org/index.php/calendarevent/free-adult-bike-riding-training-geico-chevy-chase/
LOCATION:GEICO\, 5260 Western Avenue (parking lot)\, Chevy Chase\, MD\, 20815\, United States
CATEGORIES:Biking,training
ATTACH;FMTTYPE=image/png:https://onemontgomerygreen.org/wp-content/uploads/2017/05/MCDOTlogo2line_transp.png
END:VEVENT
BEGIN:VEVENT
DTSTART;TZID=America/New_York:20240615T123000
DTEND;TZID=America/New_York:20240615T150000
DTSTAMP:20260423T060544
CREATED:20240608T200832Z
LAST-MODIFIED:20240608T202326Z
UID:11167-1718454600-1718463600@onemontgomerygreen.org
SUMMARY:Muddy Branch Alliance Annual Community Meeting
DESCRIPTION:Muddy Branch Alliance Annual Community Meeting!\nSaturday\, June 15th at 12:30pm \nWe’ll be meeting at the beautiful Izaak Walton League in Gaithersburg to celebrate 13 years of Muddy Branch Alliance. \nIn addition to a tour of our native plant meadow and a stream monitoring demonstration\, there will be Q&A with Gaithersburg environmental program staff to learn about new initiatives in our community. \nWhen: 12:30 p.m. on Saturday June 15\nWhere: Izaak Walton League\,\n707 Conservation Lane in Gaithersburg \nRSVP: https://forms.gle/2QYZtdfD9ihAdqry8 \nThis is our most important meeting of the year! \nHelp us elect new board members\, celebrate accomplishments\, and get involved in new opportunities to  protect our home watershed. \nWe look forward to seeing you there!
URL:https://onemontgomerygreen.org/index.php/calendarevent/muddy-branch-alliance-annual-community-meeting/
LOCATION:Izaak Walton League of American Headquarters\, 707 Conservation Lane\, Gaithersburg\, MD\, 20878\, United States
CATEGORIES:annual meeting,celebration,community event
ATTACH;FMTTYPE=image/jpeg:https://onemontgomerygreen.org/wp-content/uploads/2020/02/cef5bab9-f6d5-47f1-8f7b-b25ce4b2883b.jpg
ORGANIZER;CN="Muddy Branch Alliance":MAILTO:muddybranchalliance@gmail.com
END:VEVENT
END:VCALENDAR