BEGIN:VCALENDAR
VERSION:2.0
PRODID:-//One Montgomery Green - ECPv6.15.20//NONSGML v1.0//EN
CALSCALE:GREGORIAN
METHOD:PUBLISH
X-ORIGINAL-URL:https://onemontgomerygreen.org
X-WR-CALDESC:Events for One Montgomery Green
REFRESH-INTERVAL;VALUE=DURATION:PT1H
X-Robots-Tag:noindex
X-PUBLISHED-TTL:PT1H
BEGIN:VTIMEZONE
TZID:America/New_York
BEGIN:DAYLIGHT
TZOFFSETFROM:-0500
TZOFFSETTO:-0400
TZNAME:EDT
DTSTART:20230312T070000
END:DAYLIGHT
BEGIN:STANDARD
TZOFFSETFROM:-0400
TZOFFSETTO:-0500
TZNAME:EST
DTSTART:20231105T060000
END:STANDARD
BEGIN:DAYLIGHT
TZOFFSETFROM:-0500
TZOFFSETTO:-0400
TZNAME:EDT
DTSTART:20240310T070000
END:DAYLIGHT
BEGIN:STANDARD
TZOFFSETFROM:-0400
TZOFFSETTO:-0500
TZNAME:EST
DTSTART:20241103T060000
END:STANDARD
BEGIN:DAYLIGHT
TZOFFSETFROM:-0500
TZOFFSETTO:-0400
TZNAME:EDT
DTSTART:20250309T070000
END:DAYLIGHT
BEGIN:STANDARD
TZOFFSETFROM:-0400
TZOFFSETTO:-0500
TZNAME:EST
DTSTART:20251102T060000
END:STANDARD
END:VTIMEZONE
BEGIN:VEVENT
DTSTART;TZID=America/New_York:20240626T180000
DTEND;TZID=America/New_York:20240626T190000
DTSTAMP:20260423T060552
CREATED:20240608T195823Z
LAST-MODIFIED:20240608T200124Z
UID:11165-1719424800-1719428400@onemontgomerygreen.org
SUMMARY:☀️Capital Area Solar Switch Webinar
DESCRIPTION:Capital Area Solar Switch Webinar\n\nJune 26 @ 6:00 pm – 7:00 pm\n\n\n\nAre you considering enhancing your home or business with the power of solar energy? Now’s the perfect opportunity! \nJoin us for a FREE Solar 101 event on June 26\, where you can delve into the world of solar power. \nThis informative session is open to everyone intrigued by the potential of solar energy. Here’s what you can expect to explore: \n\nUnderstanding the ins and outs of solar energy\, including technology\, financing options\, benefits\, key considerations\, and any queries you may have.\nDiscovering federal tax incentives offering a generous 30% rebate on solar and battery storage installation costs.\nGaining insights into solar solutions tailored specifically for DC residents.\nUnveiling the time and cost-saving advantages of partnering with the solar co-op.\n\nDon’t miss out on this opportunity to broaden your knowledge and embrace the solar revolution! Join us to shine a light on the future of energy. \nYou can join the program for free\, here\, and we will guide you through the next steps once an installer is selected in May! \nREGISTER HERE: https://www.solarunitedneighbors.org/event/dc-solar-switch-101-06-26-24/
URL:https://onemontgomerygreen.org/index.php/calendarevent/%e2%98%80%ef%b8%8fcapital-area-solar-switch-webinar/
LOCATION:MD
CATEGORIES:webinar
ATTACH;FMTTYPE=image/png:https://onemontgomerygreen.org/wp-content/uploads/2018/12/SolarUnitedNeighbors.png
END:VEVENT
END:VCALENDAR