BEGIN:VCALENDAR
VERSION:2.0
PRODID:-//One Montgomery Green - ECPv6.15.20//NONSGML v1.0//EN
CALSCALE:GREGORIAN
METHOD:PUBLISH
X-ORIGINAL-URL:https://onemontgomerygreen.org
X-WR-CALDESC:Events for One Montgomery Green
REFRESH-INTERVAL;VALUE=DURATION:PT1H
X-Robots-Tag:noindex
X-PUBLISHED-TTL:PT1H
BEGIN:VTIMEZONE
TZID:America/New_York
BEGIN:DAYLIGHT
TZOFFSETFROM:-0500
TZOFFSETTO:-0400
TZNAME:EDT
DTSTART:20230312T070000
END:DAYLIGHT
BEGIN:STANDARD
TZOFFSETFROM:-0400
TZOFFSETTO:-0500
TZNAME:EST
DTSTART:20231105T060000
END:STANDARD
BEGIN:DAYLIGHT
TZOFFSETFROM:-0500
TZOFFSETTO:-0400
TZNAME:EDT
DTSTART:20240310T070000
END:DAYLIGHT
BEGIN:STANDARD
TZOFFSETFROM:-0400
TZOFFSETTO:-0500
TZNAME:EST
DTSTART:20241103T060000
END:STANDARD
BEGIN:DAYLIGHT
TZOFFSETFROM:-0500
TZOFFSETTO:-0400
TZNAME:EDT
DTSTART:20250309T070000
END:DAYLIGHT
BEGIN:STANDARD
TZOFFSETFROM:-0400
TZOFFSETTO:-0500
TZNAME:EST
DTSTART:20251102T060000
END:STANDARD
END:VTIMEZONE
BEGIN:VEVENT
DTSTART;TZID=America/New_York:20240725T173000
DTEND;TZID=America/New_York:20240725T200000
DTSTAMP:20260425T225245
CREATED:20240717T221030Z
LAST-MODIFIED:20240717T221030Z
UID:11216-1721928600-1721937600@onemontgomerygreen.org
SUMMARY:OMG Green Drinks @ The Limerick Pub\, Wheaton
DESCRIPTION:Register at https://bit.ly/OMGreenDrinks-July2024. \nSee you there! \nSuggested Donation of $10
URL:https://onemontgomerygreen.org/index.php/calendarevent/omg-green-drinks-the-limerick-pub-wheaton/
LOCATION:The Limerick Pub\, 11301 Elkin Street\, Wheaton\, MD\, 20902\, United States
CATEGORIES:1OMG,Green Drinks,happy hour
ATTACH;FMTTYPE=image/jpeg:https://onemontgomerygreen.org/wp-content/uploads/2024/07/07.25.24_OMGreenDrinks-Limerick2-TOP.jpg
ORGANIZER;CN="One Montgomery Green":MAILTO:info@onemontgomerygreen.org
END:VEVENT
BEGIN:VEVENT
DTSTART;TZID=America/New_York:20240725T180000
DTEND;TZID=America/New_York:20240725T193000
DTSTAMP:20260425T225245
CREATED:20240724T214944Z
LAST-MODIFIED:20240724T214944Z
UID:11221-1721930400-1721935800@onemontgomerygreen.org
SUMMARY:DC EcoWomen's Mentor Dinner
DESCRIPTION:DC EcoWomen’s Mentor Dinner series connects environmental leaders with our members\, and provides an opportunity to glean insights on different career paths in the environmental field. This month’s guest is Sybil Bullock\, a Senior Oceans Campaigner at Greenpeace USA. Through a diverse array of roles and through her association with different institutions\, Sybil has consistently focused on environmental education\, advocacy and activism over the course of her education and career\, with a view towards the global as well as the local environmental spheres. \nDate: July 25th\nTime: 6 – 7:30 PM ET\nLocation: Firefly (1310 New Hampshire Avenue Northwest Washington\, DC 20036)\nAdmission: $5/person \nParticipants are also asked to pay for their own meals. Please only RSVP if you are certain of your interest and availability to attend. \n>>> Register here
URL:https://onemontgomerygreen.org/index.php/calendarevent/dc-ecowomens-mentor-dinner/
LOCATION:Firefly\, 1310 New Hampshire Ave NW\, Washington\, DC\, 20036\, United States
ATTACH;FMTTYPE=image/jpeg:https://onemontgomerygreen.org/wp-content/uploads/2024/07/https___cdn.evbuc_.com_images_803852639_1104505311633_1_original.jpg
END:VEVENT
END:VCALENDAR