BEGIN:VCALENDAR
VERSION:2.0
PRODID:-//One Montgomery Green - ECPv6.15.20//NONSGML v1.0//EN
CALSCALE:GREGORIAN
METHOD:PUBLISH
X-WR-CALNAME:One Montgomery Green
X-ORIGINAL-URL:https://onemontgomerygreen.org
X-WR-CALDESC:Events for One Montgomery Green
REFRESH-INTERVAL;VALUE=DURATION:PT1H
X-Robots-Tag:noindex
X-PUBLISHED-TTL:PT1H
BEGIN:VTIMEZONE
TZID:America/New_York
BEGIN:DAYLIGHT
TZOFFSETFROM:-0500
TZOFFSETTO:-0400
TZNAME:EDT
DTSTART:20230312T070000
END:DAYLIGHT
BEGIN:STANDARD
TZOFFSETFROM:-0400
TZOFFSETTO:-0500
TZNAME:EST
DTSTART:20231105T060000
END:STANDARD
BEGIN:DAYLIGHT
TZOFFSETFROM:-0500
TZOFFSETTO:-0400
TZNAME:EDT
DTSTART:20240310T070000
END:DAYLIGHT
BEGIN:STANDARD
TZOFFSETFROM:-0400
TZOFFSETTO:-0500
TZNAME:EST
DTSTART:20241103T060000
END:STANDARD
BEGIN:DAYLIGHT
TZOFFSETFROM:-0500
TZOFFSETTO:-0400
TZNAME:EDT
DTSTART:20250309T070000
END:DAYLIGHT
BEGIN:STANDARD
TZOFFSETFROM:-0400
TZOFFSETTO:-0500
TZNAME:EST
DTSTART:20251102T060000
END:STANDARD
END:VTIMEZONE
BEGIN:VEVENT
DTSTART;VALUE=DATE:20240727
DTEND;VALUE=DATE:20240729
DTSTAMP:20260422T161039
CREATED:20240724T222216Z
LAST-MODIFIED:20240724T222216Z
UID:11234-1722038400-1722211199@onemontgomerygreen.org
SUMMARY:Montgomery County Annual Farm Tour and Harvest Sale
DESCRIPTION:Annual Farm Tour and Harvest Sale on Saturday-Sunday\, July 27-28\, Will Feature 24 Locations to Buy Fresh Produce\, See Farm Animals and Explore Craft Beverage Industry\nThe 2024 Montgomery County Farm Tour and Harvest Sale on Saturday and Sunday\, July 27-28\, will have 24 agricultural locations open to visitors. The Farm Tour offers a chance to explore the County’s Agricultural Reserve by shopping for locally grown food\, seeing farm animals and learning about farming as a way of life. The Farm Tour will offer a rare chance to visit many farms that are only open to the public during this special weekend event. \nRead More
URL:https://onemontgomerygreen.org/index.php/calendarevent/montgomery-county-annual-farm-tour-and-harvest-sale/
CATEGORIES:Agriculture,Farm tour
ATTACH;FMTTYPE=image/png:https://onemontgomerygreen.org/wp-content/uploads/2024/07/farm-tour-1-slider_crop.png
END:VEVENT
END:VCALENDAR