BEGIN:VCALENDAR
VERSION:2.0
PRODID:-//One Montgomery Green - ECPv6.15.20//NONSGML v1.0//EN
CALSCALE:GREGORIAN
METHOD:PUBLISH
X-ORIGINAL-URL:https://onemontgomerygreen.org
X-WR-CALDESC:Events for One Montgomery Green
REFRESH-INTERVAL;VALUE=DURATION:PT1H
X-Robots-Tag:noindex
X-PUBLISHED-TTL:PT1H
BEGIN:VTIMEZONE
TZID:America/New_York
BEGIN:DAYLIGHT
TZOFFSETFROM:-0500
TZOFFSETTO:-0400
TZNAME:EDT
DTSTART:20230312T070000
END:DAYLIGHT
BEGIN:STANDARD
TZOFFSETFROM:-0400
TZOFFSETTO:-0500
TZNAME:EST
DTSTART:20231105T060000
END:STANDARD
BEGIN:DAYLIGHT
TZOFFSETFROM:-0500
TZOFFSETTO:-0400
TZNAME:EDT
DTSTART:20240310T070000
END:DAYLIGHT
BEGIN:STANDARD
TZOFFSETFROM:-0400
TZOFFSETTO:-0500
TZNAME:EST
DTSTART:20241103T060000
END:STANDARD
BEGIN:DAYLIGHT
TZOFFSETFROM:-0500
TZOFFSETTO:-0400
TZNAME:EDT
DTSTART:20250309T070000
END:DAYLIGHT
BEGIN:STANDARD
TZOFFSETFROM:-0400
TZOFFSETTO:-0500
TZNAME:EST
DTSTART:20251102T060000
END:STANDARD
END:VTIMEZONE
BEGIN:VEVENT
DTSTART;TZID=America/New_York:20240810T100000
DTEND;TZID=America/New_York:20240810T120000
DTSTAMP:20260420T005330
CREATED:20240731T201547Z
LAST-MODIFIED:20240731T201547Z
UID:11254-1723284000-1723291200@onemontgomerygreen.org
SUMMARY:OMG & FOSC Cleanup: Wheaton Branch Stormwater Mgmt Pond
DESCRIPTION:Wheaton Branch Stormwater Management Pond\n1640 Dennis Ave\, Silver Spring\, MD 20902 \nSaturday\, August 10 from 10 am – 12 pm\nhttps://lp.constantcontactpages.com/ev/reg/89ujrny \n\nOTHER UPCOMING CLEANUPS! \nDale Drive Neighborhood Park\n125 Dale Dr\, Silver Spring\, MD 20910 \nSaturday\, August 10 from 1:30 – 3:30 pm\nhttps://lp.constantcontactpages.com/ev/reg/fv9ye2a \n\nWhite Oak Community Recreation Center\n1700 April Ln\, Silver Spring 20904 \nSaturday\, September 14 from 10 am – 12 pm\nhttps://lp.constantcontactpages.com/ev/reg/z3v6g72 \n\nLong Branch Community Center\n8700 Piney Branch Rd\, Silver Spring\, MD 20901 \nSaturday\, October 5 from 1:30 – 3:30 pm\nhttps://lp.constantcontactpages.com/ev/reg/4gaaufh \n\nWheaton Branch Stormwater Management Pond\n1640 Dennis Ave\, Silver Spring\, MD 20902 \nSaturday\, November 2 from 10 am – 12 pm\nhttps://lp.constantcontactpages.com/ev/reg/c8dk2ss \n\nLong Branch Community Center\n8700 Piney Branch Rd\, Silver Spring\, MD 20901 \nSaturday\, November 2 from 1:30 – 3:30 pm\nhttps://lp.constantcontactpages.com/ev/reg/vrpqpmt \n  \nSign up and see more at www.anacostiariverkeeper.org/events-calendar 
URL:https://onemontgomerygreen.org/index.php/calendarevent/omg-fosc-cleanup-wheaton-branch-stormwater-mgmt-pond/
LOCATION:Wheaton Branch Pond\, 1640 Dennis Ave\, Wheaton\, MD\, 20902\, United States
CATEGORIES:1OMG,Cleanup
ATTACH;FMTTYPE=image/jpeg:https://onemontgomerygreen.org/wp-content/uploads/2024/07/2024_Cleanups_GraphicOnly.jpg
ORGANIZER;CN="One Montgomery Green":MAILTO:info@onemontgomerygreen.org
END:VEVENT
BEGIN:VEVENT
DTSTART;TZID=America/New_York:20240810T133000
DTEND;TZID=America/New_York:20240810T153000
DTSTAMP:20260420T005330
CREATED:20240731T202315Z
LAST-MODIFIED:20240731T202802Z
UID:11257-1723296600-1723303800@onemontgomerygreen.org
SUMMARY:OMG & FOSC Cleanup: Dale Drive Neighborhood Park
DESCRIPTION:Dale Drive Neighborhood Park\n125 Dale Dr\, Silver Spring\, MD 20910 \nSaturday\, August 10 from 1:30 – 3:30 pm\nhttps://lp.constantcontactpages.com/ev/reg/fv9ye2a \n\nOTHER UPCOMING CLEANUPS! \nWhite Oak Community Recreation Center\n1700 April Ln\, Silver Spring 20904 \nSaturday\, September 14 from 10 am – 12 pm\nhttps://lp.constantcontactpages.com/ev/reg/z3v6g72 \n\nLong Branch Community Center\n8700 Piney Branch Rd\, Silver Spring\, MD 20901 \nSaturday\, October 5 from 1:30 – 3:30 pm\nhttps://lp.constantcontactpages.com/ev/reg/4gaaufh \n\nWheaton Branch Stormwater Management Pond\n1640 Dennis Ave\, Silver Spring\, MD 20902 \nSaturday\, November 2 from 10 am – 12 pm\nhttps://lp.constantcontactpages.com/ev/reg/c8dk2ss \n\nLong Branch Community Center\n8700 Piney Branch Rd\, Silver Spring\, MD 20901 \nSaturday\, November 2 from 1:30 – 3:30 pm\nhttps://lp.constantcontactpages.com/ev/reg/vrpqpmt \n  \nSign up and see more at https://www.anacostiariverkeeper.org/events-calendar
URL:https://onemontgomerygreen.org/index.php/calendarevent/omg-fosc-cleanup-dale-drive-neighborhood-park/
LOCATION:Dale Drive Neighborhood Park\, 125 Dale Dr\, Silver Spring\, MD\, 20910\, United States
CATEGORIES:1OMG,Cleanup
ATTACH;FMTTYPE=image/jpeg:https://onemontgomerygreen.org/wp-content/uploads/2024/07/2024_Cleanups_GraphicOnly.jpg
ORGANIZER;CN="One Montgomery Green":MAILTO:info@onemontgomerygreen.org
END:VEVENT
END:VCALENDAR