BEGIN:VCALENDAR
VERSION:2.0
PRODID:-//One Montgomery Green - ECPv6.15.20//NONSGML v1.0//EN
CALSCALE:GREGORIAN
METHOD:PUBLISH
X-ORIGINAL-URL:https://onemontgomerygreen.org
X-WR-CALDESC:Events for One Montgomery Green
REFRESH-INTERVAL;VALUE=DURATION:PT1H
X-Robots-Tag:noindex
X-PUBLISHED-TTL:PT1H
BEGIN:VTIMEZONE
TZID:America/New_York
BEGIN:DAYLIGHT
TZOFFSETFROM:-0500
TZOFFSETTO:-0400
TZNAME:EDT
DTSTART:20230312T070000
END:DAYLIGHT
BEGIN:STANDARD
TZOFFSETFROM:-0400
TZOFFSETTO:-0500
TZNAME:EST
DTSTART:20231105T060000
END:STANDARD
BEGIN:DAYLIGHT
TZOFFSETFROM:-0500
TZOFFSETTO:-0400
TZNAME:EDT
DTSTART:20240310T070000
END:DAYLIGHT
BEGIN:STANDARD
TZOFFSETFROM:-0400
TZOFFSETTO:-0500
TZNAME:EST
DTSTART:20241103T060000
END:STANDARD
BEGIN:DAYLIGHT
TZOFFSETFROM:-0500
TZOFFSETTO:-0400
TZNAME:EDT
DTSTART:20250309T070000
END:DAYLIGHT
BEGIN:STANDARD
TZOFFSETFROM:-0400
TZOFFSETTO:-0500
TZNAME:EST
DTSTART:20251102T060000
END:STANDARD
END:VTIMEZONE
BEGIN:VEVENT
DTSTART;TZID=America/New_York:20240917T180000
DTEND;TZID=America/New_York:20240917T200000
DTSTAMP:20260419T213057
CREATED:20240912T223514Z
LAST-MODIFIED:20240912T225919Z
UID:11312-1726596000-1726603200@onemontgomerygreen.org
SUMMARY:DC EcoWomen EcoHour with Carmera Thomas-Wilhite
DESCRIPTION:Join DC EcoWomen for an in-person EcoHour featuring Carmera Thomas-Wilhite\, the first Vice President for Diversity\, Equity\, Inclusion and Justice at the Chesapeake Bay Foundation. This moderated discussion will highlight Carmera’s work in conservation to engage with underrepresented communities and advocate for equitable solutions for communities that are disproportionately impacted within the Chesapeake Bay region. Grab a refreshment for purchase on the ground level of Teaism and join us downstairs for the event. \nNOTE: DC EcoWomen events are open to women\, to those who identify as women\, to the LGBTQ community and gender-fluid individuals\, and to allies. \nDate: Tuesday\, September 17th\nTime: 6 – 8 PM ET\nLocation: Teaism Penn Quarter (400 8th Street Northwest Washington\, DC 20004)\nAdmission: FREE \nRegister here
URL:https://onemontgomerygreen.org/index.php/calendarevent/dc-ecowomen-ecohour-with-carmera-thomas-wilhite/
LOCATION:Teaism Penn Quarter\, 400 8th St NW\, Washington\, DC\, 20004\, United States
CATEGORIES:Eco Hour Speaker Series,EcoEvenings
ATTACH;FMTTYPE=image/png:https://onemontgomerygreen.org/wp-content/uploads/2024/09/Screen-Shot-2024-09-12-at-6.23.52-PM.png
END:VEVENT
END:VCALENDAR