BEGIN:VCALENDAR
VERSION:2.0
PRODID:-//One Montgomery Green - ECPv6.15.20//NONSGML v1.0//EN
CALSCALE:GREGORIAN
METHOD:PUBLISH
X-ORIGINAL-URL:https://onemontgomerygreen.org
X-WR-CALDESC:Events for One Montgomery Green
REFRESH-INTERVAL;VALUE=DURATION:PT1H
X-Robots-Tag:noindex
X-PUBLISHED-TTL:PT1H
BEGIN:VTIMEZONE
TZID:America/New_York
BEGIN:DAYLIGHT
TZOFFSETFROM:-0500
TZOFFSETTO:-0400
TZNAME:EDT
DTSTART:20180311T070000
END:DAYLIGHT
BEGIN:STANDARD
TZOFFSETFROM:-0400
TZOFFSETTO:-0500
TZNAME:EST
DTSTART:20181104T060000
END:STANDARD
BEGIN:DAYLIGHT
TZOFFSETFROM:-0500
TZOFFSETTO:-0400
TZNAME:EDT
DTSTART:20190310T070000
END:DAYLIGHT
BEGIN:STANDARD
TZOFFSETFROM:-0400
TZOFFSETTO:-0500
TZNAME:EST
DTSTART:20191103T060000
END:STANDARD
BEGIN:DAYLIGHT
TZOFFSETFROM:-0500
TZOFFSETTO:-0400
TZNAME:EDT
DTSTART:20200308T070000
END:DAYLIGHT
BEGIN:STANDARD
TZOFFSETFROM:-0400
TZOFFSETTO:-0500
TZNAME:EST
DTSTART:20201101T060000
END:STANDARD
BEGIN:DAYLIGHT
TZOFFSETFROM:-0500
TZOFFSETTO:-0400
TZNAME:EDT
DTSTART:20210314T070000
END:DAYLIGHT
BEGIN:STANDARD
TZOFFSETFROM:-0400
TZOFFSETTO:-0500
TZNAME:EST
DTSTART:20211107T060000
END:STANDARD
BEGIN:DAYLIGHT
TZOFFSETFROM:-0500
TZOFFSETTO:-0400
TZNAME:EDT
DTSTART:20220313T070000
END:DAYLIGHT
BEGIN:STANDARD
TZOFFSETFROM:-0400
TZOFFSETTO:-0500
TZNAME:EST
DTSTART:20221106T060000
END:STANDARD
BEGIN:DAYLIGHT
TZOFFSETFROM:-0500
TZOFFSETTO:-0400
TZNAME:EDT
DTSTART:20230312T070000
END:DAYLIGHT
BEGIN:STANDARD
TZOFFSETFROM:-0400
TZOFFSETTO:-0500
TZNAME:EST
DTSTART:20231105T060000
END:STANDARD
BEGIN:DAYLIGHT
TZOFFSETFROM:-0500
TZOFFSETTO:-0400
TZNAME:EDT
DTSTART:20240310T070000
END:DAYLIGHT
BEGIN:STANDARD
TZOFFSETFROM:-0400
TZOFFSETTO:-0500
TZNAME:EST
DTSTART:20241103T060000
END:STANDARD
BEGIN:DAYLIGHT
TZOFFSETFROM:-0500
TZOFFSETTO:-0400
TZNAME:EDT
DTSTART:20250309T070000
END:DAYLIGHT
BEGIN:STANDARD
TZOFFSETFROM:-0400
TZOFFSETTO:-0500
TZNAME:EST
DTSTART:20251102T060000
END:STANDARD
BEGIN:DAYLIGHT
TZOFFSETFROM:-0500
TZOFFSETTO:-0400
TZNAME:EDT
DTSTART:20260308T070000
END:DAYLIGHT
BEGIN:STANDARD
TZOFFSETFROM:-0400
TZOFFSETTO:-0500
TZNAME:EST
DTSTART:20261101T060000
END:STANDARD
END:VTIMEZONE
BEGIN:VEVENT
DTSTART;TZID=America/New_York:20251023T083000
DTEND;TZID=America/New_York:20251023T180000
DTSTAMP:20260425T221422
CREATED:20250925T203108Z
LAST-MODIFIED:20250925T203206Z
UID:12515-1761208200-1761242400@onemontgomerygreen.org
SUMMARY:2025 Clean Energy & Transportation Annual Conference\, Expo\, Awards Luncheon
DESCRIPTION:2025 Clean Energy & Transportation Annual Conference\, Expo\, Awards Luncheon \nFor more information: https://gwrccc.org/event/2025-annual-conference-expo-awards-luncheon/ \n 
URL:https://onemontgomerygreen.org/index.php/calendarevent/2025-clean-energy-transportation-annual-conference-expo-awards-luncheon/
LOCATION:Martin’s Crosswinds\, 7400 Greenway Center Dr\, Greenbelt\, MD\, 20770\, United States
CATEGORIES:Award Presentation,Awards,Conference,expo
ATTACH;FMTTYPE=image/jpeg:https://onemontgomerygreen.org/wp-content/uploads/2025/09/https___cdn.evbuc_.com_images_1087902933_765129867323_1_original.jpg
END:VEVENT
BEGIN:VEVENT
DTSTART;TZID=America/New_York:20240319T180000
DTEND;TZID=America/New_York:20240319T203000
DTSTAMP:20260425T221422
CREATED:20240312T182735Z
LAST-MODIFIED:20240312T182735Z
UID:10905-1710871200-1710880200@onemontgomerygreen.org
SUMMARY:The Rachel Carson Council & 10 Years of Environmental Justice Advocacy
DESCRIPTION:The Rachel Carson Council & 10 Years of Environmental Justice Advocacy\nTuesday\, March 19  •  6 – 8:30 pm\nHart Senate Building\, 120 Constitution Avenue Northeast #Room 902 Washington\, DC 20002 \nJoin the RCC to honor environmental justice champions\, Sen. Whitehouse and RCC President & CEO Bob Musil at a reception at the Hart Senate Office Building. \nFor tickets: https://www.eventbrite.com/e/the-rachel-carson-council-10-years-of-environmental-justice-advocacy-tickets-852303762497
URL:https://onemontgomerygreen.org/index.php/calendarevent/the-rachel-carson-council-10-years-of-environmental-justice-advocacy/
LOCATION:Hart Senate Office Building\, 120 Constitution Ave\, NW\, Washington\, DC\, 20002\, United States
CATEGORIES:Award Presentation,Awards
ATTACH;FMTTYPE=image/jpeg:https://onemontgomerygreen.org/wp-content/uploads/2024/03/mail.jpg
ORGANIZER;CN="Rachel Carson Council":MAILTO:(office@rachelcarsoncouncil.org
END:VEVENT
BEGIN:VEVENT
DTSTART;TZID=America/New_York:20211010T153000
DTEND;TZID=America/New_York:20211010T170000
DTSTAMP:20260425T221422
CREATED:20210929T214348Z
LAST-MODIFIED:20210929T220125Z
UID:8097-1633879800-1633885200@onemontgomerygreen.org
SUMMARY:Global Co Lab Network 7th Annual Celebration of Teen Changemakers
DESCRIPTION:7th Annual Celebration of Teen Changemakers\n \nvirtually\nSUNDAY OCTOBER 10TH •  3:30-5:00 PM EST \nAttend to watch winning videos and hear from our global teen winners on what they have done with their $500 grants to move their dreams forward.  Hear from teen-led Hub participants addressing climate change\, mental health\, plastic pollution\, gender equality\, hunger\, quality education\, racial justice\, wildlife conservation\, as well as artists\, Spanish\, and Turkish teens working on the United Nation’s Sustainable Development Goals! \nHear from our Smithsonian partners ~ join us afterward for a virtual reality reception! \nRegister below\nPlease consider supporting us with a donation! \nWe really hope you will be joining us! \nRegister Here 
URL:https://onemontgomerygreen.org/index.php/calendarevent/global-co-lab-network-7th-annual-celebration-of-teen-changemakers/
LOCATION:MD
CATEGORIES:Award Presentation,Awards,Virtual Event
ATTACH;FMTTYPE=image/png:https://onemontgomerygreen.org/wp-content/uploads/2021/09/gcntight-e1632951072238.png
END:VEVENT
BEGIN:VEVENT
DTSTART;TZID=America/New_York:20210722T150000
DTEND;TZID=America/New_York:20210722T180000
DTSTAMP:20260425T221422
CREATED:20210601T132040Z
LAST-MODIFIED:20210601T132040Z
UID:7723-1626966000-1626976800@onemontgomerygreen.org
SUMMARY:USGBC NCR-MD-VA : Midsummer Night's Green Awards
DESCRIPTION:D.C.\, Maryland\, and Virginia are leading the way to a more sustainable\, healthy future through green buildings. See some of the local\, award-winning case studies that exemplify leadership\, and hear from project teams who will highlight the goals\, strategies\, outcomes\, and lessons learned through a rapid-fire project showcase.
URL:https://onemontgomerygreen.org/index.php/calendarevent/usgbc-ncr-md-va-midsummer-nights-green-awards/
LOCATION:virtual
CATEGORIES:action,annual meeting,award dinner,Award Presentation,Community,Education,Environment,Green,Nature,open meeting,sustainability,Virtual Event,virtual meeting
ATTACH;FMTTYPE=image/png:https://onemontgomerygreen.org/wp-content/uploads/2021/06/black-oak-leaves.png
END:VEVENT
BEGIN:VEVENT
DTSTART;TZID=America/New_York:20210415T190000
DTEND;TZID=America/New_York:20210415T203000
DTSTAMP:20260425T221422
CREATED:20210401T004747Z
LAST-MODIFIED:20210401T005711Z
UID:7563-1618513200-1618518600@onemontgomerygreen.org
SUMMARY:Special Presentation: 2021 Taking Nature Black Environmental Champions
DESCRIPTION:The 2021 Taking Nature Black Celebration continues virtually during Earth Month on Thursday\, April 15 at 7:00 p.m. with a special Environmental Champions Award Ceremony in collaboration with ANS’s Conservation Café. \nJoin us in saluting these champions during a special video presentation\, live conversation\, music and poetry presentations and Q and A session\, plus a special tribute to the environmental legacy of Harriet Tubman! \nClick here to purchase your ticket. If you joined us for the conference\, your ticket is free. Just fill out this form to RSVP so that you can receive the ceremony’s Zoom link. \nThank you and see you soon! \n  \n2021 Taking Nature Black Environmental Champion Awards \n Legacy Champions \n\n\nHarriet Tubman\, Underground Railroad Conductor and Environmentalist Extraordinaire\n\n\nPamela Rush\, Sewage Systems Advocate for Rural Families\n \n\n\nNational Champions \n\n\nCongressman A. Donald McEachin (D)\, Virginia’s 4th District\, Serves on the House Committees on Energy and Commerce and Natural Resources\, the Select Committee on the Climate Crisis and serves as Vice-Chair of the Sustainable Energy and Environment Coalition.\n\n\nCatherine Coleman Flowers\, Founding Director of the Center for Rural Enterprise and Environmental Justice\n\n\nBeattra Wilson\, Assistant Director for Urban & Community Forestry at the U.S. Forest Service\n\n\nDerrick Evans\, Co-Founding Managing Advisor to the Gulf Coast Fund for Community Renewal and Ecological Health\n \n\n\nRegional Champions \n\n\nDrs. Candice Duncan\, Akua Asa-Awuku\, and Ebony Terrell Shockley\, University of Maryland Geo-Sciences Research Team\n\n\nDonald Belle\, Environmental Science Educator\, Prince George’s County Schools\n \n\n\nYouth Champion \n\nKwasi Osaze Billups\, Urban Garden Manager and Garden Builder
URL:https://onemontgomerygreen.org/index.php/calendarevent/special-presentation-2021-taking-nature-black-environmental-champions/
LOCATION:MD
CATEGORIES:Award Presentation,Awards
ATTACH;FMTTYPE=image/png:https://onemontgomerygreen.org/wp-content/uploads/2021/03/1a22f62d-95f0-40f9-991c-aca8cab565dd.png
ORGANIZER;CN="Audubon Naturalist Society":MAILTO:contact@anshome.org
END:VEVENT
BEGIN:VEVENT
DTSTART;TZID=America/New_York:20201204T180000
DTEND;TZID=America/New_York:20201204T210000
DTSTAMP:20260425T221422
CREATED:20201111T225141Z
LAST-MODIFIED:20201111T225141Z
UID:7012-1607104800-1607115600@onemontgomerygreen.org
SUMMARY:Four Generations Awards Celebration 2020: Leaders in Clean Energy & Sustainable Solutions
DESCRIPTION:Four Generations Awards Celebration 2020:\nLeaders in Clean Energy & Sustainable Solutions\nFriday\, December 4 @ 6:00 pm – 9:00 pm \nWELCOME– We invite you to join us for our 2020 Seventh Annual Four Generation of Leaders in Clean Energy and Sustainability Solutions AWARDS CELEBRATION.   The “Four Gen” Awards! This year’s theme is “Regenerating – for a Positive Future!” \nWe are honoring multigenerational leaders who are helping to regenerate natural systems and economies to create prosperity and resilience through projects\, programs\, and initiatives that connect with this theme.  \nFOUR GENERATIONS OF LEADERS AWARDS SCHEDULE\nSOCIAL HOUR: 6:00 – 7:00 pm\nSmall Group Networking Session to Connect with Other Forum Attendees: 6:00 –6:30 pm\nMixology by Solar-Powered Catoctin Creek Distillery – Learn how to make a “green” and other holiday cocktails and mocktails! \nAWARDS PROGRAM (7:00 – 8:00 pm)\nBe inspired by our Four Generations Awardees (and Lifetime Achievement Awardee!) \nSMALL GROUP DISCUSSIONS AND SPEED NETWORKING: 8:00 pm – 9:00 pm\nSmall Discussion Groups & Speed Networking \nFor more information:\nhttps://leadersinenergy.org/event/four-generations-awards-celebration-2020/
URL:https://onemontgomerygreen.org/index.php/calendarevent/four-generations-awards-celebration-2020-leaders-in-clean-energy-sustainable-solutions/
LOCATION:MD
CATEGORIES:award dinner,Award Presentation,Awards,Food & Drink
ATTACH;FMTTYPE=image/png:https://onemontgomerygreen.org/wp-content/uploads/2020/11/Copy-of-Four-Generations-of-Leaders-in-Clean-Energy-and-Sustainable-Solutions-Awards-Celebration.png
ORGANIZER;CN="Leaders in Energy":MAILTO:info@leadersinenergy.org
END:VEVENT
BEGIN:VEVENT
DTSTART;TZID=America/New_York:20191206T180000
DTEND;TZID=America/New_York:20191206T210000
DTSTAMP:20260425T221422
CREATED:20191205T175322Z
LAST-MODIFIED:20191205T175322Z
UID:5274-1575655200-1575666000@onemontgomerygreen.org
SUMMARY:Four Generations 2019: Leaders in Clean Energy & Sustainable Solutions
DESCRIPTION:Four Generations 2019: Leaders in Clean Energy & Sustainable Solutions\nFriday\, December 6\, 2019 from 6:00 PM to 9:00 PM \nPepco Edison Place Gallery\, 702 8th Street NW\, Washington\, DC 20001 \nCome one\, come all\, and join us at the 6th Annual Four Gen Awards and Holiday Dinner on Friday\, December 6th\, from 6-9 pm\, in Washington\, DC. \nWhy? Spend a great evening with people who are working in green careers and businesses\, clean energy and sustainability solutions. Meet intriguing new friends who care as much as you do about clean energy and sustainability\, locally and globally\, who love to talk about it and act on it. \nMeet our awardees – remarkable leaders of Four Generations who are building coalitions\, collaboration and partnerships for action in energy efficiency\, clean energy\, the circular economy in reducing plastics and food waste\, and building sustainable communities. Hear how they did it and how we can emulate them as leaders to make changes for a better and greener world in our own unique ways. (Read all about our awardees toward the bottom.) \nJoin in our Silent Auction with its exciting array of opportunities. Bid on memberships and event tickets for environmental and clean energy groups\, on green books\, an environmental documentary\, and a Nissan Leaf 4-Day auto excursion – plus more!Here’s how to attend and take advantage of our CYBER SAVINGS special offers! \nIf you have already registered and would like add up to two friends to join you\, you can take advantage of this discount by registering each person and applying a LEGUEST50 promo code. \nRegister Here for 4GEN Awards on Dec. 6th!!! \nLearn more at leadersinenergy.org
URL:https://onemontgomerygreen.org/index.php/calendarevent/four-generations-2019/
LOCATION:Pepco Edison Place Gallery\, 702 8th St NW\, Washington\, DC\, 20001\, United States
CATEGORIES:award dinner,Award Presentation,Awards,Food & Drink
ORGANIZER;CN="Leaders in Energy":MAILTO:info@leadersinenergy.org
END:VEVENT
BEGIN:VEVENT
DTSTART;TZID=America/New_York:20191102T093000
DTEND;TZID=America/New_York:20191102T150000
DTSTAMP:20260425T221422
CREATED:20191023T002006Z
LAST-MODIFIED:20191023T002025Z
UID:5141-1572687000-1572706800@onemontgomerygreen.org
SUMMARY:MoCo DEP 2019 H2O Summit
DESCRIPTION:2019 H 2O Summit\nSaturday\, November 2  •  9:30 am – 3 pm \nRockville Senior Center\, 1150 Carnation Drive\, Rockville\, MD 20850 \nTaking pride in local water quality\, networking\, and learning about what is happening in your area is what the H 2O Summit is all about! Join local community groups to learn about how the County addresses water quality and how you can become involved. \nThe 2019 H 2O Summit will be held on Saturday\, November 2nd at the Rockville Senior Center. \n\nView the schedule here (TBD). \nTo register for the event\, please click HERE.\nWe’ll be awarding the  Community Leader / Stream Volunteer Award\n\nWhat’s Happening at the H 2O Summit 2019? \nThis year’s agenda will provide information and programs led by community partnerships and well as County Government\, WSSC\, Montgomery Parks and other opportunities County residents can utilize to help improve their local waterways\n\nSalt\, Salt\, Salt! Learn about current salt management plans and research surrounding the use of salt and its impact on streams. Hear about alternatives and how you can influence your neighborhood to use less salt for icy conditions around the home in winter. \nClimate Change – Hear about actions you can take that will make a positive impact on Climate change. \nThere is no such thing as the poop fairy! – County staff will be on hand to highlight the pet waste management program and how they have been working with HOAs to positively impact their residents and our local streams.\nDo you have a stormwater facility on your property?  How do you know?\, What do you do? County staff will introduce this relatively new program for residents to help to understand what is required if you have a stormwater facility on your property \nBreakout sessions – Topics on organic lawn care and anti-litter programs will be discussed and more at individual breakout sessions.\n\nAll these topics and more will be highlighted at the event. Attendees are encouraged to pre-register for lunch and bring their own cup/mug.  \nWho’s Invited?\nThe event is open to anyone interested in learning how to protect our local waters.  This event is of particular interest to nonprofit watershed groups\, community activists\, business leaders\, and residents living near streams. \n\n  \n\nFor more information\, visit https://www.montgomerycountymd.gov/water/education/events.html
URL:https://onemontgomerygreen.org/index.php/calendarevent/2019-h2o-summit/
LOCATION:Rockville Senior Center\, 1150 Carnation Drive\, Rockville\, MD\, 20850\, United States
CATEGORIES:Agriculture,Award Presentation,climate,Climate Change,Community,Environment,Environmental Summit,event,Summit
ATTACH;FMTTYPE=image/jpeg:https://onemontgomerygreen.org/wp-content/uploads/2019/10/2019_H20_Summit.jpg
END:VEVENT
BEGIN:VEVENT
DTSTART;TZID=America/New_York:20190516T083000
DTEND;TZID=America/New_York:20190516T113000
DTSTAMP:20260425T221422
CREATED:20190501T214500Z
LAST-MODIFIED:20190501T214500Z
UID:4221-1557995400-1558006200@onemontgomerygreen.org
SUMMARY:Pike & Rose Tour and LEED-ND Gold Project Presentation + Ceremony
DESCRIPTION:Pike & Rose Tour and LEED-ND Gold Project Presentation + Ceremony\n\n\n\nDate: May 16 @ 8:30 am – 11:30 am \nLocation: AMP by Strathmore\, 11810 Grand Park Ave\, North Bethesda\, MD 20852 \nUSGBC NCR’s Montgomery County Committee invites you to join USGBC\, Federal Realty and Paladino for a light breakfast\, panel discussion\, tour and certification celebration at Rockville’s hottest new Live-Work-Play development – Pike & Rose. Located in the heart of Montgomery County on Rockville Pike\, Pike & Rose is reinventing one of the area’s most successful retail corridors with a Gold LEED for Neighborhood Development design unlike anything in the County. \nDuring the panel discussion\, you’ll learn about the challenges\, opportunities and motivations for developing a cutting edge LEED-ND Gold project from owner/developer Federal Realty Trust\, project sustainability consultant Paladino\, and other team members. Afterward\, there will be a ceremony celebrating Pike & Rose’s certification\, followed by tours of the property from its managers. \nEvent is free (breakfast is included!)\, but registration is required \nRegister: https://www.eventbrite.com/e/usgbc-ncr-pike-rose-tour-and-leed-nd-gold-project-presentation-ceremony-tickets-60071904684
URL:https://onemontgomerygreen.org/index.php/calendarevent/pike-rose-tour-and-leed-nd-gold-project-presentation-ceremony/
LOCATION:AMP by Strathmore\, 11810 Grand Park Ave\, North Bethesda\, MD\, 20852\, United States
CATEGORIES:Award Presentation,Business,business showcase,event,green building
ATTACH;FMTTYPE=image/jpeg:https://onemontgomerygreen.org/wp-content/uploads/2019/05/PikeRose.jpg
END:VEVENT
END:VCALENDAR