BEGIN:VCALENDAR
VERSION:2.0
PRODID:-//One Montgomery Green - ECPv6.15.20//NONSGML v1.0//EN
CALSCALE:GREGORIAN
METHOD:PUBLISH
X-WR-CALNAME:One Montgomery Green
X-ORIGINAL-URL:https://onemontgomerygreen.org
X-WR-CALDESC:Events for One Montgomery Green
REFRESH-INTERVAL;VALUE=DURATION:PT1H
X-Robots-Tag:noindex
X-PUBLISHED-TTL:PT1H
BEGIN:VTIMEZONE
TZID:America/New_York
BEGIN:DAYLIGHT
TZOFFSETFROM:-0500
TZOFFSETTO:-0400
TZNAME:EDT
DTSTART:20220313T070000
END:DAYLIGHT
BEGIN:STANDARD
TZOFFSETFROM:-0400
TZOFFSETTO:-0500
TZNAME:EST
DTSTART:20221106T060000
END:STANDARD
BEGIN:DAYLIGHT
TZOFFSETFROM:-0500
TZOFFSETTO:-0400
TZNAME:EDT
DTSTART:20230312T070000
END:DAYLIGHT
BEGIN:STANDARD
TZOFFSETFROM:-0400
TZOFFSETTO:-0500
TZNAME:EST
DTSTART:20231105T060000
END:STANDARD
BEGIN:DAYLIGHT
TZOFFSETFROM:-0500
TZOFFSETTO:-0400
TZNAME:EDT
DTSTART:20240310T070000
END:DAYLIGHT
BEGIN:STANDARD
TZOFFSETFROM:-0400
TZOFFSETTO:-0500
TZNAME:EST
DTSTART:20241103T060000
END:STANDARD
BEGIN:DAYLIGHT
TZOFFSETFROM:-0500
TZOFFSETTO:-0400
TZNAME:EDT
DTSTART:20250309T070000
END:DAYLIGHT
BEGIN:STANDARD
TZOFFSETFROM:-0400
TZOFFSETTO:-0500
TZNAME:EST
DTSTART:20251102T060000
END:STANDARD
BEGIN:DAYLIGHT
TZOFFSETFROM:-0500
TZOFFSETTO:-0400
TZNAME:EDT
DTSTART:20260308T070000
END:DAYLIGHT
BEGIN:STANDARD
TZOFFSETFROM:-0400
TZOFFSETTO:-0500
TZNAME:EST
DTSTART:20261101T060000
END:STANDARD
END:VTIMEZONE
BEGIN:VEVENT
DTSTART;TZID=America/New_York:20251003T070000
DTEND;TZID=America/New_York:20251003T140000
DTSTAMP:20260422T074511
CREATED:20250925T204007Z
LAST-MODIFIED:20250925T204007Z
UID:12524-1759474800-1759500000@onemontgomerygreen.org
SUMMARY:Annual Bike Drive to Repurpose Bicycles
DESCRIPTION:Annual Bike Drive to Repurpose Bicycles to be Held on Friday\, Oct. 3 in Rockville\n \nDonated bicycles can make a big difference for local community members. The Montgomery County Department of Transportation’s (MCDOT) annual Bicycle Donation Drive from 7 a.m. – 2 p.m. on Friday\, Oct. 3\, will make it easy to donate previously owned bikes and ensure they will have a continued impact. Bikes will be collected\, rain or shine\, outside of the Montgomery County Council Office Building Garage at the corner of E. Jefferson and Monroe St. in Rockville. \nBicycles should be in good working condition or in need of only minor repairs. Rockville Bike Hub volunteers will refurbish the bikes and MCDOT will place them with children and adults in the County through the MCDOT Bike Match Program or through the Rockville Terrific Kids program.  A portion of the bikes are also collected by Bikes for the World and donated to communities around the world. Bikes that are not salvageable are recycled. \nRead the Press Release
URL:https://onemontgomerygreen.org/index.php/calendarevent/annual-bike-drive-to-repurpose-bicycles/
LOCATION:Montgomery County Council Office Building\, 100 Maryland Avenue\, Rockville\, MD\, 20850\, United States
CATEGORIES:bicycle donation
ATTACH;FMTTYPE=image/png:https://onemontgomerygreen.org/wp-content/uploads/2017/05/MCDOTlogo2line_transp.png
END:VEVENT
BEGIN:VEVENT
DTSTART;TZID=America/New_York:20241011T070000
DTEND;TZID=America/New_York:20241011T140000
DTSTAMP:20260422T074511
CREATED:20240912T221348Z
LAST-MODIFIED:20240912T221348Z
UID:11308-1728630000-1728655200@onemontgomerygreen.org
SUMMARY:MCDOT Annual Bike Donation Event
DESCRIPTION:Unused Bikes Will Go to Good Use If Donated to Department of Transportation’s Annual Bike Donation Event\, Friday\, Oct. 11\n\n\n\n\n\n\n\nThe end of summer is often the time homeowners do major cleanups of garages and basements. Often\, they find bicycles that need a new home. The Montgomery County Department of Transportation (MCDOT) is asking for residents to donate bikes to make a difference in their local community. \nMCDOT’s annual bike collection event will be held from 7 a.m.-2 p.m. on Friday\, Oct. 11\, during Community Service Month. The event will collect child and adult bikes and bike parts outside of the County Council Office Building Garage\, which is located at the intersection of East Jefferson and Monroe streets in Rockville. Used bike helmets will not be collected. \nDonated bikes will be distributed to residents in need through the MCDOT’s Bike Match MoCo program after being cleaned up by volunteers from the nonprofit Rockville Bike Hub. Some of the children’s bikes will also be distributed through Rockville’s Terrific Kids program and older bikes are donated to Bikes for The World. \nSix previous bike donation events have resulted in 1\,374 bicycles collected. Last year\, 290 bikes were collected—a considerable increase from the 120 collected in the event’s first year in 2017. \nResidents can also make monetary donations (by check) to the Rockville Bike Hub during the bicycle collection event. The funds will be used to purchase new bike helmets and parts to repair the bikes. \nFor more information about the event\, send an email to paul.gatons@montgomerycountymd.gov.\n\nMore information: https://montgomerycomd.blogspot.com/2024/08/unused-bikes-will-go-to-good-use-if.html
URL:https://onemontgomerygreen.org/index.php/calendarevent/mcdot-annual-bike-donation-event/
LOCATION:Montgomery County Council Office Building\, 100 Maryland Avenue\, Rockville\, MD\, 20850\, United States
CATEGORIES:bicycle donation,bike,Biking
ATTACH;FMTTYPE=image/png:https://onemontgomerygreen.org/wp-content/uploads/2017/05/MCDOTlogo2line_transp.png
END:VEVENT
BEGIN:VEVENT
DTSTART;TZID=America/New_York:20231020T070000
DTEND;TZID=America/New_York:20231020T140000
DTSTAMP:20260422T074511
CREATED:20230904T200644Z
LAST-MODIFIED:20230904T200644Z
UID:10528-1697785200-1697810400@onemontgomerygreen.org
SUMMARY:MCDOT Donate A Bike Event
DESCRIPTION:Child and Adult Used Bicycles Can Be Donated at the Annual Department of Transportation Event on Friday\, Oct. 20\, in Rockville\nBicycles that are no longer being used by some can make a big difference for others. The Montgomery County Department of Transportation’s annual Bicycle Donation Drive will be held on Friday\, Oct. 20. The event will make it easy to donate previously owned bikes and ensure they will have a continued impact. \nFrom  7 a.m.-2 p.m. on Oct. 20\, bikes will be collected (rain or shine) outside of the Montgomery County Council Office Building Garage at East Jefferson and Monroe Street in Rockville. \nBicycles should be in good working condition or in need of only minor repairs. Donations will be refurbished and MCDOT will match the bikes with residents in need through the Bike Match program. \nCommunity members are welcome to organize a bike collection at their school\, place of worship or within their neighborhood and bring the bikes to Rockville on Oct. 20. For drives that collect 10 or more bikes\, MCDOT will arrange to pick them up at a prearranged location.  \nRead More
URL:https://onemontgomerygreen.org/index.php/calendarevent/mcdot-donate-a-bike-event/
LOCATION:Montgomery County Council Office Building\, 100 Maryland Avenue\, Rockville\, MD\, 20850\, United States
CATEGORIES:bicycle donation,bike
ATTACH;FMTTYPE=image/jpeg:https://onemontgomerygreen.org/wp-content/uploads/2023/09/jpeglibrary-signboard-content-template-mcpl2023ficx_crop.jpg
END:VEVENT
END:VCALENDAR