BEGIN:VCALENDAR
VERSION:2.0
PRODID:-//One Montgomery Green - ECPv6.15.20//NONSGML v1.0//EN
CALSCALE:GREGORIAN
METHOD:PUBLISH
X-ORIGINAL-URL:https://onemontgomerygreen.org
X-WR-CALDESC:Events for One Montgomery Green
REFRESH-INTERVAL;VALUE=DURATION:PT1H
X-Robots-Tag:noindex
X-PUBLISHED-TTL:PT1H
BEGIN:VTIMEZONE
TZID:America/New_York
BEGIN:DAYLIGHT
TZOFFSETFROM:-0500
TZOFFSETTO:-0400
TZNAME:EDT
DTSTART:20180311T070000
END:DAYLIGHT
BEGIN:STANDARD
TZOFFSETFROM:-0400
TZOFFSETTO:-0500
TZNAME:EST
DTSTART:20181104T060000
END:STANDARD
BEGIN:DAYLIGHT
TZOFFSETFROM:-0500
TZOFFSETTO:-0400
TZNAME:EDT
DTSTART:20190310T070000
END:DAYLIGHT
BEGIN:STANDARD
TZOFFSETFROM:-0400
TZOFFSETTO:-0500
TZNAME:EST
DTSTART:20191103T060000
END:STANDARD
BEGIN:DAYLIGHT
TZOFFSETFROM:-0500
TZOFFSETTO:-0400
TZNAME:EDT
DTSTART:20200308T070000
END:DAYLIGHT
BEGIN:STANDARD
TZOFFSETFROM:-0400
TZOFFSETTO:-0500
TZNAME:EST
DTSTART:20201101T060000
END:STANDARD
BEGIN:DAYLIGHT
TZOFFSETFROM:-0500
TZOFFSETTO:-0400
TZNAME:EDT
DTSTART:20210314T070000
END:DAYLIGHT
BEGIN:STANDARD
TZOFFSETFROM:-0400
TZOFFSETTO:-0500
TZNAME:EST
DTSTART:20211107T060000
END:STANDARD
END:VTIMEZONE
BEGIN:VEVENT
DTSTART;TZID=America/New_York:20201017T140000
DTEND;TZID=America/New_York:20201017T153000
DTSTAMP:20260423T163913
CREATED:20201015T191856Z
LAST-MODIFIED:20201015T191856Z
UID:6851-1602943200-1602948600@onemontgomerygreen.org
SUMMARY:Sierra Club Natural Places Monthly Meeting CAMPAIGN for NATURE 30x30 panel
DESCRIPTION:Sierra Club Natural Places Monthly Meeting CAMPAIGN for NATURE 30×30 panel\nSat\, Oct 17\, 2020 • 2:00 PM  – 3:30 PM  \nDuring this time of crises we have discovered how important our natural places are.   Therefore\, on October 17th\, 2-4pm\, Natural Places Committee will discuss the international advocacy Campaign for Nature with the goal of conserving at least 30% of land and water by 2030—which is why it is also called the 30 X 30 Campaign! \nThe 30 x 30 campaign is a visionary initiative to try to preserve 30 percent of America’s lands and coastal waters by the year 2030 — an intermediate goal toward eventually protecting 50 percent of the earth’s surface for Nature.  It is considered by many biologists as necessary to counter an increasing crisis of species and biodiversity loss — and also the climate crisis. \nOur first speaker is Chris Yoder\, long time Sierra Club activist and expert on Natural Lands. Our second speaker is Luke Chesek\, who serves on the City Council of Mount Rainier\, MD\, where he is writing an ordinance to create a native plant network throughout the city\, one piece of his strategic vision to build a more sustainable city. He will discuss native plant corridors and greenways\, one of the pieces of the Campaign.   \nYou will leave this presentation with tools to help preserve public lands. We need your voice to shape policy here in Maryland and to participate in the national decisions about our protected lands! \nFOR MORE INFORMATION AND TO REGISTER
URL:https://onemontgomerygreen.org/index.php/calendarevent/sierra-club-natural-places-monthly-meeting-campaign-for-nature-30x30-panel/
CATEGORIES:chapter meeting,conservation,virtual meeting,Zoom meeting
ATTACH;FMTTYPE=image/jpeg:https://onemontgomerygreen.org/wp-content/uploads/2019/01/SierraClubLogo-e1597001237437.jpg
END:VEVENT
BEGIN:VEVENT
DTSTART;TZID=America/New_York:20200919T140000
DTEND;TZID=America/New_York:20200919T160000
DTSTAMP:20260423T163913
CREATED:20200902T185845Z
LAST-MODIFIED:20200902T185845Z
UID:6606-1600524000-1600531200@onemontgomerygreen.org
SUMMARY:Sierra Club MD Natural Places Monthly Meeting with Invasive Plants Expert Panel
DESCRIPTION:Natural Places Monthly Meeting with Invasive Plants Expert Panel\nDate and Time:\nSat\, Sep 19\, 2020  •  2:00 PM  – 4:00 PM  (Local Time) \nOrganized By: Maryland Chapter Natural Places Committee \nEvent Organizers:\nLily Fountain\n   lily.fountain@mdsierra.org\n   (301) 442-5854\nMarc Imlay\n   ialm@erols.com \n\n\n\n\n\n\n\nInvasive plants enveloping trees and shrubs and ground-cover. \nOur vision/ long term aspirations are to explore\, enjoy\, and protect natural areas in Maryland. We value native biological diversity and diverse native habitats. Please join us for an online meeting to discuss these issues\, and we welcome your insights about new issues impacting natural places where you live in Maryland. \nThis month we will have an expert panel from Sierra Club\, Maryland Native Plant Society\, and others\, discussing why invasive plants are decreasing biodiversity\, what invasive plants are of most concern\, and how of invasive plants can be controlled. This discussion will be followed by breakout rooms for discussion of issues and solutions for our teams working on land\, water\, and animal\, as well as plant issues\, as part of updating the Natural Places Preservation Toolkit.\n\n\n\n\nCost: Free \n\n\n\n\nRSVP for Invasive Weeds discussion\n\n\n\n\nSignup Instructions: After you register\, the zoom URL will be sent to you.
URL:https://onemontgomerygreen.org/index.php/calendarevent/sierra-club-md-natural-places-monthly-meeting-with-invasive-plants-expert-panel/
CATEGORIES:chapter meeting,Zoom meeting
ATTACH;FMTTYPE=image/jpeg:https://onemontgomerygreen.org/wp-content/uploads/2019/01/SierraClubLogo-e1597001237437.jpg
END:VEVENT
BEGIN:VEVENT
DTSTART;TZID=America/New_York:20200316T190000
DTEND;TZID=America/New_York:20200316T210000
DTSTAMP:20260423T163913
CREATED:20200226T211608Z
LAST-MODIFIED:20200226T211608Z
UID:5654-1584385200-1584392400@onemontgomerygreen.org
SUMMARY:Montgomery County Group | Maryland Chapter Sierra Club Bi-Monthly Meeting
DESCRIPTION:Montgomery County Group | Maryland Chapter Sierra Club Bi-Monthly Meeting\nMonday\, March 16th  •  7 pm\nRockville Memorial Library \nIf you take transit\, ride a bike\, or drive and get frustrated with traffic\, you’ll want to attend our March 16th meeting. Our speaker will be Chris Conklin\, Director of Montgomery County Department of Transportation. Mr. Conklin\, leads a team of more than 1\,300 employees working to provide transportation infrastructure and services for all of Montgomery County’s residents\, businesses and visitors \nPrior to being appointed as the Director in Oct 2019\, Mr. Conklin served as the deputy director for transportation policy since joining the County in August 2016. \nOver the past three years\, he guided the implementation of new transit services like the Ride On Flex\, Executive Connector and the US 29 Flash project. He has worked to advance pedestrian safety and bicycle infrastructure projects; represented the County in regional efforts to secure long-term capital funding for the Washington Metropolitan Area Transit Authority; improved development-review processes; and led sustainability initiatives like the County’s streetlight replacement program. \nMr. Conklin will share updates from the Department of Transportation and what the County priorities are in regard to public transportation system including improvements to the infrastructure needs / challenges and what the County is doing to further improve the safety\, effectiveness and environmental performance of the public transportation system. RSVP
URL:https://onemontgomerygreen.org/index.php/calendarevent/montgomery-county-group-maryland-chapter-sierra-club-bi-monthly-meeting/
LOCATION:Rockville Memorial Library\, 21 Maryland Avenue\, Rockville\, MD\, 20850\, United States
CATEGORIES:chapter meeting
ATTACH;FMTTYPE=image/jpeg:https://onemontgomerygreen.org/wp-content/uploads/2019/01/SierraClubLogo-e1597001237437.jpg
END:VEVENT
BEGIN:VEVENT
DTSTART;TZID=America/New_York:20200112T140000
DTEND;TZID=America/New_York:20200112T160000
DTSTAMP:20260423T163913
CREATED:20191229T190632Z
LAST-MODIFIED:20191229T190804Z
UID:5401-1578837600-1578844800@onemontgomerygreen.org
SUMMARY:The Climate Mobilization MoCo Chapter – 2020 Strategy Meeting
DESCRIPTION:The Climate Mobilization MoCo Chapter\n2020 Strategy Meeting \nSunday\, January 12 | 2 – 4 pm\nTemple Shalom\, 8401 Grubb Road\, Chevy Chase\, MD 20815\n \nOxford Dictionaries declared ‘climate emergency’ the word of 2019. We desperately need ‘bold and ambitious climate emergency action’ to be the phrase that defines 2020. Join us in January to develop TCM MoCo’s strategy to mobilize a critical mass of County residents to get involved in the work of the Climate Emergency.\n \nTCM MoCo in 2020 \nWe encourage all of you to join us in-person on the 12th of January to shape the TCM MoCo strategy for the coming year. \n 2019 was a busy year of action\, with a number of you participating in County Climate Action Plan workgroups; protesting with Extinction Rebellion in D.C. and Rockville; supporting the MoCo Students on Climate; and leading and participating in the Silver Spring Climate Town Hall in September. In recent weeks\, TCM has played a role in delaying indefinitely a vote by the Bureau of Public Works on Governor Hogan’s plan to widen I-270 and the Beltway.  In addition\, the Montgomery County Council has recently voted to prioritize establishing a local Community Choice Energy program\, if approved by the Maryland legislature and signed into law in early 2020. \nHowever\, these initiatives don’t translate into enough progress to restore a safe climate. The planet’s climate and ecological breakdown has only accelerated in the past two years since Montgomery County adopted the first climate emergency resolution in the nation. The development and implementation of the County’s Climate Action Plan will move forward\, but it is a deliberate and slow process. Many more residents and communities need to be mobilized to push the County further faster. \n At our TCM MoCo meeting on the 12th\, we will develop our goals and strategies for 2020 and beyond\, re-examine our organizational structure\, and discuss plans for effective communication with each other\, in person and digitally. The intent is to facilitate increased participation of current members\, explore ways to attract new members\, and expand engagement and partnership with other local organizations around the climate emergency. \nIf you would like to confirm your participation in the meeting\, ask a question\, or volunteer to help plan the meeting\, send us an email here.
URL:https://onemontgomerygreen.org/index.php/calendarevent/the-climate-mobilization-moco-chapter-2020-strategy-meeting/
LOCATION:Temple Shalom\, 8401 Grubb Road\, Chevy Chase\, MD\, 20815\, United States
CATEGORIES:chapter meeting,climate,climate action,Climate Change
ATTACH;FMTTYPE=image/png:https://onemontgomerygreen.org/wp-content/uploads/2019/05/TheClimateMobilization-e1599076702591.png
ORGANIZER;CN="The Climate Mobilization of Montgomery County%2C MD":MAILTO:jimwdriscoll@yahoo.com
END:VEVENT
BEGIN:VEVENT
DTSTART;TZID=America/New_York:20191107T190000
DTEND;TZID=America/New_York:20191107T210000
DTSTAMP:20260423T163913
CREATED:20191030T213923Z
LAST-MODIFIED:20191030T213923Z
UID:5170-1573153200-1573160400@onemontgomerygreen.org
SUMMARY:The Climate Mobilization MoCo Chapter Meeting
DESCRIPTION:The Climate Mobilization MoCo Chapter Meeting \nThursday\, November 7  •  Socializing at 7 pm  •  Business at 7:30 pm \n7001 Arlington at Bethesda Apts. Community Room\, 2nd Floor\, 7001 Arlington Rd.\, Bethesda\, MD  20814 \nhttps://www.theclimatemobilization.org/moco
URL:https://onemontgomerygreen.org/index.php/calendarevent/the-climate-mobilization-moco-chapter-meeting/
LOCATION:7001 Arlington at Bethesda Apts.\, 7001 Arlington Rd.\, Bethesda\, MD\, 20814\, United States
CATEGORIES:chapter meeting
ATTACH;FMTTYPE=image/png:https://onemontgomerygreen.org/wp-content/uploads/2019/05/TheClimateMobilization-e1599076702591.png
ORGANIZER;CN="The Climate Mobilization of Montgomery County%2C MD":MAILTO:jimwdriscoll@yahoo.com
END:VEVENT
END:VCALENDAR