BEGIN:VCALENDAR
VERSION:2.0
PRODID:-//One Montgomery Green - ECPv6.15.20//NONSGML v1.0//EN
CALSCALE:GREGORIAN
METHOD:PUBLISH
X-ORIGINAL-URL:https://onemontgomerygreen.org
X-WR-CALDESC:Events for One Montgomery Green
REFRESH-INTERVAL;VALUE=DURATION:PT1H
X-Robots-Tag:noindex
X-PUBLISHED-TTL:PT1H
BEGIN:VTIMEZONE
TZID:America/New_York
BEGIN:DAYLIGHT
TZOFFSETFROM:-0500
TZOFFSETTO:-0400
TZNAME:EDT
DTSTART:20180311T070000
END:DAYLIGHT
BEGIN:STANDARD
TZOFFSETFROM:-0400
TZOFFSETTO:-0500
TZNAME:EST
DTSTART:20181104T060000
END:STANDARD
BEGIN:DAYLIGHT
TZOFFSETFROM:-0500
TZOFFSETTO:-0400
TZNAME:EDT
DTSTART:20190310T070000
END:DAYLIGHT
BEGIN:STANDARD
TZOFFSETFROM:-0400
TZOFFSETTO:-0500
TZNAME:EST
DTSTART:20191103T060000
END:STANDARD
BEGIN:DAYLIGHT
TZOFFSETFROM:-0500
TZOFFSETTO:-0400
TZNAME:EDT
DTSTART:20200308T070000
END:DAYLIGHT
BEGIN:STANDARD
TZOFFSETFROM:-0400
TZOFFSETTO:-0500
TZNAME:EST
DTSTART:20201101T060000
END:STANDARD
END:VTIMEZONE
BEGIN:VEVENT
DTSTART;TZID=America/New_York:20191129T123000
DTEND;TZID=America/New_York:20191129T153000
DTSTAMP:20260421T120638
CREATED:20191127T173942Z
LAST-MODIFIED:20191127T175935Z
UID:5248-1575030600-1575041400@onemontgomerygreen.org
SUMMARY:Funeral For Future Strike at US Capitol
DESCRIPTION:Funeral For Future Strike at US Capitol\nFriday\, November 29\, 2019  •  12:30 PM\nLocation:   United States Capitol  •  1 First St SE\, Washington\, DC 20004\nHost Contact Info:  kallan@fridaysforfutureusa.org\nPlease join us on Friday participate in the Fridays for Future Global Day of Action and to demand action on the climate crisis. Wear black and bring a sign and your grief and outrage. \nWe’ll gather on the Southeast lawn of the Capitol to eulogize and mourn all that has been lost and all that is threatened by the climate crisis. All those with hopes and dreams who cherish the future are invited to gather in the shadow of the Halls of Congress. The ceremonial closed-casket funeral will conclude with a funeral procession through the streets of Washington\, DC. \n“Petroleum is a plague. It is the black death of our generation\,” said youth organizer and weekly striker Sophia Geiger\, 17. “We have the ability to control and cure it\, but we are not taking action. We are simply letting it destroy our world and threaten all life.”   \n“I strike every week because it is all I can do. I can’t even vote\, but I am already mourning my future. How can I plan for college\, a career\, or a family?” said Benson. \n“We’re bringing the loss of our future to the steps of the Capitol because they need to prepare to own this death\,” claims organizer Maddie Graham\, 17. “We need systemic change. Congress has been feeding our fossil fuel addiction. They know they are killing our future\, but they won’t take action to save it.” \nFor press inquires please contact sophia@fridaysforfutureusa.org \nVisit:  https://actionnetwork.org/events/fridays-for-future-strike-at-us-capitol-8
URL:https://onemontgomerygreen.org/index.php/calendarevent/funeral-for-future-strike-at-us-capitol/
LOCATION:United States Capitol\, 1 First Street\, SE\, Washington\, DC\, 20004\, United States
CATEGORIES:climate,Climate Change,climate strike
ATTACH;FMTTYPE=image/png:https://onemontgomerygreen.org/wp-content/uploads/2019/11/Global-day-of-action-1.png
END:VEVENT
BEGIN:VEVENT
DTSTART;TZID=America/New_York:20191017T193000
DTEND;TZID=America/New_York:20191017T210000
DTSTAMP:20260421T120638
CREATED:20191001T002024Z
LAST-MODIFIED:20191001T002024Z
UID:5033-1571340600-1571346000@onemontgomerygreen.org
SUMMARY:Montgomery County Faith Alliance for Climate Solutions monthly meeting
DESCRIPTION:Montgomery County Faith Alliance for Climate Solutions \nmonthly meeting \nThursday\, October 17  •  7:30 – 9 pm \nRiver Road Unitarian Universalist Congregation\, 6301 River Road\, Bethesda\, MD \nMontgomery County is about to revise its building code for commercial buildings\, called the International Green Construction Code.  This code revision could have important benefits for energy use\, transportation\, water\, flora and fauna in the County.  Mark Nauman of the MC Dept of Permitting Services\, who has been drafting the building code revision\, will  speak and answer questions on Thursday Oct 17\, from 730-9pm at the River Road Unitarian Universalist Congregation\, 6301 River Road\, Bethesda. \nWe feel that the new code (see below) will help conservation and climate change \, and deserves wide support.  Please come to learn more. \nPlease come to the monthly meeting of MC-FACS\, the Montgomery County Faith Alliance for Climate Solutions.  We are people from local faith communities urging our county to fight climate change.  For more info contact walter.weiss@verizon.net \n  \nGeneral introduction to building codes for commercial buildings in Mont Co \nBuilding codes set the legal requirements which must be met for any new building or large addition in Montgomery County. Builders submit their designs to the MC Dept of Permitting Services before construction starts\, and then they are granted a building permit after review. Energy efficiency of a proposed building is calculated from a formula based on the submitted design. \nIn the US and Canada\, building codes of all types are drafted by the International Code Council. They revise building codes every three years\, and then send these drafts out to states\, cities\, and counties. Each local government is free to edit the building code to meet their local needs. Each local government then passes their edited building code into local law. \nMontgomery County adopted the International Green Building Code (IgCC) for new commercial buildings in 2017\, after five years of discussion. The version passed in Montgomery County was drafted by the International Code Council in 2012. (there was a version of the IgCC in 2015 which was skipped over). In 2018 the three year update of the IgCC was sent out to local governments to be edited locally and then adopted. The MC Dept of Permitting Services has been editing this draft\, and is scheduled to submit the document to the Mont Co Council for adoption in the Fall of 2019. The document will first go to the Transportation and Environment Committee (CM Hucker\, Reimer\, and Glass) where it will be reviewed and voted on. Then if passed\, it will go to the full MC Council for review and a vote. \nAs a note of clarification\, LEED certification is separate from the IgCC. Buildings are submitted for LEED certification to the US Green Buildings Council (a private organization) after they are fully built. This is entirely voluntary\, and LEED certification is used as a promotion tool. LEED certification is based on a checklist of building features\, with points given for each feature. Depending on the number of points\, a building is given either LEED Silver\, Gold\, or Platinum rating. \nAll commercial construction in Mont Co must meet the IgCC requirements before they get a building permit. Few new buildings in our county are submitted for LEED certification. \nMontgomery County has set very ambitious goals of reducing all greenhouse gases 80% by 2027 and 100% by 2035. To reach these goals\, we believe that by 2027 building permits for new commercial buildings should require them to be net zero energy users. This is often achieved by adding solar panels. Many cities are requiring new buildings to be net zero energy by 2026 to 2030. Since it often takes years for buildings to be constructed\, the building codes need to require net zero energy well before 2035.
URL:https://onemontgomerygreen.org/index.php/calendarevent/montgomery-county-faith-alliance-for-climate-solutions-monthly-meeting-4/
LOCATION:River Road Unitarian Universalist Church\, 6301 River Road\, Bethesda\, MD\, 20817\, United States
CATEGORIES:climate,Climate Change,climate strike,Environment,Green
ATTACH;FMTTYPE=image/png:https://onemontgomerygreen.org/wp-content/uploads/2018/09/FACS_MASTER-STYLES_DT_02.png
ORGANIZER;CN="Montgomery County Faith Alliance for Climate Solutions":MAILTO:walter.weiss@verizon.net
END:VEVENT
BEGIN:VEVENT
DTSTART;TZID=America/New_York:20190920T093000
DTEND;TZID=America/New_York:20190920T140000
DTSTAMP:20260421T120638
CREATED:20190913T225744Z
LAST-MODIFIED:20190914T204957Z
UID:4895-1568971800-1568988000@onemontgomerygreen.org
SUMMARY:DC Climate Strike
DESCRIPTION:DC Climate Strike \nWhen: Friday\, September 20th @ 10:30 AM \nWhere: Friday\, Sept 20th  –  9am @ Silver Spring metro or 10:30am meet up at Farragut Square  \nJoin Audubon Naturalist Society’s staff\, members\, and volunteers in solidarity with the youth leading the massive Global Climate Strike. Meet either at 9am at the Silver Spring metro station or at 10:30am in Farragut Square in DC. We’ll march down to the White House by 11am. Bring your signs showing your support for the young people leading the fight for their own future and for the future of our natural world!  \nThe first 100 people to sign up will get free ANS/Climate Strike T-Shirts to wear to the march! \n  \nFor more information about the Climate Strike in general: https://actionnetwork.org/events/dc-climate-strike?
URL:https://onemontgomerygreen.org/index.php/calendarevent/dc-climate-strike/
LOCATION:DC
CATEGORIES:climate,Climate Change,climate strike
ATTACH;FMTTYPE=image/png:https://onemontgomerygreen.org/wp-content/uploads/2019/09/1567539748369-Climate_Strike_ANS.png
ORGANIZER;CN="Audubon Naturalist Society":MAILTO:contact@anshome.org
END:VEVENT
BEGIN:VEVENT
DTSTART;TZID=America/New_York:20190913T190000
DTEND;TZID=America/New_York:20190913T210000
DTSTAMP:20260421T120638
CREATED:20190913T220358Z
LAST-MODIFIED:20190913T221149Z
UID:4885-1568401200-1568408400@onemontgomerygreen.org
SUMMARY:Our World Is On Fire – Climate Change Discussion
DESCRIPTION:Our World Is On Fire  \nFriday\, September 13th  •  7 – 9 pm \nRiver Road Unitarian Universalist Congregation\, Fireside Room\, 6301 River Road\, Bethesda\, MD 20817  \nRussell Gray\, national coordinator for Extinction Rebellion U.S. will speak on the rising power of our youth in humanity’s greatest existential crisis: climate change.  \nOur world is on fire but no one is taking the extreme action needed to put the fire out. However\, our youth are rising up and demanding action. \nRussell Gray\, graduate of Cornell with a degree in economics\, left a position as an economist with the federal government to found and lead the DC chapter of Extinction Rebellion. \nHe will tell us why radical action is our only hope in the face of climate catastrophe confirmed by peer reviewed science. He will explain why a global climate strike is necessary and how we can take effective action to address the climate emergency during the upcoming Climate Strike and Week of Global Action\, September 20 – 27.  \nSnacks\, drinks will be provided. \nSponsored by Cedar Lane UU Environmental Justice Ministry\, MoCo chapter of The Climate Emergency\, and River Road UU Congregation. \nhttps://www.facebook.com/TCMMoCo/
URL:https://onemontgomerygreen.org/index.php/calendarevent/our-world-is-on-fire-climate-change-discussion/
LOCATION:River Road Unitarian Universalist Church\, 6301 River Road\, Bethesda\, MD\, 20817\, United States
CATEGORIES:climate,Climate Change,climate strike,discussion
ATTACH;FMTTYPE=image/jpeg:https://onemontgomerygreen.org/wp-content/uploads/2018/12/ClimateMobilizationMoCo.jpg
ORGANIZER;CN="The Climate Mobilization of Montgomery County%2C MD":MAILTO:jimwdriscoll@yahoo.com
END:VEVENT
BEGIN:VEVENT
DTSTART;TZID=America/New_York:20190910T183000
DTEND;TZID=America/New_York:20190910T203000
DTSTAMP:20260421T120638
CREATED:20190830T215704Z
LAST-MODIFIED:20190830T215736Z
UID:4811-1568140200-1568147400@onemontgomerygreen.org
SUMMARY:Climate Strike Art Build & Phone Banking Meet Up
DESCRIPTION:In two weeks\, we are building art & making calls to prepare for the global climate strike on 9/20. We’re partnering with Audubon Naturalist Society to put this fun and important event together. \nClimate Strike Art Build & Phone Banking Meet Up\nTuesday\, September 10\n6:30 – 8:30 pm\nWoodend Nature Sanctuary\n8940 Jones Mill Rd\, Chevy Chase\, MD\nRSVP Here! \nJoin 350 Montgomery County and Audubon (ANS) for an art build\, poster making session\, and phone bank ahead of the Global Youth Climate Strike! Come to have fun\, make beautiful protest art\, and meet your fellow strikers. We’ll also take turns on the phone calling other advocates to get them signed up to join the march. Don’t worry if you’ve never done it before–we’ll give you a script and everything you need\, just bring your cellphone and a set of head/ear phones! Click here to RSVP.
URL:https://onemontgomerygreen.org/index.php/calendarevent/climate-strike-art-build-phone-banking-meet-up/
LOCATION:Audubon Naturalist Society Woodend Sanctuary\, 8940 Jones Mill Road\, Chevy Chase\, MD\, 20815\, United States
CATEGORIES:advocacy,climate,Climate Change,climate strike
ATTACH;FMTTYPE=image/png:https://onemontgomerygreen.org/wp-content/uploads/2019/08/Copy_of_Climate_Strike_ANS.png
END:VEVENT
BEGIN:VEVENT
DTSTART;TZID=America/New_York:20190805T080000
DTEND;TZID=America/New_York:20190805T170000
DTSTAMP:20260421T120638
CREATED:20190805T214742Z
LAST-MODIFIED:20190805T214742Z
UID:4724-1564992000-1565024400@onemontgomerygreen.org
SUMMARY:US Youth Climate Strike at the Capitol
DESCRIPTION:US Youth Climate Strike at the Capitol\nFriday\, September 20  •  10 am\n\nSeptember 20\, at 10 am\, there will be student led climate protests at the Capitol. At 8 am\, there will be send off rallies at Metro stations\, including Silver Spring.  For more information on local actions\, contact Takoma Park Mobilization Environmental Committee at environment@tpmobilization.org.\n\n\n\n\n\n\nMISSION: \nWe\, the youth of America\, are striking because the science says we have just a few years to transform our energy system\, reduce our greenhouse gas emissions\, and prevent the worst effects of climate change. We are striking because our world leaders have yet to acknowledge\, prioritize\, or properly address our climate crisis. We are striking because marginalized communities across our nation —especially communities of color\, disabled communities\, and low- income communities—  are already disproportionately impacted by climate change. We are striking because if the social order is disrupted by our refusal to attend school\, then the system is forced to face the climate crisis and enact change. With our futures at stake\, we call for radical legislative action to combat climate change and its countless detrimental effects on the American people. We are striking for the Green New Deal\, for a fair and just transition to a 100% renewable economy\, and for ending the creation of additional fossil fuel infrastructure. Additionally\, we believe the climate crisis should be declared a national emergency because we are running out of time. \nFor more information\, https://www.youthclimatestrikeus.org/ \n\n 
URL:https://onemontgomerygreen.org/index.php/calendarevent/us-youth-climate-strike-at-the-capitol/
LOCATION:DC
CATEGORIES:climate,Climate Change,climate strike,March,students
ATTACH;FMTTYPE=image/jpeg:https://onemontgomerygreen.org/wp-content/uploads/2019/08/student-climate-protests-washington-dc-ap-19074649469970.jpg
END:VEVENT
END:VCALENDAR