BEGIN:VCALENDAR
VERSION:2.0
PRODID:-//One Montgomery Green - ECPv6.15.20//NONSGML v1.0//EN
CALSCALE:GREGORIAN
METHOD:PUBLISH
X-ORIGINAL-URL:https://onemontgomerygreen.org
X-WR-CALDESC:Events for One Montgomery Green
REFRESH-INTERVAL;VALUE=DURATION:PT1H
X-Robots-Tag:noindex
X-PUBLISHED-TTL:PT1H
BEGIN:VTIMEZONE
TZID:America/New_York
BEGIN:DAYLIGHT
TZOFFSETFROM:-0500
TZOFFSETTO:-0400
TZNAME:EDT
DTSTART:20220313T070000
END:DAYLIGHT
BEGIN:STANDARD
TZOFFSETFROM:-0400
TZOFFSETTO:-0500
TZNAME:EST
DTSTART:20221106T060000
END:STANDARD
BEGIN:DAYLIGHT
TZOFFSETFROM:-0500
TZOFFSETTO:-0400
TZNAME:EDT
DTSTART:20230312T070000
END:DAYLIGHT
BEGIN:STANDARD
TZOFFSETFROM:-0400
TZOFFSETTO:-0500
TZNAME:EST
DTSTART:20231105T060000
END:STANDARD
BEGIN:DAYLIGHT
TZOFFSETFROM:-0500
TZOFFSETTO:-0400
TZNAME:EDT
DTSTART:20240310T070000
END:DAYLIGHT
BEGIN:STANDARD
TZOFFSETFROM:-0400
TZOFFSETTO:-0500
TZNAME:EST
DTSTART:20241103T060000
END:STANDARD
BEGIN:DAYLIGHT
TZOFFSETFROM:-0500
TZOFFSETTO:-0400
TZNAME:EDT
DTSTART:20250309T070000
END:DAYLIGHT
BEGIN:STANDARD
TZOFFSETFROM:-0400
TZOFFSETTO:-0500
TZNAME:EST
DTSTART:20251102T060000
END:STANDARD
BEGIN:DAYLIGHT
TZOFFSETFROM:-0500
TZOFFSETTO:-0400
TZNAME:EDT
DTSTART:20260308T070000
END:DAYLIGHT
BEGIN:STANDARD
TZOFFSETFROM:-0400
TZOFFSETTO:-0500
TZNAME:EST
DTSTART:20261101T060000
END:STANDARD
END:VTIMEZONE
BEGIN:VEVENT
DTSTART;TZID=America/New_York:20250904T183000
DTEND;TZID=America/New_York:20250904T193000
DTSTAMP:20260420T080547
CREATED:20250830T214336Z
LAST-MODIFIED:20250830T214336Z
UID:12398-1757010600-1757014200@onemontgomerygreen.org
SUMMARY:DC EcoWomen Community Happy Hour
DESCRIPTION:Join DC EcoWomen for our September Community Happy Hour. \n+ Find out about upcoming events \n+ Share job openings and actions \n+ Meet current DCEW Board members and learn how to join the Board \nFOR MORE INFORMATION AND TO REGISTER
URL:https://onemontgomerygreen.org/index.php/calendarevent/dc-ecowomen-community-happy-hour/
LOCATION:Salazar\, 1819 14th Street\, NW\, Washington\, MD\, 20009\, United States
CATEGORIES:Community,community event,happy hour
ATTACH;FMTTYPE=image/jpeg:https://onemontgomerygreen.org/wp-content/uploads/2025/08/https___cdn.evbuc_.com_images_1100788423_1104505311633_1_original.jpg
END:VEVENT
BEGIN:VEVENT
DTSTART;TZID=America/New_York:20240615T123000
DTEND;TZID=America/New_York:20240615T150000
DTSTAMP:20260420T080547
CREATED:20240608T200832Z
LAST-MODIFIED:20240608T202326Z
UID:11167-1718454600-1718463600@onemontgomerygreen.org
SUMMARY:Muddy Branch Alliance Annual Community Meeting
DESCRIPTION:Muddy Branch Alliance Annual Community Meeting!\nSaturday\, June 15th at 12:30pm \nWe’ll be meeting at the beautiful Izaak Walton League in Gaithersburg to celebrate 13 years of Muddy Branch Alliance. \nIn addition to a tour of our native plant meadow and a stream monitoring demonstration\, there will be Q&A with Gaithersburg environmental program staff to learn about new initiatives in our community. \nWhen: 12:30 p.m. on Saturday June 15\nWhere: Izaak Walton League\,\n707 Conservation Lane in Gaithersburg \nRSVP: https://forms.gle/2QYZtdfD9ihAdqry8 \nThis is our most important meeting of the year! \nHelp us elect new board members\, celebrate accomplishments\, and get involved in new opportunities to  protect our home watershed. \nWe look forward to seeing you there!
URL:https://onemontgomerygreen.org/index.php/calendarevent/muddy-branch-alliance-annual-community-meeting/
LOCATION:Izaak Walton League of American Headquarters\, 707 Conservation Lane\, Gaithersburg\, MD\, 20878\, United States
CATEGORIES:annual meeting,celebration,community event
ATTACH;FMTTYPE=image/jpeg:https://onemontgomerygreen.org/wp-content/uploads/2020/02/cef5bab9-f6d5-47f1-8f7b-b25ce4b2883b.jpg
ORGANIZER;CN="Muddy Branch Alliance":MAILTO:muddybranchalliance@gmail.com
END:VEVENT
BEGIN:VEVENT
DTSTART;TZID=America/New_York:20230601T180000
DTEND;TZID=America/New_York:20230601T200000
DTSTAMP:20260420T080547
CREATED:20230529T225012Z
LAST-MODIFIED:20230529T225012Z
UID:10352-1685642400-1685649600@onemontgomerygreen.org
SUMMARY:Sierra Club Maryland: Power in the Park
DESCRIPTION:Want to volunteer?\nVolunteer support during the event is integral to making sure the event runs smoothly!  If you are interested in volunteering\, please select the “volunteer at event?” option below and attend the virtual interest meeting put on by the Power in the Park organizing team. Volunteer roles will include help with set-up & take down and supporting community organizations that are tabling. \nThe volunteer interest meeting which will be held on May 28th from 6:30-7:30. During the meeting\, we will discuss details for the event and sign-up for volunteer roles. Register in advance for this meeting. After registering\, you will receive a confirmation email containing information about joining the meeting. \nFor more information and to register
URL:https://onemontgomerygreen.org/index.php/calendarevent/sierra-club-maryland-power-in-the-park/
LOCATION:New Hampshire Estates Neighborhood Park\, 8825 Piney Branch Rd\, Silver Spring\, MD\, 20903\, United States
CATEGORIES:Committee Meeting,Community,community event
ATTACH;FMTTYPE=image/jpeg:https://onemontgomerygreen.org/wp-content/uploads/2023/05/rtaImage.jpg
END:VEVENT
BEGIN:VEVENT
DTSTART;TZID=America/New_York:20230326T150000
DTEND;TZID=America/New_York:20230326T163000
DTSTAMP:20260420T080547
CREATED:20230324T211809Z
LAST-MODIFIED:20230324T211809Z
UID:10190-1679842800-1679848200@onemontgomerygreen.org
SUMMARY:Community Conversation on Silver Spring Safety
DESCRIPTION:
URL:https://onemontgomerygreen.org/index.php/calendarevent/community-conversation-on-silver-spring-safety/
LOCATION:Silver Spring Civic Building at Veterans Plaza\, 1 Veterans Plaza\, Silver Spring\, MD\, 20910\, United States
CATEGORIES:Community,community event
ATTACH;FMTTYPE=image/jpeg:https://onemontgomerygreen.org/wp-content/uploads/2023/03/Silver-Spring-Safety-Community-Conversation-Flyer.jpg
END:VEVENT
BEGIN:VEVENT
DTSTART;TZID=America/New_York:20230215T160000
DTEND;TZID=America/New_York:20230215T180000
DTSTAMP:20260420T080547
CREATED:20230130T232450Z
LAST-MODIFIED:20230130T232450Z
UID:10008-1676476800-1676484000@onemontgomerygreen.org
SUMMARY:WSIZ Community Event: Tackling Food Waste
DESCRIPTION:The Wheaton Sustainable Innovation Zone (WSIZ) invites you to take part in an upcoming event to learn about tackling food waste in your business.  \nWednesday\, February 15  |  4pm – 6pm\nAgenda:\n4pm – 5pm: Tabling | Networking\n5pm – 6pm: Presentation | Q&A\n\n\nLOCATION \nWorkSource Montgomery\, 11510 Georgia Avenue\, Wheaton\, MD 20902\n\n\nREGISTER HERE\n\nThe restaurant industry spends an estimated $162 billion every year in costs related to wasted food. By composting in your restaurant you can minimize the amount of food waste that reaches landfills and reduce your overall operational costs. \n\nCome hear from local organizations and businesses offering commercial composting solutions and how to utilize composting to address the challenge of reducing food waste. \n\nPresenters: \n\nKathy Vasquez – Recycling and Resource Management Division\, Montgomery County Dept. of Environmental Protection \nJeffrey Neal – Founder\, Loop Closing \nKit Wood – Owner\, Green Plate Catering \n\n\nFor more information\, contact info@wsizmd.org\n\n\n\nThe Wheaton Sustainable Innovation Zone (WSIZ) is a collaboration between One Montgomery Green\, Bethesda Green and its partners to strengthen climate resilience and promote sustainable innovation in Wheaton\, Maryland.
URL:https://onemontgomerygreen.org/index.php/calendarevent/wsiz-community-event-tackling-food-waste/
LOCATION:Worksource Montgomery\, 11510 Georgia Ave\, Wheaton\, MD\, 20902\, United States
CATEGORIES:community event,Education,event
ATTACH;FMTTYPE=image/jpeg:https://onemontgomerygreen.org/wp-content/uploads/2023/01/WSIZ_TFWgraphic-x72HR-e1675119888489.jpg
ORGANIZER;CN="One Montgomery Green":MAILTO:info@onemontgomerygreen.org
END:VEVENT
END:VCALENDAR