BEGIN:VCALENDAR
VERSION:2.0
PRODID:-//One Montgomery Green - ECPv6.15.20//NONSGML v1.0//EN
CALSCALE:GREGORIAN
METHOD:PUBLISH
X-WR-CALNAME:One Montgomery Green
X-ORIGINAL-URL:https://onemontgomerygreen.org
X-WR-CALDESC:Events for One Montgomery Green
REFRESH-INTERVAL;VALUE=DURATION:PT1H
X-Robots-Tag:noindex
X-PUBLISHED-TTL:PT1H
BEGIN:VTIMEZONE
TZID:America/New_York
BEGIN:DAYLIGHT
TZOFFSETFROM:-0500
TZOFFSETTO:-0400
TZNAME:EDT
DTSTART:20190310T070000
END:DAYLIGHT
BEGIN:STANDARD
TZOFFSETFROM:-0400
TZOFFSETTO:-0500
TZNAME:EST
DTSTART:20191103T060000
END:STANDARD
BEGIN:DAYLIGHT
TZOFFSETFROM:-0500
TZOFFSETTO:-0400
TZNAME:EDT
DTSTART:20200308T070000
END:DAYLIGHT
BEGIN:STANDARD
TZOFFSETFROM:-0400
TZOFFSETTO:-0500
TZNAME:EST
DTSTART:20201101T060000
END:STANDARD
BEGIN:DAYLIGHT
TZOFFSETFROM:-0500
TZOFFSETTO:-0400
TZNAME:EDT
DTSTART:20210314T070000
END:DAYLIGHT
BEGIN:STANDARD
TZOFFSETFROM:-0400
TZOFFSETTO:-0500
TZNAME:EST
DTSTART:20211107T060000
END:STANDARD
BEGIN:DAYLIGHT
TZOFFSETFROM:-0500
TZOFFSETTO:-0400
TZNAME:EDT
DTSTART:20220313T070000
END:DAYLIGHT
BEGIN:STANDARD
TZOFFSETFROM:-0400
TZOFFSETTO:-0500
TZNAME:EST
DTSTART:20221106T060000
END:STANDARD
BEGIN:DAYLIGHT
TZOFFSETFROM:-0500
TZOFFSETTO:-0400
TZNAME:EDT
DTSTART:20230312T070000
END:DAYLIGHT
BEGIN:STANDARD
TZOFFSETFROM:-0400
TZOFFSETTO:-0500
TZNAME:EST
DTSTART:20231105T060000
END:STANDARD
BEGIN:DAYLIGHT
TZOFFSETFROM:-0500
TZOFFSETTO:-0400
TZNAME:EDT
DTSTART:20240310T070000
END:DAYLIGHT
BEGIN:STANDARD
TZOFFSETFROM:-0400
TZOFFSETTO:-0500
TZNAME:EST
DTSTART:20241103T060000
END:STANDARD
BEGIN:DAYLIGHT
TZOFFSETFROM:-0500
TZOFFSETTO:-0400
TZNAME:EDT
DTSTART:20250309T070000
END:DAYLIGHT
BEGIN:STANDARD
TZOFFSETFROM:-0400
TZOFFSETTO:-0500
TZNAME:EST
DTSTART:20251102T060000
END:STANDARD
END:VTIMEZONE
BEGIN:VEVENT
DTSTART;TZID=America/New_York:20241204T183000
DTEND;TZID=America/New_York:20241204T200000
DTSTAMP:20260425T070059
CREATED:20241201T214253Z
LAST-MODIFIED:20241201T214253Z
UID:11421-1733337000-1733342400@onemontgomerygreen.org
SUMMARY:December EcoHour with Alexis McKittrick\, U.S. DOE
DESCRIPTION:Wednesday\, December 4 · 6:30 – 8pm EST \nTeaism Penn Quarter\, 400 8th Street Northwest Washington\, DC 20004 \nJoin DC EcoWomen for an IN-PERSON EcoHour featuring clean energy technology expert\, Dr. Alexis McKittrick from the U.S. Department of Energy (DOE) Geothermal Technologies Office! This moderated discussion will focus on the DOE’s role in supporting research and development of geothermal technologies and how Alexis manages the hydrothermal and low temperature geothermal research portfolios. We’ll also highlight Alexis’s professional path in the energy and environment sectors and her experiences advancing diversity\, equity\, and inclusion (DEI) initiatives. \nGrab a refreshment for purchase on the ground level of Teaism and join us downstairs for the event. \nRegister: https://www.eventbrite.com/e/december-ecohour-with-alexis-mckittrick-us-doe-tickets-1089056670819
URL:https://onemontgomerygreen.org/index.php/calendarevent/december-ecohour-with-alexis-mckittrick-u-s-doe/
LOCATION:Teaism Penn Quarter\, 400 8th St NW\, Washington\, DC\, 20004\, United States
CATEGORIES:Eco Hour Speaker Series,EcoEvenings
ATTACH;FMTTYPE=image/jpeg:https://onemontgomerygreen.org/wp-content/uploads/2024/12/https___cdn.evbuc_.com_images_905202093_1104505311633_1_original.jpg
END:VEVENT
BEGIN:VEVENT
DTSTART;TZID=America/New_York:20240917T180000
DTEND;TZID=America/New_York:20240917T200000
DTSTAMP:20260425T070059
CREATED:20240912T223514Z
LAST-MODIFIED:20240912T225919Z
UID:11312-1726596000-1726603200@onemontgomerygreen.org
SUMMARY:DC EcoWomen EcoHour with Carmera Thomas-Wilhite
DESCRIPTION:Join DC EcoWomen for an in-person EcoHour featuring Carmera Thomas-Wilhite\, the first Vice President for Diversity\, Equity\, Inclusion and Justice at the Chesapeake Bay Foundation. This moderated discussion will highlight Carmera’s work in conservation to engage with underrepresented communities and advocate for equitable solutions for communities that are disproportionately impacted within the Chesapeake Bay region. Grab a refreshment for purchase on the ground level of Teaism and join us downstairs for the event. \nNOTE: DC EcoWomen events are open to women\, to those who identify as women\, to the LGBTQ community and gender-fluid individuals\, and to allies. \nDate: Tuesday\, September 17th\nTime: 6 – 8 PM ET\nLocation: Teaism Penn Quarter (400 8th Street Northwest Washington\, DC 20004)\nAdmission: FREE \nRegister here
URL:https://onemontgomerygreen.org/index.php/calendarevent/dc-ecowomen-ecohour-with-carmera-thomas-wilhite/
LOCATION:Teaism Penn Quarter\, 400 8th St NW\, Washington\, DC\, 20004\, United States
CATEGORIES:Eco Hour Speaker Series,EcoEvenings
ATTACH;FMTTYPE=image/png:https://onemontgomerygreen.org/wp-content/uploads/2024/09/Screen-Shot-2024-09-12-at-6.23.52-PM.png
END:VEVENT
BEGIN:VEVENT
DTSTART;TZID=America/New_York:20231121T173000
DTEND;TZID=America/New_York:20231121T190000
DTSTAMP:20260425T070059
CREATED:20231031T195525Z
LAST-MODIFIED:20231031T195525Z
UID:10675-1700587800-1700593200@onemontgomerygreen.org
SUMMARY:DCWomen November EcoHour
DESCRIPTION:Join DC EcoWomen for a special virtual EcoHour featuring renewable energy finance expert Ina Gjika\, who will be joining us from Albania! This moderated discussion will highlight Ina’s exciting international career path\, which started with finance-focused roles in Europe before she chose the clean energy sector as her focus as part of her master’s degree program in the United States. \nThis EcoHour will be taking place on November 21st from 5:30 to 7 PM ET\, and to be respectful of time zone differences\, will start promptly at 6pm – the Zoom link will be available starting at 5:30pm. The Zoom details will be sent to all who register in the week before the event. \nDC EcoWomen events are open to women and those who identify as women\, including members of the LGBTQ community and gender-fluid individuals. \n>>> Click here to register!
URL:https://onemontgomerygreen.org/index.php/calendarevent/dcwomen-november-ecohour/
LOCATION:DC
CATEGORIES:Eco Hour Speaker Series,Zoom event,Zoom meeting
ATTACH;FMTTYPE=image/png:https://onemontgomerygreen.org/wp-content/uploads/2023/10/Nov_2023_EcoHour.png
END:VEVENT
BEGIN:VEVENT
DTSTART;TZID=America/New_York:20230926T183000
DTEND;TZID=America/New_York:20230926T200000
DTSTAMP:20260425T070059
CREATED:20230924T200218Z
LAST-MODIFIED:20230924T200339Z
UID:10566-1695753000-1695758400@onemontgomerygreen.org
SUMMARY:DCWomen September EcoHour
DESCRIPTION:Join DCEW for EcoHour with Teresa Bernhard\, Acting Agency Environment Coordinator with USAID! \nTeresa Bernhard is a National Environmental Policy Act (NEPA) implementation expert. Earlier in her career while with the U.S. Navy\, her NEPA work focused on projects related to contaminated terrestrial and aquatic military property. \nSince 2009 when she joined USAID\, her environmental and social impact assessment work has covered a variety of sectors including health\, engineering\, energy\, agriculture\, and innovation. In March of 2020\, she was appointed the acting Agency Environmental Coordinator and in this position\, she acts as the USAID liaison to the President’s Council on Environmental Quality. \nWhen: September 26th\, 6:30 – 8:00 pm \nWhere: Martin Luther King Jr. Memorial Library\n901 G Street Northwest Washington\, DC 20001 \nRegister Here>>>
URL:https://onemontgomerygreen.org/index.php/calendarevent/10566/
LOCATION:Martin Luther King\, Jr. Memorial Library\, 901 G Street NW\, Washington\, MD\, 20001\, United States
CATEGORIES:Eco Hour Speaker Series
ATTACH;FMTTYPE=image/png:https://onemontgomerygreen.org/wp-content/uploads/2023/09/Sept_2023_EcoHour.png
END:VEVENT
BEGIN:VEVENT
DTSTART;TZID=America/New_York:20230816T180000
DTEND;TZID=America/New_York:20230816T200000
DTSTAMP:20260425T070059
CREATED:20230803T223119Z
LAST-MODIFIED:20230803T223119Z
UID:10496-1692208800-1692216000@onemontgomerygreen.org
SUMMARY:DC EcoWomen EcoHour with Damali Harding
DESCRIPTION:Join DC EcoWomen for our signature EcoHour on August 16! \nJoin DC EcoWomen and our featured guest\, Damali Harding for our signature EcoHour at Binge Bar on Wednesday\, August 16th at 6 pm. Ms. Harding is an expert in renewable energy and electric utilities and has provided strategic advising to Duke Energy\, National Grid and other major U.S. and international energy companies. \nBefore joining Regulatory Assistance Project (RAP)\, she worked for Oracle (formerly Opower)\, where she advised utilities on behavioral load shaping\, customer engagement strategies and demand response management. \nLearn more about Ms. Harding’s career and work by registering now to join her and DCEW for this in-person event at Binge Bar\, Washington DC’s FIRST booze free bar\, bistro and events space! \nRegister Here >>>
URL:https://onemontgomerygreen.org/index.php/calendarevent/dc-ecowomen-ecohour-with-damali-harding/
LOCATION:Binge Bar\, 506 H St NE LL\, Washington\, DC\, 20002\, United States
CATEGORIES:Eco Hour Speaker Series,EcoEvenings
ATTACH;FMTTYPE=image/png:https://onemontgomerygreen.org/wp-content/uploads/2023/08/August_2023_EcoHour.png
END:VEVENT
BEGIN:VEVENT
DTSTART;TZID=America/New_York:20230418T183000
DTEND;TZID=America/New_York:20230418T200000
DTSTAMP:20260425T070059
CREATED:20230410T175658Z
LAST-MODIFIED:20230410T175658Z
UID:10244-1681842600-1681848000@onemontgomerygreen.org
SUMMARY:DC EcoWomen EcoHour with Jenn Low
DESCRIPTION:Join us (IN PERSON!) on Tuesday\, April 18th at 6:30pm for an EcoHour featuring a conversation with Jenn Low\, Design Director from Openbox. \nJenn is an integrative designer\, educator\, and landscape architect with over fifteen years of experience in the planning and design of public spaces. As Design Director at Openbox\, Jenn works at the intersection of people-centered design and the built environment. She sees a more integrated approach is necessary to respond to the nuances of people’s experience with our physical environments\, which is fundamental to drive more just and equitable design outcomes. Before Openbox\, Jenn was a practicing Landscape Architect and led partnership and program initiatives at the Landscape Architecture Foundation\, the Urban Studio\, and the 1882 Foundation. \nDate and Time:\nTuesday\, April 18th 6:30 p.m. \nLocation:\nTeaism Penn Quarter\n400 8th Street Northwest\nWashington D.C. 20004 \nRegister Here>>>
URL:https://onemontgomerygreen.org/index.php/calendarevent/dc-ecowomen-ecohour-with-jenn-low/
LOCATION:Teaism Penn Quarter\, 400 8th St NW\, Washington\, DC\, 20004\, United States
CATEGORIES:Eco Hour Speaker Series,in-person
ATTACH;FMTTYPE=image/png:https://onemontgomerygreen.org/wp-content/uploads/2023/04/April_2023_EcoHour.png
END:VEVENT
BEGIN:VEVENT
DTSTART;TZID=America/New_York:20201117T183000
DTEND;TZID=America/New_York:20201117T200000
DTSTAMP:20260425T070059
CREATED:20201108T233408Z
LAST-MODIFIED:20201108T233408Z
UID:6985-1605637800-1605643200@onemontgomerygreen.org
SUMMARY:DC EcoWomen EcoHour Speaker: Caroline Cotto
DESCRIPTION:DC EcoWomen EcoHour Speaker: Caroline Cotto \nJoin us Tuesday\, November 17 at 6:30pm for DC EcoWomen’s signature EcoHour for a conversation with Caroline Cotto\, Co-Founder & Chief Operating Officer of Renewal Mill\, an upcycled food company. You will learn about Caroline’s career path in food marketing and nutrition\, as well as her perspective on how upcycling changes the environmental and economic impacts of the food industry. \nRegister here>>>
URL:https://onemontgomerygreen.org/index.php/calendarevent/dc-ecowomen-ecohour-speaker-caroline-cotto/
LOCATION:DC
CATEGORIES:Eco Hour Speaker Series,Virtual Event,virtual meeting
ATTACH;FMTTYPE=image/gif:https://onemontgomerygreen.org/wp-content/uploads/2020/05/dcecowomen_logo.gif
END:VEVENT
BEGIN:VEVENT
DTSTART;TZID=America/New_York:20201020T183000
DTEND;TZID=America/New_York:20201020T200000
DTSTAMP:20260425T070059
CREATED:20201019T184859Z
LAST-MODIFIED:20201019T184859Z
UID:6869-1603218600-1603224000@onemontgomerygreen.org
SUMMARY:DC EcoWomen EcoHour Speaker: Maxine Burkett
DESCRIPTION:DC EcoWomen EcoHour Speaker: Maxine Burkett \nJoin us on Tuesday\, October 20th at 6:30pm for DC EcoWomen’s signature EcoHour for a conversation with Maxine Burkett\, a climate justice and migration scholar\, lawyer\, and Professor of Law at the University of Hawai’i at Manoa. You will learn about Maxine’s career path as a lawyer and in academia\, as well as her pivotal research on climate change. \n*Please note: DC EcoWomen EcoHours are open to women and those who identify as women\, including members of the LGBTQ community and gender fluid individuals.” \nRegister here>>>
URL:https://onemontgomerygreen.org/index.php/calendarevent/dc-ecowomen-ecohour-speaker-maxine-burkett/
LOCATION:DC
CATEGORIES:Eco Hour Speaker Series,Virtual Event,virtual meeting
ATTACH;FMTTYPE=image/gif:https://onemontgomerygreen.org/wp-content/uploads/2020/05/dcecowomen_logo.gif
END:VEVENT
END:VCALENDAR