BEGIN:VCALENDAR
VERSION:2.0
PRODID:-//One Montgomery Green - ECPv6.15.20//NONSGML v1.0//EN
CALSCALE:GREGORIAN
METHOD:PUBLISH
X-ORIGINAL-URL:https://onemontgomerygreen.org
X-WR-CALDESC:Events for One Montgomery Green
REFRESH-INTERVAL;VALUE=DURATION:PT1H
X-Robots-Tag:noindex
X-PUBLISHED-TTL:PT1H
BEGIN:VTIMEZONE
TZID:America/New_York
BEGIN:DAYLIGHT
TZOFFSETFROM:-0500
TZOFFSETTO:-0400
TZNAME:EDT
DTSTART:20180311T070000
END:DAYLIGHT
BEGIN:STANDARD
TZOFFSETFROM:-0400
TZOFFSETTO:-0500
TZNAME:EST
DTSTART:20181104T060000
END:STANDARD
BEGIN:DAYLIGHT
TZOFFSETFROM:-0500
TZOFFSETTO:-0400
TZNAME:EDT
DTSTART:20190310T070000
END:DAYLIGHT
BEGIN:STANDARD
TZOFFSETFROM:-0400
TZOFFSETTO:-0500
TZNAME:EST
DTSTART:20191103T060000
END:STANDARD
BEGIN:DAYLIGHT
TZOFFSETFROM:-0500
TZOFFSETTO:-0400
TZNAME:EDT
DTSTART:20200308T070000
END:DAYLIGHT
BEGIN:STANDARD
TZOFFSETFROM:-0400
TZOFFSETTO:-0500
TZNAME:EST
DTSTART:20201101T060000
END:STANDARD
BEGIN:DAYLIGHT
TZOFFSETFROM:-0500
TZOFFSETTO:-0400
TZNAME:EDT
DTSTART:20210314T070000
END:DAYLIGHT
BEGIN:STANDARD
TZOFFSETFROM:-0400
TZOFFSETTO:-0500
TZNAME:EST
DTSTART:20211107T060000
END:STANDARD
BEGIN:DAYLIGHT
TZOFFSETFROM:-0500
TZOFFSETTO:-0400
TZNAME:EDT
DTSTART:20220313T070000
END:DAYLIGHT
BEGIN:STANDARD
TZOFFSETFROM:-0400
TZOFFSETTO:-0500
TZNAME:EST
DTSTART:20221106T060000
END:STANDARD
BEGIN:DAYLIGHT
TZOFFSETFROM:-0500
TZOFFSETTO:-0400
TZNAME:EDT
DTSTART:20230312T070000
END:DAYLIGHT
BEGIN:STANDARD
TZOFFSETFROM:-0400
TZOFFSETTO:-0500
TZNAME:EST
DTSTART:20231105T060000
END:STANDARD
BEGIN:DAYLIGHT
TZOFFSETFROM:-0500
TZOFFSETTO:-0400
TZNAME:EDT
DTSTART:20240310T070000
END:DAYLIGHT
BEGIN:STANDARD
TZOFFSETFROM:-0400
TZOFFSETTO:-0500
TZNAME:EST
DTSTART:20241103T060000
END:STANDARD
BEGIN:DAYLIGHT
TZOFFSETFROM:-0500
TZOFFSETTO:-0400
TZNAME:EDT
DTSTART:20250309T070000
END:DAYLIGHT
BEGIN:STANDARD
TZOFFSETFROM:-0400
TZOFFSETTO:-0500
TZNAME:EST
DTSTART:20251102T060000
END:STANDARD
BEGIN:DAYLIGHT
TZOFFSETFROM:-0500
TZOFFSETTO:-0400
TZNAME:EDT
DTSTART:20260308T070000
END:DAYLIGHT
BEGIN:STANDARD
TZOFFSETFROM:-0400
TZOFFSETTO:-0500
TZNAME:EST
DTSTART:20261101T060000
END:STANDARD
END:VTIMEZONE
BEGIN:VEVENT
DTSTART;TZID=America/New_York:20250920T100000
DTEND;TZID=America/New_York:20250920T160000
DTSTAMP:20260424T234103
CREATED:20250808T203931Z
LAST-MODIFIED:20250808T203931Z
UID:12305-1758362400-1758384000@onemontgomerygreen.org
SUMMARY:National Drive Electric Week Event at Poolesville Day 2025
DESCRIPTION:One Montgomery Green will partner with Poolesville Green\nNational Drive Electric Week Poolesville Day\nPoolesville\, MD\nSaturday\, September 20\, 2025 • 10 am – 4 pm\n \n\n\nLocation:  Anytime Fitness and Bassett’s Parking Lots\n19950 Fisher Ave\nPoolesville\, MD 20837\n\n\n\n\nWelcome\, all! You are what this event is all about.\nPlease register for the latest updates (https://poolesville.green/NDEW).\n\nWe expect more visitors\, highlights including EV101 & EV Charging Q&A sessions\, sponsors\, manufacturers & dealerships\, ride & drives\, give-aways & more FUN this year! Let’s make 2024 the biggest & best year ever.\n\nPlease ask questions! We all love to share the pros and cons of EV driving.\nTake Test Drives! Many are offering Test Rides and Drives\, ask at the check-in tent (qualifies for free drawings).
URL:https://onemontgomerygreen.org/index.php/calendarevent/national-drive-electric-week-event-at-poolesville-day-2025/
LOCATION:Poolesville Parking Lot at Rt 109 and Rt 107 (Anytime Fitness Parking lot across from Basset’s Restaurant)\, 19950 Fisher Ave\, Poolesville\, MD\, 20837\, United States
CATEGORIES:1OMG,electric car show,electric vehicle show,festival,parade,Poolesville Day
ATTACH;FMTTYPE=image/png:https://onemontgomerygreen.org/wp-content/uploads/2025/08/PoolesvilleGreenLogo-small-height-180px.png
END:VEVENT
BEGIN:VEVENT
DTSTART;TZID=America/New_York:20240921T100000
DTEND;TZID=America/New_York:20240921T160000
DTSTAMP:20260424T234103
CREATED:20240618T210420Z
LAST-MODIFIED:20240618T210420Z
UID:11199-1726912800-1726934400@onemontgomerygreen.org
SUMMARY:National Drive Electric Week Event at Poolesville Day 2024 
DESCRIPTION:One Montgomery Green will partner with \n \nNational Drive Electric Week Event at Poolesville Day 2024 \n \n \nJoin One Montgomery Green as we support Poolesville Green at National Drive Electric Poolesville Day 2023\nSaturday\, September 21\, 2024 • 10:00 am – 4:00 pm\n Poolesville Parking Lot at Rt 109 and Rt 107\n(Anytime Fitness Parking lot across from Basset’s Restaurant)\n19942 Fisher Ave\, Poolesville\, MD 20837 \n\nRegister here now at https://Poolesville.Green/NDEW  (direct link: https://driveelectricweek.org/event?eventid=4122)\n\n\nCheck out prior year events at Poolesville.Green: https://poolesville.green/category/drive-electric/ \n\nFor the latest What to Do\, PLEASE check out: https://poolesville.green/what-to-do/ \nStay current on coming Electric Vehicle posts and check out prior years’ events and posts at: https://poolesville.green/category/drive-electric/ \nPLEASE click on “Going” on the Facebook event page: Coming Soon and then join the Facebook Group at https://www.facebook.com/groups/PoolesvilleNDEW/ for discussions\, updates\, photos\, and more.
URL:https://onemontgomerygreen.org/index.php/calendarevent/national-drive-electric-week-event-at-poolesville-day-2024/
LOCATION:Poolesville Parking Lot at Rt 109 and Rt 107 (Anytime Fitness Parking lot across from Basset’s Restaurant)\, 19950 Fisher Ave\, Poolesville\, MD\, 20837\, United States
CATEGORIES:1OMG,electric car show,Electric cars,festival,parade
ATTACH;FMTTYPE=image/jpeg:https://onemontgomerygreen.org/wp-content/uploads/2024/06/2024_Web_DriveElectricPoolesville.jpg
END:VEVENT
BEGIN:VEVENT
DTSTART;TZID=America/New_York:20191110T090000
DTEND;TZID=America/New_York:20191110T130000
DTSTAMP:20260424T234103
CREATED:20191106T202320Z
LAST-MODIFIED:20191106T202320Z
UID:5186-1573376400-1573390800@onemontgomerygreen.org
SUMMARY:RS Automotive 1st Annual Electric Vehicle Car Show
DESCRIPTION:RS Automotive 1st Annual Electric Vehicle Car Show\nSunday\, November 10th  •  9:00 a.m.- 1:00 p.m.\n7224 Carroll Ave.\, Takoma Park\, MD 20912 \n\nAnnouncing the 1st Annual Electric Vehicle Car Show this Sunday\, November 10th from 9:00 am – 1:00 pm presented by RS Automotive.\nCheck out electric vehicles from Tesla\, Nissan\, Kia\, BMW\, Audi and Chevrolet at the nation’s FIRST converted gasoline-to-electric service station\nmore info here
URL:https://onemontgomerygreen.org/index.php/calendarevent/rs-automotive-1st-annual-electric-vehicle-car-show/
LOCATION:RS Automotive\, 7224 Carroll Avenue\, Takoma Park\, MD\, 20912\, United States
CATEGORIES:electric car show,Electric cars
ATTACH;FMTTYPE=image/jpeg:https://onemontgomerygreen.org/wp-content/uploads/2019/11/RSAutomotive.jpg
END:VEVENT
END:VCALENDAR