BEGIN:VCALENDAR
VERSION:2.0
PRODID:-//One Montgomery Green - ECPv6.15.20//NONSGML v1.0//EN
CALSCALE:GREGORIAN
METHOD:PUBLISH
X-WR-CALNAME:One Montgomery Green
X-ORIGINAL-URL:https://onemontgomerygreen.org
X-WR-CALDESC:Events for One Montgomery Green
REFRESH-INTERVAL;VALUE=DURATION:PT1H
X-Robots-Tag:noindex
X-PUBLISHED-TTL:PT1H
BEGIN:VTIMEZONE
TZID:America/New_York
BEGIN:DAYLIGHT
TZOFFSETFROM:-0500
TZOFFSETTO:-0400
TZNAME:EDT
DTSTART:20180311T070000
END:DAYLIGHT
BEGIN:STANDARD
TZOFFSETFROM:-0400
TZOFFSETTO:-0500
TZNAME:EST
DTSTART:20181104T060000
END:STANDARD
BEGIN:DAYLIGHT
TZOFFSETFROM:-0500
TZOFFSETTO:-0400
TZNAME:EDT
DTSTART:20190310T070000
END:DAYLIGHT
BEGIN:STANDARD
TZOFFSETFROM:-0400
TZOFFSETTO:-0500
TZNAME:EST
DTSTART:20191103T060000
END:STANDARD
BEGIN:DAYLIGHT
TZOFFSETFROM:-0500
TZOFFSETTO:-0400
TZNAME:EDT
DTSTART:20200308T070000
END:DAYLIGHT
BEGIN:STANDARD
TZOFFSETFROM:-0400
TZOFFSETTO:-0500
TZNAME:EST
DTSTART:20201101T060000
END:STANDARD
BEGIN:DAYLIGHT
TZOFFSETFROM:-0500
TZOFFSETTO:-0400
TZNAME:EDT
DTSTART:20210314T070000
END:DAYLIGHT
BEGIN:STANDARD
TZOFFSETFROM:-0400
TZOFFSETTO:-0500
TZNAME:EST
DTSTART:20211107T060000
END:STANDARD
BEGIN:DAYLIGHT
TZOFFSETFROM:-0500
TZOFFSETTO:-0400
TZNAME:EDT
DTSTART:20220313T070000
END:DAYLIGHT
BEGIN:STANDARD
TZOFFSETFROM:-0400
TZOFFSETTO:-0500
TZNAME:EST
DTSTART:20221106T060000
END:STANDARD
END:VTIMEZONE
BEGIN:VEVENT
DTSTART;TZID=America/New_York:20210624T100000
DTEND;TZID=America/New_York:20210624T120000
DTSTAMP:20260422T110322
CREATED:20210601T131022Z
LAST-MODIFIED:20210601T131022Z
UID:7717-1624528800-1624536000@onemontgomerygreen.org
SUMMARY:USGBC MD\, NCR\, & VA Present: Local Government Leadership Panel
DESCRIPTION:With many powerful competing interests operating at the national and state level\, the past decade has shown that innovation in green building policy has often occurred at the local level of government. Across DC\, Maryland and Virginia local policymakers\, advocates and building industry stakeholders are working more closely than ever to find creative\, economically viable solutions for meeting energy and climate goals in an equitable fashion. As more and more elected officials across the region make ambitious climate\, energy and equity commitments at the local level\, the challenges of funding programs and changing the status quo becomes more apparent. \nFrom green building codes and LEED incentives to benchmarking regulations to climate action plans\, DC\, Maryland and Virginia local governments have successfully implemented some of the most progressive sustainability agendas in the country. This leadership panel will feature local government leaders from cities and counties across DC-MD-VA region who will discuss their experiences in crafting and implementing some of the most aggressive building codes\, policies and incentive programs in the nation. \n\n\nSpeakers:\n\nAdriana Hochberg\, Assistant Chief Operating Officer\, Montgomery County\, MD Government\nCasey Studhalter\, Program Analyst\, DC department of Energy and Environment\nLouisa Rettew\, Project Engineer\, Baltimore County\nNell Boyle\, Sustainability/Outreach Coordinator\, City of Roanoke\, VA\nModerator: Cliff Majersik\, Senior Advisor\, Policy and Programs\, Institute for Market Transformation
URL:https://onemontgomerygreen.org/index.php/calendarevent/usgbc-md-ncr-va-present-local-government-leadership-panel/
LOCATION:virtual
CATEGORIES:citizens meeting,Community,Education,Environment,Environment Committee Meeting,Green,Nature,open meeting,sustainability,Virtual Event,virtual meeting
ATTACH;FMTTYPE=image/jpeg:https://onemontgomerygreen.org/wp-content/uploads/2021/06/https___cdn.evbuc_.com_images_136112523_209030468989_1_original.jpg
END:VEVENT
BEGIN:VEVENT
DTSTART;TZID=America/New_York:20210422T120000
DTEND;TZID=America/New_York:20210422T200000
DTSTAMP:20260422T110322
CREATED:20210420T172937Z
LAST-MODIFIED:20210420T172937Z
UID:7602-1619092800-1619121600@onemontgomerygreen.org
SUMMARY:EARTHDAY‍.ORG's Second-Annual "Earth Day Live: Restore Our Earth" Digital Livestream Event
DESCRIPTION:To spur climate action and bring awareness to humanity’s greatest existential threat\, EARTHDAY‍.ORG will bring together activists\, educators\, researchers\, musicians\, artists\, influencers and more for its second-annual Earth Day Live: Restore Our Earth digital livestream event \nThe initial announcement of incredible participants for this year’s event includes: \n  \nAJR\, Band\nHis Serene Highness Prince Albert II of Monaco\nAlexandria Villasenor\, Founder of Earth Uprising and Youth Climate Activist\nAmita N. Vyas\, PhD\, MHS\, Professor at George Washington University Milken Institute School of Public Health and Director of the Center of Excellence in Maternal and Child Health\nAndrea Illy\, Chairman of illycaffè\nBrothers Osborne and Lucie Silvas\, Musicians\nCaue Suplicy\, Founder and Chairman of Barnana\nChris Packham\, Award-Winning Conservationist\, Photographer and Author\nSen. Edward Markey (D-MA)\nElizabeth Whitlow\, Executive Director\, Regenerative Organic Certified\nGabriel Quijandría\, Minister of the Environment\, Peru\nGrace Potter\, Musician\nHaldis Holst\, Deputy General Secretary of Education International\nHeba Alfarra\, United Nations Environment Champion of the Earth for West Asia and Founder of Women in Energy & Environment at MENA Region\nIbrahim Thiaw\, Executive Secretary of the United Nations Convention to Combat Desertification\nJames Gaspard\, CEO of Biochar Now LLC\nJustin Kamine\, Co-Founder and Partner of KDC Agriculture and EARTHDAY‍.ORG Board Member\nKristen Bell\, Actress and Producer\nLicypriya Kangujam\, 9-year-old Climate Activist & Founder of The Child Movement\nMarianne Williamson\, Author\nMary Steenburgen\, Actor and Musician\nMichael S. Regan\, EPA Administrator\nDr. Michael Greger\, Founder of NutritionFacts.org\, Physician\, Plant-based diet Advocate \nAnd many more! \n  \n\n\n\n\n\n\n\n\n\n\nFor more information on Earth Day Live and Earth Day 2021\, please visit: https://www.earthday.org/earth-day-2021/
URL:https://onemontgomerygreen.org/index.php/calendarevent/earthday%e2%80%8d-orgs-second-annual-earth-day-live-restore-our-earth-digital-livestream-event/
LOCATION:virtual
CATEGORIES:advocacy,Agriculture,annual meeting,author talk,climate,climate action,Climate Change,Community,Conference,Congress,conservation,convention,conversation,digital,digital summit,energy professionals,Energy Summit,Environment,Environment Committee Meeting,environmental film festival,Environmental Summit,event,Facebook Live,film screening,fun for families,Green Festival
ATTACH;FMTTYPE=image/png:https://onemontgomerygreen.org/wp-content/uploads/2021/04/Screen-Shot-2021-04-20-at-1.22.37-PM.png
END:VEVENT
BEGIN:VEVENT
DTSTART;TZID=America/New_York:20200121T190000
DTEND;TZID=America/New_York:20200121T210000
DTSTAMP:20260422T110322
CREATED:20191229T185115Z
LAST-MODIFIED:20191229T185115Z
UID:5397-1579633200-1579640400@onemontgomerygreen.org
SUMMARY:350MoCo January Monthly Meeting
DESCRIPTION:350MoCo January Monthly Meeting\nTuesday\, January 21  •  7:00 – 9:00 pm\nAspen Hill Library\n4407 Aspen Hill Rd\, Rockville\, MD \nIt’s a new year … please jump in and get involved in our important climate grassroots work! \nRSVP Here! \n(optional but appreciated – we provide snacks and drinks)
URL:https://onemontgomerygreen.org/index.php/calendarevent/350moco-january-monthly-meeting/
LOCATION:Aspen Hill Library\, 4407 Aspen Hill Rd\, Rockville\, MD\, 20853\, United States
CATEGORIES:advocacy,climate,Climate Change,Community,Environment,Environment Committee Meeting,monthly meeting,Public Meeting
ATTACH;FMTTYPE=image/png:https://onemontgomerygreen.org/wp-content/uploads/2019/01/New_Email_Wrapper_take_2_1.png
END:VEVENT
BEGIN:VEVENT
DTSTART;TZID=America/New_York:20191022T190000
DTEND;TZID=America/New_York:20191022T210000
DTSTAMP:20260422T110322
CREATED:20190927T224228Z
LAST-MODIFIED:20190927T224318Z
UID:5024-1571770800-1571778000@onemontgomerygreen.org
SUMMARY:Takoma Park Mobilization Environment Committee Meeting
DESCRIPTION:Takoma Park Mobilization Environment Committee Meeting \n Tuesday\, October 22 at 7-9 pm at Historic Takoma\, 7328 Carroll Avenue\, Takoma Park\, MD 20912 \nWe look forward to debriefing the successful town hall event and to talk about next steps.  \nContact TPMEC at environment@tpmobilization.org.
URL:https://onemontgomerygreen.org/index.php/calendarevent/takoma-park-mobilization-environment-committee-meeting-3/
LOCATION:Historic Takoma Inc.\, 7328 Carrol Ave.\, Takoma Park\, MD\, 20912\, United States
CATEGORIES:Environment,Environment Committee Meeting
ATTACH;FMTTYPE=image/jpeg:https://onemontgomerygreen.org/wp-content/uploads/2019/08/TakomaParkMobilization.jpg
ORGANIZER;CN="Takoma Park Mobilization Environmental Committee":MAILTO:environment@tpmobilization.org
END:VEVENT
BEGIN:VEVENT
DTSTART;TZID=America/New_York:20190213T190000
DTEND;TZID=America/New_York:20190213T210000
DTSTAMP:20260422T110322
CREATED:20190212T162602Z
LAST-MODIFIED:20190212T163018Z
UID:3814-1550084400-1550091600@onemontgomerygreen.org
SUMMARY:Takoma Park Mobilization Environment Committee Meeting
DESCRIPTION:Takoma Park Mobilization Environment Committee Meeting \n Wednesday\, February 13 at 7-9 pm at Historic Takoma\, 7328 Carroll Avenue\, Takoma Park\, MD 20912 \nIn 2019\, TPMEC’s advocacy focus will include climate-related Maryland legislation\, particularly: \n\nCLEAN ENERGY JOBS ACT – Expand MD renewable electricity requirement to 50% by 2030 with a path to 100% renewable by 2040\nGREEN AND HEALTHY MARYLAND AMENDMENT – Amendment to MD Constitution to protect our rights to a healthy environment now and in the future\nEXPANDED POLYSTYRENE FOAM FOOD PACKAGING BAN – Single serving food packaging\, currently banned in MoCo and PG Counties\, to be extended statewide\nPROHIBITION ON USE OF CHLORPYRIFOS – Ban chlorpyrifos pesticide use in agriculture (currently banned for residential use)\nCOMMUNITY SOLAR PILOT EXTENSION – extend community solar pilot program for five more years\n\nContact TPMEC at environment@tpmobilization.org.
URL:https://onemontgomerygreen.org/index.php/calendarevent/takoma-park-mobilization-environment-committee-meeting/
LOCATION:Historic Takoma Inc.\, 7328 Carrol Ave.\, Takoma Park\, MD\, 20912\, United States
CATEGORIES:Environment,Environment Committee Meeting,monthly meeting,open meeting
ATTACH;FMTTYPE=image/jpeg:https://onemontgomerygreen.org/wp-content/uploads/2019/02/sisken-climatemarch1-1-of-1-768x512.jpg
ORGANIZER;CN="Takoma Park Mobilization Environmental Committee":MAILTO:environment@tpmobilization.org
END:VEVENT
END:VCALENDAR