BEGIN:VCALENDAR
VERSION:2.0
PRODID:-//One Montgomery Green - ECPv6.15.20//NONSGML v1.0//EN
CALSCALE:GREGORIAN
METHOD:PUBLISH
X-ORIGINAL-URL:https://onemontgomerygreen.org
X-WR-CALDESC:Events for One Montgomery Green
REFRESH-INTERVAL;VALUE=DURATION:PT1H
X-Robots-Tag:noindex
X-PUBLISHED-TTL:PT1H
BEGIN:VTIMEZONE
TZID:America/New_York
BEGIN:DAYLIGHT
TZOFFSETFROM:-0500
TZOFFSETTO:-0400
TZNAME:EDT
DTSTART:20170312T070000
END:DAYLIGHT
BEGIN:STANDARD
TZOFFSETFROM:-0400
TZOFFSETTO:-0500
TZNAME:EST
DTSTART:20171105T060000
END:STANDARD
BEGIN:DAYLIGHT
TZOFFSETFROM:-0500
TZOFFSETTO:-0400
TZNAME:EDT
DTSTART:20180311T070000
END:DAYLIGHT
BEGIN:STANDARD
TZOFFSETFROM:-0400
TZOFFSETTO:-0500
TZNAME:EST
DTSTART:20181104T060000
END:STANDARD
BEGIN:DAYLIGHT
TZOFFSETFROM:-0500
TZOFFSETTO:-0400
TZNAME:EDT
DTSTART:20190310T070000
END:DAYLIGHT
BEGIN:STANDARD
TZOFFSETFROM:-0400
TZOFFSETTO:-0500
TZNAME:EST
DTSTART:20191103T060000
END:STANDARD
BEGIN:DAYLIGHT
TZOFFSETFROM:-0500
TZOFFSETTO:-0400
TZNAME:EDT
DTSTART:20200308T070000
END:DAYLIGHT
BEGIN:STANDARD
TZOFFSETFROM:-0400
TZOFFSETTO:-0500
TZNAME:EST
DTSTART:20201101T060000
END:STANDARD
BEGIN:DAYLIGHT
TZOFFSETFROM:-0500
TZOFFSETTO:-0400
TZNAME:EDT
DTSTART:20210314T070000
END:DAYLIGHT
BEGIN:STANDARD
TZOFFSETFROM:-0400
TZOFFSETTO:-0500
TZNAME:EST
DTSTART:20211107T060000
END:STANDARD
BEGIN:DAYLIGHT
TZOFFSETFROM:-0500
TZOFFSETTO:-0400
TZNAME:EDT
DTSTART:20220313T070000
END:DAYLIGHT
BEGIN:STANDARD
TZOFFSETFROM:-0400
TZOFFSETTO:-0500
TZNAME:EST
DTSTART:20221106T060000
END:STANDARD
BEGIN:DAYLIGHT
TZOFFSETFROM:-0500
TZOFFSETTO:-0400
TZNAME:EDT
DTSTART:20230312T070000
END:DAYLIGHT
BEGIN:STANDARD
TZOFFSETFROM:-0400
TZOFFSETTO:-0500
TZNAME:EST
DTSTART:20231105T060000
END:STANDARD
BEGIN:DAYLIGHT
TZOFFSETFROM:-0500
TZOFFSETTO:-0400
TZNAME:EDT
DTSTART:20240310T070000
END:DAYLIGHT
BEGIN:STANDARD
TZOFFSETFROM:-0400
TZOFFSETTO:-0500
TZNAME:EST
DTSTART:20241103T060000
END:STANDARD
BEGIN:DAYLIGHT
TZOFFSETFROM:-0500
TZOFFSETTO:-0400
TZNAME:EDT
DTSTART:20250309T070000
END:DAYLIGHT
BEGIN:STANDARD
TZOFFSETFROM:-0400
TZOFFSETTO:-0500
TZNAME:EST
DTSTART:20251102T060000
END:STANDARD
BEGIN:DAYLIGHT
TZOFFSETFROM:-0500
TZOFFSETTO:-0400
TZNAME:EDT
DTSTART:20260308T070000
END:DAYLIGHT
BEGIN:STANDARD
TZOFFSETFROM:-0400
TZOFFSETTO:-0500
TZNAME:EST
DTSTART:20261101T060000
END:STANDARD
BEGIN:DAYLIGHT
TZOFFSETFROM:-0500
TZOFFSETTO:-0400
TZNAME:EDT
DTSTART:20270314T070000
END:DAYLIGHT
BEGIN:STANDARD
TZOFFSETFROM:-0400
TZOFFSETTO:-0500
TZNAME:EST
DTSTART:20271107T060000
END:STANDARD
END:VTIMEZONE
BEGIN:VEVENT
DTSTART;TZID=America/New_York:20260311T170000
DTEND;TZID=America/New_York:20260311T190000
DTSTAMP:20260421T200849
CREATED:20260225T223242Z
LAST-MODIFIED:20260225T223242Z
UID:12764-1773248400-1773255600@onemontgomerygreen.org
SUMMARY:Clean Energy & Community Resources Day
DESCRIPTION:Wednesday\, March 11 from 5 pm to 7 pm\nMontgomery County Green Bank\n21 Church Street\, #Suite 100 Rockville\, MD 20850\nFor more information and to register
URL:https://onemontgomerygreen.org/index.php/calendarevent/clean-energy-community-resources-day/
CATEGORIES:event,expo
END:VEVENT
BEGIN:VEVENT
DTSTART;TZID=America/New_York:20251023T083000
DTEND;TZID=America/New_York:20251023T180000
DTSTAMP:20260421T200849
CREATED:20250925T203108Z
LAST-MODIFIED:20250925T203206Z
UID:12515-1761208200-1761242400@onemontgomerygreen.org
SUMMARY:2025 Clean Energy & Transportation Annual Conference\, Expo\, Awards Luncheon
DESCRIPTION:2025 Clean Energy & Transportation Annual Conference\, Expo\, Awards Luncheon \nFor more information: https://gwrccc.org/event/2025-annual-conference-expo-awards-luncheon/ \n 
URL:https://onemontgomerygreen.org/index.php/calendarevent/2025-clean-energy-transportation-annual-conference-expo-awards-luncheon/
LOCATION:Martin’s Crosswinds\, 7400 Greenway Center Dr\, Greenbelt\, MD\, 20770\, United States
CATEGORIES:Award Presentation,Awards,Conference,expo
ATTACH;FMTTYPE=image/jpeg:https://onemontgomerygreen.org/wp-content/uploads/2025/09/https___cdn.evbuc_.com_images_1087902933_765129867323_1_original.jpg
END:VEVENT
BEGIN:VEVENT
DTSTART;TZID=America/New_York:20250927T090000
DTEND;TZID=America/New_York:20250927T130000
DTSTAMP:20260421T200849
CREATED:20250831T193306Z
LAST-MODIFIED:20250831T193306Z
UID:12433-1758963600-1758978000@onemontgomerygreen.org
SUMMARY:EV Expo & Community Yard Sale
DESCRIPTION:EV Expo & Community Yard Sale\nSaturday\, September 27\, 9 am – 1pm \nRain Date: Sunday\, September 28\, 9am – 1pm\n\n\nEV Expo information:\nhttps://driveelectricmonth.org/event?eventid=5009\n\nCommunity Yard Sale Information/:\nhttps://forms.gle/5pgCgmGZ8n3sZNrw6\n\nCome learn about electric vehicles at Kenmont Swim & Tennis Club in Kensington Heights!\nWe’ll have up to 5 electric vehicles on display\, and the best part is you’ll be able to talk directly with your neighbors who already drive them. Ask about charging at home\, public charging\, rebates\, and what day-to-day EV ownership is really like. No sales pitches—just friendly\, firsthand conversations with people you know and trust.\n\nCommunity Yard Sale\nSaturday\, September 27\, 9 am – 1pm \nRain Date: Sunday\, September 28\, 9am – 1pm \nKenmont Pool Parking Lot\n2900 Faulkner Place\, Kensington\nToys\, Games\, Housewares\, Gifts\, Clothing\,\nBooks\, Crafts\, and More\nFor Sellers: Purchase a parking space-sized spot for just\n$25. Venmo @Kenmont-Tsunami. Put your email in\nPayment Details. Bring your own table and chair.\n\nIf you have any questions\, email Bethmargoliesmeyer@gmail.com\nProceeds benefit the Kenmont Tsunami Swim Team.
URL:https://onemontgomerygreen.org/index.php/calendarevent/ev-expo-community-yard-sale/
LOCATION:Kenmont Pool\, 2900 Faulkner Place\, Kensington\, MD\, 20895\, United States
CATEGORIES:expo,yard sale
ATTACH;FMTTYPE=image/png:https://onemontgomerygreen.org/wp-content/uploads/2025/08/NDEW-logo-e1756668376425.png
END:VEVENT
BEGIN:VEVENT
DTSTART;TZID=America/New_York:20250330T000000
DTEND;TZID=America/New_York:20250331T000000
DTSTAMP:20260421T200849
CREATED:20250306T201845Z
LAST-MODIFIED:20250306T202249Z
UID:11835-1743292800-1743379200@onemontgomerygreen.org
SUMMARY:MoCo Eats
DESCRIPTION:MoCo Eats
URL:https://onemontgomerygreen.org/index.php/calendarevent/moco-eats/
CATEGORIES:1OMG,expo
ATTACH;FMTTYPE=image/jpeg:https://onemontgomerygreen.org/wp-content/uploads/2025/03/MoCoEatsShowcase-1200x628-1-1024x536-1.jpg
END:VEVENT
BEGIN:VEVENT
DTSTART;TZID=America/New_York:20231128T160000
DTEND;TZID=America/New_York:20231128T190000
DTSTAMP:20260421T200849
CREATED:20231121T214755Z
LAST-MODIFIED:20231122T153501Z
UID:10699-1701187200-1701198000@onemontgomerygreen.org
SUMMARY:Gift Outside the Box Fair
DESCRIPTION:Gift Outside the Box Fair  \nTuesday\, November 28\, 2023\, 4 – 7pm \nWheaton Library\, 2400 Arcola Ave\, Wheaton\, MD 20902 \nThis is a bilingual message\Este es un mensaje bilingüe \nDiscover ways to Gift Greener\, Gift Experiences\, Give Back and Buy Local. Raffles\, giveaways\, and activities for all including demonstrations on how to use recycled items for gift wrapping. Bring gift wrap you may not want to use any more for a gift wrap swap!  \nEvent will be in the Multi-Purpose Rm\, #132 in the Wheaton Library. \nThe amount of household waste in the U.S. increases an average of 25% between Thanksgiving and New Year’s Day (EPA). \nWrapping paper\, decorations\, packaging\, and leftover food (and sometimes even the gifts we buy)\, often don’t last long and end up in the waste stream. Help us kick off an eco-friendly holiday season! \nMore info: Gift Outside the Box or call Ana Arriaza at 240-506-4419.  \n______________________________ \nDescubra como regalar de forma más ecológica\, regalar experiencias\, retribuir y comprar productos locales. Rifas\, obsequios y actividades para todos\, incluyendo demostraciones sobre cómo usar artículos reciclados para envolver regalos. ¡Traiga papel de regalo que tal vez ya no desee usar para un intercambio de papel de regalo! \nEl evento será en el Multi-Purpose Rm\, #132 en la biblioteca de Wheaton. \nLa cantidad de desechos domésticos en los EE. UU. aumenta un promedio del 25% entre el Día de Acción de Gracias y el Día de Año Nuevo (EPA). \nEl papel de regalo\, las decoraciones\, los envases y los restos de comida (y a veces incluso los regalos que compramos)\, a menudo no duran mucho y terminan en el flujo de desechos. ¡Ayúdanos a iniciar una temporada navideña ecológica! \nMás información: Gift Outside the Box o llame a Ana Arriaza al 240-506-4419. \n________________________________ \nFor more information
URL:https://onemontgomerygreen.org/index.php/calendarevent/gift-outside-the-box-fair/
LOCATION:Wheaton Library\, 11701 Georgia Ave\, Wheaton\, MD\, 20902\, United States
CATEGORIES:1OMG,expo,Fairs & Festivals
ATTACH;FMTTYPE=image/png:https://onemontgomerygreen.org/wp-content/uploads/2023/11/mail-1.png
ORGANIZER;CN="One Montgomery Green":MAILTO:info@onemontgomerygreen.org
END:VEVENT
BEGIN:VEVENT
DTSTART;TZID=America/New_York:20230323T180000
DTEND;TZID=America/New_York:20230323T200000
DTSTAMP:20260421T200849
CREATED:20230106T212127Z
LAST-MODIFIED:20230106T212127Z
UID:9978-1679594400-1679601600@onemontgomerygreen.org
SUMMARY:Greater Silver Spring Chamber of Commerce SchmoozaPalooza
DESCRIPTION:Celebrating the Greater Silver Spring Chamber’s 30th Anniversary and featuring food from Discover the Taste of Silver Spring®\, popular business expo and networking extravaganza SchmoozaPalooza returns Thursday\, March 23\, 2023.\n\n\n6 p.m. to 8 p.m.  •  Thursday\, March 23  •  The Fillmore Silver Spring\n\n\nThis event is the perfect opportunity to:\n\nGet your brand in front of a large audience through various sponsorships\nConnect with future clients and customers as an event exhibitor\nSample tasty treats from member restaurants and food purveyors\nExperience the fabulous Fillmore Silver Spring\n\n\nDon’t miss the best networking event of the year\, register today!\n\nhttps://web.gsscc.org/events/SchmoozaPaloozaBusiness%20Expo%20%20Networking%20Extravaganza-266608/details
URL:https://onemontgomerygreen.org/index.php/calendarevent/greater-silver-spring-chamber-of-commerce-schmoozapalooza/
LOCATION:The Fillmore Silver Spring\, 8656 Colesville Rd\, Silver Spring\, MD\, 20910\, United States
CATEGORIES:expo,networking,SchmoozaPalooza
ATTACH;FMTTYPE=image/png:https://onemontgomerygreen.org/wp-content/uploads/2023/01/schmooza-800px.png
ORGANIZER;CN="Greater Silver Spring Chamber of Commerce":MAILTO:info@gsscc.org
END:VEVENT
BEGIN:VEVENT
DTSTART;TZID=America/New_York:20230308T173000
DTEND;TZID=America/New_York:20230308T200000
DTSTAMP:20260421T200849
CREATED:20230306T200301Z
LAST-MODIFIED:20230306T212736Z
UID:10129-1678296600-1678305600@onemontgomerygreen.org
SUMMARY:Kensington - Wheaton 5th Annual Business Networking Expo
DESCRIPTION:In partnership with The Town of Kensington\nat Kensington Town Hall/Armory / 301-949-2424\n3710 Mitchell Street\, Kensington\, MD 20895\n\nMeet Kensington Mayor Tracey Furman and members of the Town Council\, and members of the Board of Directors of the Wheaton & Kensington Chamber of Commerce.\n\nAlso meet with state and local elected officials\, Montgomery County Police\, and Fire and Rescue\, along with representatives from Mid-County Regional Services.\n\nAnd featuring a Jazz Guitar Combo & Doorprizes.\n\nAppetizers and drinks served\nMix and network with other businesses\nBrowse the information tables of local businesses!\nMusic with Steve Ragsdale’s Jazz Guitar Combo.\n\nFor more information: https://www.wkchamber.org/events-activities/mixers-networking-events/
URL:https://onemontgomerygreen.org/index.php/calendarevent/kensington-wheaton-5th-annual-business-networking-expo/
LOCATION:Town of Kensington\, MD\, Kensington\, MD\, 20895\, United States
CATEGORIES:1OMG,business showcase,event,expo
ATTACH;FMTTYPE=image/jpeg:https://onemontgomerygreen.org/wp-content/uploads/2023/03/KensWhBizExpoFlyer.jpg
ORGANIZER;CN="Wheaton & Kensington Chamber of Commerce":MAILTO:contactus@wkchamber.org
END:VEVENT
BEGIN:VEVENT
DTSTART;TZID=America/New_York:20200314T130000
DTEND;TZID=America/New_York:20200314T170000
DTSTAMP:20260421T200849
CREATED:20200131T221158Z
LAST-MODIFIED:20200131T221158Z
UID:5545-1584190800-1584205200@onemontgomerygreen.org
SUMMARY:Earth Optimism Teen Event: Changing the Climate Conversation
DESCRIPTION:Earth Optimism Teen Event: Changing the Climate Conversation\nSaturday\, March 14\, 2020\, 1-5 pm \nQ?rius\, The Coralyn W. Whitney Science Education Center\nSmithsonian National Museum of Natural History \nFree Event for Teens Ages 13-19 \nJoin us for an afternoon of hands-on exploration\, conversation\, and action. \n\nHang Out: Meet other local teens and enjoy FREE sustainable and local food!\nBe Empowered: Explore ways to make informed decisions that have an impact.\nBe Informed: Talk with scientists\, community leaders\, and your peers about climate science and solutions.\nGet Involved: Find out about Earth Day events\, local projects to join\, and ways to start your own efforts.\n\nFor more information: https://naturalhistory.si.edu/education/youth-programs/earth-optimism-teen-event-changing-climate-conversation \nSIGN UP
URL:https://onemontgomerygreen.org/index.php/calendarevent/earth-optimism-teen-event-changing-the-climate-conversation/
LOCATION:Q?rius\, The Coralyn W. Whitney Science Education Center Smithsonian National Museum of Natural History\, 10th St. & Constitution Ave. NW\, Washington\, DC\, 20560\, United States
CATEGORIES:advocacy,Climate Change,conversation,demonstrations,Education,expo,extravaganza,Fun for kids
ATTACH;FMTTYPE=image/png:https://onemontgomerygreen.org/wp-content/uploads/2020/01/190314earthoptimism-graphics450px.png
END:VEVENT
BEGIN:VEVENT
DTSTART;TZID=America/New_York:20190222T080000
DTEND;TZID=America/New_York:20190222T160000
DTSTAMP:20260421T200849
CREATED:20190214T164759Z
LAST-MODIFIED:20190214T164759Z
UID:3830-1550822400-1550851200@onemontgomerygreen.org
SUMMARY:Green Matter Symposium – Garden by Design: Creative Approaches to Diverse Landscapes
DESCRIPTION:Green Matter Symposium – Garden by Design: Creative Approaches to Diverse Landscapes\n\n\n\n\nFriday\, February 22 @ 8:00 am – 4:00 pm \nJoin industry experts as they explore creative design solutions that address the challenges and opportunities associated with diverse landscapes. Learn more. 
URL:https://onemontgomerygreen.org/index.php/calendarevent/green-matter-symposium-garden-by-design-creative-approaches-to-diverse-landscapes/
LOCATION:Silver Spring Civic Building at Veterans Plaza\, 1 Veterans Plaza\, Silver Spring\, MD\, 20910\, United States
CATEGORIES:expo,garden,gardening
ATTACH;FMTTYPE=image/jpeg:https://onemontgomerygreen.org/wp-content/uploads/2019/02/Green-Matters-2017-Crowd-Shot.jpg
ORGANIZER;CN="Montgomery County Parks":MAILTO:Info@MontgomeryParks.org
END:VEVENT
BEGIN:VEVENT
DTSTART;VALUE=DATE:20180816
DTEND;VALUE=DATE:20180817
DTSTAMP:20260421T200849
CREATED:20180726T204008Z
LAST-MODIFIED:20180727T214321Z
UID:2764-1534377600-1534463999@onemontgomerygreen.org
SUMMARY:Green Jobs Forum 2018
DESCRIPTION:Green Jobs Forum 2018 \nThursday\, August 16\, 2018\nMetropolitan Washington Council of Governments\n777 North Capitol St NE # 300\, Washington\, DC 20002 \n5th Annual Leaders in Energy Green Jobs Forum (5:00 – 9:00 pm) PLUS\nGreen Career and Networking Workshops (8:30 am – 5:00 pm)\n\nLearn about opportunities for green jobs in the DMV Region from economic development and workforce development officials from the District of Columbia\, Maryland\, and Virginia.\nGet tips from Leaders in Energy members who have landed or created green jobs.\nMeet exhibitors from companies and organizations who are hiring and meet green tech/clean energy educational organizations offering training and certifications for continued career growth.\nConnect with others working in the energy\, sustainability\, and environmental fields (or who are seeking to transition into these sectors) at one of our most popular events!\nAdvance YOUR Career by learning new skills and insights by attending our Green Career and Networking Workshops!\n\nRegister here. \nForum includes pizza\, beverages\, and program.  Student\, job seeker and early bird rates available (until Thursday\, August 9th).  $30 for general admission ticket ($25 for early bird); Student and Jobseeker ticket $25 ($20 for early bird).  $35 for walk-in.
URL:https://onemontgomerygreen.org/index.php/calendarevent/green-jobs-forum-2018/
LOCATION:Metropolitan Washington Council of Governments\, 777 North Capitol St NE # 300\, Washington\, MD\, 20002\, United States
CATEGORIES:circular economy,Cleanup,climate,Climate Change,Environment,expo,Fairs & Festivals,Green,green building,jobs fair,networking,Recycling,renewable energy,Smart Growth,solar,Solar Energy,sustainability
ATTACH;FMTTYPE=image/jpeg:https://onemontgomerygreen.org/wp-content/uploads/2018/07/Green-Jobs-and-Workshops_7_24_8.16.2018.jpg
ORGANIZER;CN="Leaders in Energy":MAILTO:info@leadersinenergy.org
END:VEVENT
BEGIN:VEVENT
DTSTART;TZID=America/New_York:20180419T073000
DTEND;TZID=America/New_York:20180419T183000
DTSTAMP:20260421T200849
CREATED:20180302T174922Z
LAST-MODIFIED:20180302T223938Z
UID:2080-1524123000-1524162600@onemontgomerygreen.org
SUMMARY:Energy Efficiency Custom Tech Expo
DESCRIPTION:Energy Efficiency Custom Tech Expo \nReduce operating costs. Increase energy savings. Get valuable incentives for upgrades. \nWith energy efficiency\, your business can have it all!  \n \nJoin BGE\, Delmarva Power\, and Pepco for the first ever complimentary Energy Efficiency Custom Technology Expo. \nThursday\, April 19\, 2018\n7:30 AM–6:30 PM\nM&T Bank Stadium\, home of the Baltimore Ravens  \nLearn how energy-efficient technologies are helping businesses of all types and sizes save energy and money. Get the information you need to kick off the savings at your business! \nHear about the latest incentives available for energy-saving equipment and upgrades. \nTalk with exhibitors during specialized breakout sessions. Enjoy networking opportunities during a complimentary breakfast\, lunch and afternoon reception with colleagues who already are saving energy and money.  \nFor more information: http://www.cvent.com/events/energy-efficiency-custom-tech-expo/event-summary-36556d67a6bd4417974423afc06d93f4.aspx
URL:https://onemontgomerygreen.org/index.php/calendarevent/energy-efficiency-custom-tech-expo/
LOCATION:M&T Bank Stadium\, 1101 Russell St\, Baltimore\, MD\, 21230\, United States
CATEGORIES:expo
ATTACH;FMTTYPE=image/jpeg:https://onemontgomerygreen.org/wp-content/uploads/2018/03/EnergyExpo_April1.jpg
END:VEVENT
END:VCALENDAR