BEGIN:VCALENDAR
VERSION:2.0
PRODID:-//One Montgomery Green - ECPv6.15.20//NONSGML v1.0//EN
CALSCALE:GREGORIAN
METHOD:PUBLISH
X-WR-CALNAME:One Montgomery Green
X-ORIGINAL-URL:https://onemontgomerygreen.org
X-WR-CALDESC:Events for One Montgomery Green
REFRESH-INTERVAL;VALUE=DURATION:PT1H
X-Robots-Tag:noindex
X-PUBLISHED-TTL:PT1H
BEGIN:VTIMEZONE
TZID:America/New_York
BEGIN:DAYLIGHT
TZOFFSETFROM:-0500
TZOFFSETTO:-0400
TZNAME:EDT
DTSTART:20200308T070000
END:DAYLIGHT
BEGIN:STANDARD
TZOFFSETFROM:-0400
TZOFFSETTO:-0500
TZNAME:EST
DTSTART:20201101T060000
END:STANDARD
BEGIN:DAYLIGHT
TZOFFSETFROM:-0500
TZOFFSETTO:-0400
TZNAME:EDT
DTSTART:20210314T070000
END:DAYLIGHT
BEGIN:STANDARD
TZOFFSETFROM:-0400
TZOFFSETTO:-0500
TZNAME:EST
DTSTART:20211107T060000
END:STANDARD
BEGIN:DAYLIGHT
TZOFFSETFROM:-0500
TZOFFSETTO:-0400
TZNAME:EDT
DTSTART:20220313T070000
END:DAYLIGHT
BEGIN:STANDARD
TZOFFSETFROM:-0400
TZOFFSETTO:-0500
TZNAME:EST
DTSTART:20221106T060000
END:STANDARD
END:VTIMEZONE
BEGIN:VEVENT
DTSTART;TZID=America/New_York:20210422T120000
DTEND;TZID=America/New_York:20210422T200000
DTSTAMP:20260421T232621
CREATED:20210420T172937Z
LAST-MODIFIED:20210420T172937Z
UID:7602-1619092800-1619121600@onemontgomerygreen.org
SUMMARY:EARTHDAY‍.ORG's Second-Annual "Earth Day Live: Restore Our Earth" Digital Livestream Event
DESCRIPTION:To spur climate action and bring awareness to humanity’s greatest existential threat\, EARTHDAY‍.ORG will bring together activists\, educators\, researchers\, musicians\, artists\, influencers and more for its second-annual Earth Day Live: Restore Our Earth digital livestream event \nThe initial announcement of incredible participants for this year’s event includes: \n  \nAJR\, Band\nHis Serene Highness Prince Albert II of Monaco\nAlexandria Villasenor\, Founder of Earth Uprising and Youth Climate Activist\nAmita N. Vyas\, PhD\, MHS\, Professor at George Washington University Milken Institute School of Public Health and Director of the Center of Excellence in Maternal and Child Health\nAndrea Illy\, Chairman of illycaffè\nBrothers Osborne and Lucie Silvas\, Musicians\nCaue Suplicy\, Founder and Chairman of Barnana\nChris Packham\, Award-Winning Conservationist\, Photographer and Author\nSen. Edward Markey (D-MA)\nElizabeth Whitlow\, Executive Director\, Regenerative Organic Certified\nGabriel Quijandría\, Minister of the Environment\, Peru\nGrace Potter\, Musician\nHaldis Holst\, Deputy General Secretary of Education International\nHeba Alfarra\, United Nations Environment Champion of the Earth for West Asia and Founder of Women in Energy & Environment at MENA Region\nIbrahim Thiaw\, Executive Secretary of the United Nations Convention to Combat Desertification\nJames Gaspard\, CEO of Biochar Now LLC\nJustin Kamine\, Co-Founder and Partner of KDC Agriculture and EARTHDAY‍.ORG Board Member\nKristen Bell\, Actress and Producer\nLicypriya Kangujam\, 9-year-old Climate Activist & Founder of The Child Movement\nMarianne Williamson\, Author\nMary Steenburgen\, Actor and Musician\nMichael S. Regan\, EPA Administrator\nDr. Michael Greger\, Founder of NutritionFacts.org\, Physician\, Plant-based diet Advocate \nAnd many more! \n  \n\n\n\n\n\n\n\n\n\n\nFor more information on Earth Day Live and Earth Day 2021\, please visit: https://www.earthday.org/earth-day-2021/
URL:https://onemontgomerygreen.org/index.php/calendarevent/earthday%e2%80%8d-orgs-second-annual-earth-day-live-restore-our-earth-digital-livestream-event/
LOCATION:virtual
CATEGORIES:advocacy,Agriculture,annual meeting,author talk,climate,climate action,Climate Change,Community,Conference,Congress,conservation,convention,conversation,digital,digital summit,energy professionals,Energy Summit,Environment,Environment Committee Meeting,environmental film festival,Environmental Summit,event,Facebook Live,film screening,fun for families,Green Festival
ATTACH;FMTTYPE=image/png:https://onemontgomerygreen.org/wp-content/uploads/2021/04/Screen-Shot-2021-04-20-at-1.22.37-PM.png
END:VEVENT
BEGIN:VEVENT
DTSTART;TZID=America/New_York:20210409T190000
DTEND;TZID=America/New_York:20210409T200000
DTSTAMP:20260421T232621
CREATED:20210314T183335Z
LAST-MODIFIED:20210314T183335Z
UID:7425-1617994800-1617998400@onemontgomerygreen.org
SUMMARY:Green Cocktails: Greening Up Your Gardens
DESCRIPTION:Green Cocktails: Greening Up Your Gardens \n\n\n\n\n\nFriday\, April 9\, 2021 at 7 PM EST – 8 PM EST\n\n\n\n\n\n\n\n\n\n\n\nHosted by Gaithersburg Community Museum and One Montgomery Green\n\n\n\n\n\n\n\n\n\n\n\n\nGreen Cocktails will be joined by Lauren Hubbard\, owner of Native by Design\, who will talk about ways we can make our yards and gardens more sustainable with simple changes.\nThis month’s cocktail is brought to us from two local distilleries – Dragon Distillery\, LLC and Butterfly Spirits. \n\nPlease check in the comments closer to the event date for the recipe and a video showing you how to create your cocktail. (Buying local is a sustainability goal.) Please note that while the program is open to all ages\, the drinking of alcohol is limited to viewers age 21 and older.\n\nLauren works with property owners and organizations providing sustainable landscaping services including design\, coaching\, small scale installation\, native plant sourcing\, and project management. Lauren is on the board of the Maryland Native Plant Society where she focuses her effort on habitat protection and the preservation of genetic diversity in our native plant populations. She launched the Butterfly Bandwagon project\, a neighbor to neighbor information and resource sharing approach to promote and support the use of native plants in landscaping. Lauren holds a Ph.D. in Plant Biology\, is a certified Chesapeake Bay Landscape Professional\, Weed Warrior\, and Master Gardener.\n\nThis program will stream on the museum’s facebook page –  \nhttps://www.facebook.com/GaithersburgCommunityMuseum\n\n\nWe want to thank One Montgomery Green and Gaithersburg Green Drinks for helping in the planning of this series.\n\n\n\n\n\n\n\n\n\n\n\nFor more information: https://www.gaithersburgmd.gov/about-us/city-facilities/gaithersburg-community-museum/gaithersburg-community-museum-calendar/green-cocktails
URL:https://onemontgomerygreen.org/index.php/calendarevent/green-cocktails-greening-up-your-gardens/
CATEGORIES:Environment,Facebook Live,Green Cocktails,Green Drinks
ATTACH;FMTTYPE=image/jpeg:https://onemontgomerygreen.org/wp-content/uploads/2020/12/GaithGreenCocktails_600x425.jpg
ORGANIZER;CN="Gaithersburg Community Museum":MAILTO:museum@gaithersburgmd.gov
END:VEVENT
BEGIN:VEVENT
DTSTART;TZID=America/New_York:20210312T190000
DTEND;TZID=America/New_York:20210312T200000
DTSTAMP:20260421T232621
CREATED:20210218T222119Z
LAST-MODIFIED:20210218T222119Z
UID:7359-1615575600-1615579200@onemontgomerygreen.org
SUMMARY:Green Cocktails: Heat Islands
DESCRIPTION:Green Cocktails: Heat Islands \n\n\n\n\n\nFriday\, March 12\, 2021 at 7 PM EST – 8 PM EST\n\n\n\n\n\n\n\n\n\n\n\nHosted by Gaithersburg Community Museum and One Montgomery Green\n\n\n\n\n\n\n\n\n\n\n\nOnline with Facebook Live\nhttps://www.facebook.com/events/699976627550408/\n\n\n\n\n\n\n\nA new series hosted by the City\, in partnership with One Montgomery Green & Gaithersburg Green Drinks\, the Community Museum hosts its new “Green Cocktails” series. Learn about sustainability while enjoying a homemade cocktail with recipes provided in advance by local distilleries. Each free session focuses on a topic that directly impacts us on a local level\, with suggestions for changes that we can all make that are both manageable and impactful. Topics are advised by the United Nation’s 17 Sustainable Development Goals. The Facebook Live events take place on the Community Museum Facebook page. The discussion is appropriate for all ages. Cocktail recipes are suitable for those 21 and older. \nSchedule\n\n\nHeat Islands\nFriday\, March 12\, 2021 • 7 – 8 PM\nAn in-depth look at the urban heat island effect\, the benefits of City trees\, parks\, and green spaces\, and adaptation techniques & opportunities for equity.\nSpeaker: Bridget Cantwell\, City of Gaithersburg Environmental Planner\nCocktails: Baltimore Spirits Company \n\n\nThis virtual program will stream on the museum’s Facebook page –\nhttps://www.facebook.com/GaithersburgCommunityMuseum \n\n\n\n\n\n\nWe want to thank One Montgomery Green and Gaithersburg Green Drinks for helping in the planning of this series. \n\n\nFor more information: https://www.gaithersburgmd.gov/about-us/city-facilities/gaithersburg-community-museum/gaithersburg-community-museum-calendar/green-cocktails
URL:https://onemontgomerygreen.org/index.php/calendarevent/green-cocktails-heat-islands/
CATEGORIES:Facebook Live,Green Cocktails,Green Drinks
ATTACH;FMTTYPE=image/jpeg:https://onemontgomerygreen.org/wp-content/uploads/2020/12/GaithGreenCocktails_600x425.jpg
ORGANIZER;CN="Gaithersburg Community Museum":MAILTO:museum@gaithersburgmd.gov
END:VEVENT
BEGIN:VEVENT
DTSTART;TZID=America/New_York:20210212T190000
DTEND;TZID=America/New_York:20210212T200000
DTSTAMP:20260421T232621
CREATED:20201221T193144Z
LAST-MODIFIED:20201221T193144Z
UID:7109-1613156400-1613160000@onemontgomerygreen.org
SUMMARY:Green Cocktails: Winter Salt
DESCRIPTION:Green Cocktails: Winter Salt \n\n\n\n\n\nFriday\, February 12\, 2021 at 7 PM EST – 8 PM EST\n\n\n\n\n\n\n\n\n\n\n\nHosted by Gaithersburg Community Museum and One Montgomery Green\n\n\n\n\n\n\n\n\n\n\n\nOnline with Facebook Live\nhttps://www.facebook.com/events/317146766037110/\n\n\n\n\n\n\n\nA new series hosted by the City\, in partnership with One Montgomery Green & Gaithersburg Green Drinks\, the Community Museum hosts its new “Green Cocktails” series. Learn about sustainability while enjoying a homemade cocktail with recipes provided in advance by local distilleries. Each free session focuses on a topic that directly impacts us on a local level\, with suggestions for changes that we can all make that are both manageable and impactful. Topics are advised by the United Nation’s 17 Sustainable Development Goals. The Facebook Live events take place on the Community Museum Facebook page. The discussion is appropriate for all ages. Cocktail recipes are suitable for those 21 and older. \nSchedule\n\n\n\nWinter Salt\nFriday\, February 12\, 2021 • 7 – 8 PM\nHow salt treatments on our winter roads affect the environment.\nSpeaker: Samantha Briggs\, Clean Water Program Director\nCocktails: Tenth Ward Distilling \n\n\n\nThis virtual program will stream on the museum’s Facebook page –\nhttps://www.facebook.com/GaithersburgCommunityMuseum \nThis month’s cocktail is brought to us from MISCellaneous Distillery. Please check in the comments closer to the event date for the recipe and a video showing you how to create your cocktail. (Buying local is a sustainability goal.) \n\n\n\n\n\n\nWe want to thank One Montgomery Green and Gaithersburg Green Drinks for helping in the planning of this series. \n\n\nFor more information: https://www.gaithersburgmd.gov/about-us/city-facilities/gaithersburg-community-museum/gaithersburg-community-museum-calendar/green-cocktails
URL:https://onemontgomerygreen.org/index.php/calendarevent/green-cocktails-winter-salt/
CATEGORIES:Facebook Live,Green Cocktails,Green Drinks
ATTACH;FMTTYPE=image/jpeg:https://onemontgomerygreen.org/wp-content/uploads/2020/12/GaithGreenCocktails_600x425.jpg
ORGANIZER;CN="Gaithersburg Community Museum":MAILTO:museum@gaithersburgmd.gov
END:VEVENT
BEGIN:VEVENT
DTSTART;TZID=America/New_York:20210126T120000
DTEND;TZID=America/New_York:20210126T133000
DTSTAMP:20260421T232621
CREATED:20210122T200500Z
LAST-MODIFIED:20210122T200536Z
UID:7251-1611662400-1611667800@onemontgomerygreen.org
SUMMARY:Earth Day Live: Environmental Literacy & Civics: Education to Change the World
DESCRIPTION:The world and its people are facing full-scale climate emergencies from wildfires\, hurricanes and drought to collapsing biodiversity\, crop failures\, mass migration and starvation. Students stand to inherit a world that is rife with uncertainty\, but also full of potential to be transformed into a more just and sustainable home. \nIn order to prepare our children for this rapidly changing world and for the jobs of the future\, youth everywhere need to be educated about the complex and interdependent issues of climate and environmental science and build the civic skills to make lasting changes in their communities and globally: this education starts in schools. \nEARTHDAY‍.ORG invites you to join another installment of our Earth Day Live series: \n Environmental Literacy and Civics: Education to Change the World on Tuesday\, January 26th at noon EST. \nJoin us for the live event. \nRSVP \nThe panel will be 60 minutes and hosted over Zoom. By registering and joining the webinar\, you’ll be able to ask questions during the Q&A. If you can’t connect over Zoom\, we’ll also be streaming the event over Facebook. \nOur panelists include: \n\nMirian Vilela — Executive Director of the Earth Charter based in Costa Rica\nDr. Lawrence M. Paska — Executive Director of National Council for the Social Studies\nElizabeth Wanjiru Wathuti — Kenyan environment and climate activist\, founder of the Green Generation Initiative\nMichelle Ciulla Lipkin — Executive Director of the National Association for Media Literacy Education\nDr. Pramod Kumar Sharma — Senior Director of Education with Foundation for Environmental Education (FEE)\nModerator: Dr. Christina Kwauk — Associate Director of Monitoring and Evaluation of Climate Change Education\n\nNext week\, we examine the interdisciplinary nature of environmental and climate change education and how we use civic education to inspire hope and action for students across the world.
URL:https://onemontgomerygreen.org/index.php/calendarevent/earth-day-live-environmental-literacy-civics-education-to-change-the-world/
CATEGORIES:Facebook Live,Zoom event
ATTACH;FMTTYPE=image/png:https://onemontgomerygreen.org/wp-content/uploads/2021/01/Earth_Day_Live_Logo_-_Vertical_resized_1-e1611345508103.png
END:VEVENT
BEGIN:VEVENT
DTSTART;TZID=America/New_York:20210108T190000
DTEND;TZID=America/New_York:20210108T200000
DTSTAMP:20260421T232621
CREATED:20201221T192234Z
LAST-MODIFIED:20201221T192234Z
UID:7103-1610132400-1610136000@onemontgomerygreen.org
SUMMARY:Green Cocktails: Sustainability Begins at Home
DESCRIPTION:Green Cocktails: Sustainability Begins at Home \n\n\n\n\n\nFriday\, January 8\, 2021 at 7 PM EST – 8 PM EST\n\n\n\n\n\n\n\n\n\n\n\nHosted by Gaithersburg Community Museum and One Montgomery Green\n\n\n\n\n\n\n\n\n\n\n\nOnline with Facebook Live\n\n\n\n\n\nhttps://www.facebook.com/events/1002731040248519/\n\n\nA new series hosted by the City\, in partnership with One Montgomery Green & Gaithersburg Green Drinks\, the Community Museum hosts its new “Green Cocktails” series. Learn about sustainability while enjoying a homemade cocktail with recipes provided in advance by local distilleries. Each free session focuses on a topic that directly impacts us on a local level\, with suggestions for changes that we can all make that are both manageable and impactful. Topics are advised by the United Nation’s 17 Sustainable Development Goals. The Facebook Live events take place on the Community Museum Facebook page. The discussion is appropriate for all ages. Cocktail recipes are suitable for those 21 and older. \nSchedule\nSustainability Begins at Home\nFriday\, January 8\, 2021 • 7 – 8 PM\nSimple ways you can become more sustainable.\nSpeaker: Deborah Moran\, City of Gaithersburg Sustainability Coordinator \nThe idea of sustainability can be daunting. The Gaithersburg Community Museum has a new cocktail hour series exploring things that we as individuals can do to make a difference. \nThis month Deborah Moran\, Sustainability Coordinator for the City of Gaithersburg\, explores simple ways you can become more sustainable.\n\n\nThis virtual program will stream on the museum’s Facebook page – \nhttps://www.facebook.com/GaithersburgCommunityMuseum\n.\nThis month’s cocktail is brought to us from MISCellaneous Distillery. Please check in the comments closer to the event date for the recipe and a video showing you how to create your cocktail. (Buying local is a sustainability goal.)\n\n\nWinter Salt\nFriday\, February 12\, 2021 • 7 – 8 PM\nHow salt treatments on our winter roads affect the environment.\nSpeaker: Samantha Briggs\, Clean Water Program Director\nCocktails: Tenth Ward Distilling \n\n\n\n\nWe want to thank One Montgomery Green and Gaithersburg Green Drinks for helping in the planning of this series. \n\n\nFor more information: https://www.gaithersburgmd.gov/about-us/city-facilities/gaithersburg-community-museum/gaithersburg-community-museum-calendar/green-cocktails
URL:https://onemontgomerygreen.org/index.php/calendarevent/green-cocktails-sustainability-begins-at-home/
CATEGORIES:Facebook Live,Green Cocktails,Green Drinks
ATTACH;FMTTYPE=image/jpeg:https://onemontgomerygreen.org/wp-content/uploads/2020/12/GaithGreenCocktails_600x425.jpg
ORGANIZER;CN="Gaithersburg Community Museum":MAILTO:museum@gaithersburgmd.gov
END:VEVENT
END:VCALENDAR