BEGIN:VCALENDAR
VERSION:2.0
PRODID:-//One Montgomery Green - ECPv6.15.20//NONSGML v1.0//EN
CALSCALE:GREGORIAN
METHOD:PUBLISH
X-WR-CALNAME:One Montgomery Green
X-ORIGINAL-URL:https://onemontgomerygreen.org
X-WR-CALDESC:Events for One Montgomery Green
REFRESH-INTERVAL;VALUE=DURATION:PT1H
X-Robots-Tag:noindex
X-PUBLISHED-TTL:PT1H
BEGIN:VTIMEZONE
TZID:America/New_York
BEGIN:DAYLIGHT
TZOFFSETFROM:-0500
TZOFFSETTO:-0400
TZNAME:EDT
DTSTART:20170312T070000
END:DAYLIGHT
BEGIN:STANDARD
TZOFFSETFROM:-0400
TZOFFSETTO:-0500
TZNAME:EST
DTSTART:20171105T060000
END:STANDARD
BEGIN:DAYLIGHT
TZOFFSETFROM:-0500
TZOFFSETTO:-0400
TZNAME:EDT
DTSTART:20180311T070000
END:DAYLIGHT
BEGIN:STANDARD
TZOFFSETFROM:-0400
TZOFFSETTO:-0500
TZNAME:EST
DTSTART:20181104T060000
END:STANDARD
BEGIN:DAYLIGHT
TZOFFSETFROM:-0500
TZOFFSETTO:-0400
TZNAME:EDT
DTSTART:20190310T070000
END:DAYLIGHT
BEGIN:STANDARD
TZOFFSETFROM:-0400
TZOFFSETTO:-0500
TZNAME:EST
DTSTART:20191103T060000
END:STANDARD
BEGIN:DAYLIGHT
TZOFFSETFROM:-0500
TZOFFSETTO:-0400
TZNAME:EDT
DTSTART:20200308T070000
END:DAYLIGHT
BEGIN:STANDARD
TZOFFSETFROM:-0400
TZOFFSETTO:-0500
TZNAME:EST
DTSTART:20201101T060000
END:STANDARD
BEGIN:DAYLIGHT
TZOFFSETFROM:-0500
TZOFFSETTO:-0400
TZNAME:EDT
DTSTART:20210314T070000
END:DAYLIGHT
BEGIN:STANDARD
TZOFFSETFROM:-0400
TZOFFSETTO:-0500
TZNAME:EST
DTSTART:20211107T060000
END:STANDARD
BEGIN:DAYLIGHT
TZOFFSETFROM:-0500
TZOFFSETTO:-0400
TZNAME:EDT
DTSTART:20220313T070000
END:DAYLIGHT
BEGIN:STANDARD
TZOFFSETFROM:-0400
TZOFFSETTO:-0500
TZNAME:EST
DTSTART:20221106T060000
END:STANDARD
BEGIN:DAYLIGHT
TZOFFSETFROM:-0500
TZOFFSETTO:-0400
TZNAME:EDT
DTSTART:20230312T070000
END:DAYLIGHT
BEGIN:STANDARD
TZOFFSETFROM:-0400
TZOFFSETTO:-0500
TZNAME:EST
DTSTART:20231105T060000
END:STANDARD
BEGIN:DAYLIGHT
TZOFFSETFROM:-0500
TZOFFSETTO:-0400
TZNAME:EDT
DTSTART:20240310T070000
END:DAYLIGHT
BEGIN:STANDARD
TZOFFSETFROM:-0400
TZOFFSETTO:-0500
TZNAME:EST
DTSTART:20241103T060000
END:STANDARD
BEGIN:DAYLIGHT
TZOFFSETFROM:-0500
TZOFFSETTO:-0400
TZNAME:EDT
DTSTART:20250309T070000
END:DAYLIGHT
BEGIN:STANDARD
TZOFFSETFROM:-0400
TZOFFSETTO:-0500
TZNAME:EST
DTSTART:20251102T060000
END:STANDARD
BEGIN:DAYLIGHT
TZOFFSETFROM:-0500
TZOFFSETTO:-0400
TZNAME:EDT
DTSTART:20260308T070000
END:DAYLIGHT
BEGIN:STANDARD
TZOFFSETFROM:-0400
TZOFFSETTO:-0500
TZNAME:EST
DTSTART:20261101T060000
END:STANDARD
END:VTIMEZONE
BEGIN:VEVENT
DTSTART;TZID=America/New_York:20250725T170000
DTEND;TZID=America/New_York:20250725T200000
DTSTAMP:20260419T111439
CREATED:20250619T180447Z
LAST-MODIFIED:20250619T180507Z
UID:12168-1753462800-1753473600@onemontgomerygreen.org
SUMMARY:TGIF Summer Concert Series with OMG
DESCRIPTION:🎶 TGIF Summer Concert Series is Back & Better Than Ever! 🎉 \nGet ready to soak up the summer vibes—Fridays just got a whole lot more fun! 🌞🎤🍻 \nJoin One Montgomery Green at the Beer & Wine Garden for great music\, good drinks\, and an even better cause on these Fridays: \nJuly 25: Harikaraoke (Live band karaoke\, 5-8pm) \nAugust 8: Strykers Posse (Reggae) \n✨ Sip\, relax\, and support sustainability—proceeds go directly to OMG! \nBring your friends and let’s make it a summer to remember! \nFor more information: https://www.wheatonmd.org/do/tgif-2025-summer-concert-series
URL:https://onemontgomerygreen.org/index.php/calendarevent/tgif-summer-concert-series-with-omg-3/
LOCATION:Marian Fryer Town Plaza\, 2424 Reedie Drive\, Wheaton\, MD\, 20902\, United States
CATEGORIES:1OMG,fundraiser,TGIF,TGIF music & fun
ATTACH;FMTTYPE=image/jpeg:https://onemontgomerygreen.org/wp-content/uploads/2025/06/TGIF-SM-PLACE-24-1080-x-1350.jpg
END:VEVENT
BEGIN:VEVENT
DTSTART;TZID=America/New_York:20240802T180000
DTEND;TZID=America/New_York:20240802T203000
DTSTAMP:20260419T111439
CREATED:20240731T181327Z
LAST-MODIFIED:20240731T181959Z
UID:11239-1722621600-1722630600@onemontgomerygreen.org
SUMMARY:OMG Hosts Beer Garden @ Wheaton TGIF Concerts
DESCRIPTION:Find Us at the Marian Fryer TGIF Concert and Beer Garden\n2424 Reedie Drive\, Wheaton\, MD 20902 \nOMG will be at the Beer Garden\, selling cocktails\, beer\, wine and seltzers. We will be giving out our reusable water bottles and water bottle handles while supplies last! All proceeds made during this event will help fund our youth programs\, park clean-ups and community outreach events. \nDates OMG Will Be Operating the Beer Garden: \n\nFriday\, Aug 2\, 2024  \nFriday\, Aug 9\, 2024\n\nConcert Lineup: \n\nFriday\, Aug 2\, 2024 – Billy Mayfield\nFriday\, Aug 9\, 2024 – Gorden Sterling and the People\n\nWe hope to see you there! \nFor more information: https://www.wheatonmd.org/do/tgif-summer-concert-series-3
URL:https://onemontgomerygreen.org/index.php/calendarevent/omg-hosts-beer-garden-wheaton-tgif-concerts/
LOCATION:Marian Fryer Town Plaza\, 2424 Reedie Drive\, Wheaton\, MD\, 20902\, United States
CATEGORIES:1OMG,festival,fundraiser,MUSIC,TGIF,TGIF music & fun
ATTACH;FMTTYPE=image/png:https://onemontgomerygreen.org/wp-content/uploads/2024/07/TGIF24-flyer_Final.png
ORGANIZER;CN="One Montgomery Green":MAILTO:info@onemontgomerygreen.org
END:VEVENT
BEGIN:VEVENT
DTSTART;VALUE=DATE:20240210
DTEND;VALUE=DATE:20240211
DTSTAMP:20260419T111439
CREATED:20240126T235451Z
LAST-MODIFIED:20240126T235451Z
UID:10802-1707523200-1707609599@onemontgomerygreen.org
SUMMARY:19th Annual Polar Bear Plunge to "Keep Winter Cold"
DESCRIPTION:19th Annual Polar Bear Plunge to “Keep Winter Cold”\nFebruary 10  •  National Harbor\nAre you concerned about the climate crisis? Would you like to make a difference? Are you up for taking a winter swim? Then our annual Polar Bear Plunge to “Keep Winter Cold” is THE event for you! \nJoin hundreds of fellow climate activists the morning of February 10\, 2024 to take the plunge for our climate at National Harbor\, just outside of Washington\, DC (or BRRRR-tually). Not only is the event guaranteed fun\, it’s the Chesapeake Climate Action Network’s (CCAN) largest grassroots fundraising event of the year. Through peer-to-peer fundraising\, Polar Plungers are able to raise over 30 percent of CCAN’s programs budget for the year ahead. Are you ready to Take the Plunge?
URL:https://onemontgomerygreen.org/index.php/calendarevent/19th-annual-polar-bear-plunge-to-keep-winter-cold/
LOCATION:MD
CATEGORIES:fundraiser,Polar Plunge
ATTACH;FMTTYPE=image/jpeg:https://onemontgomerygreen.org/wp-content/uploads/2024/01/6526c920cfcc6.jpg
ORGANIZER;CN="Chesapeake Climate Action Network":MAILTO:info@chesapeakeclimate.org
END:VEVENT
BEGIN:VEVENT
DTSTART;VALUE=DATE:20231128
DTEND;VALUE=DATE:20231129
DTSTAMP:20260419T111439
CREATED:20231102T222724Z
LAST-MODIFIED:20231102T222808Z
UID:10689-1701129600-1701215999@onemontgomerygreen.org
SUMMARY:Giving Tuesday — Donate to OMG
DESCRIPTION:Support OMG
URL:https://onemontgomerygreen.org/index.php/calendarevent/giving-tuesday-donate-to-omg/
LOCATION:MD
CATEGORIES:1OMG,fundraiser
ATTACH;FMTTYPE=image/png:https://onemontgomerygreen.org/wp-content/uploads/2023/11/2022-GivingTuesdayGraphic2.png
ORGANIZER;CN="One Montgomery Green":MAILTO:info@onemontgomerygreen.org
END:VEVENT
BEGIN:VEVENT
DTSTART;TZID=America/New_York:20221015T170000
DTEND;TZID=America/New_York:20221015T193000
DTSTAMP:20260419T111439
CREATED:20221004T201743Z
LAST-MODIFIED:20221004T201743Z
UID:9747-1665853200-1665862200@onemontgomerygreen.org
SUMMARY:2022 Rock Creek Gala
DESCRIPTION:2022 Rock Creek Gala\nRock Creek Conservancy has hosted an annual gala every fall since 2015\, celebrating the Rock Creek community and all who make our work possible. The proceeds of the Gala go towards the mission of the Conservancy\, helping fuel the people-powered restoration that helps to protect the forests\, keep our water clean\, improve the park visitor experience\, and increase equity of access to the park.  \nWashington Life Magazine recently published a spread of photos from our 2021 Gala\, which you can view on page 14 here. \nPlease join us on Saturday October 15\, 2022 from 5:00pm to 7:30pm at the Rock Creek Park Nature Center for a night of drinks\, music\, hearty appetizers\, and park views\, while connecting with those who share your love of Rock Creek Park and its watershed. \n\n\n\n\nJOIN US
URL:https://onemontgomerygreen.org/index.php/calendarevent/2022-rock-creek-gala/
LOCATION:Rock Creek Park Nature Center and Planetarium\, 5200 Glover Rd NW\, Washington\, DC\, 20015\, United States
CATEGORIES:fundraiser,Gala
ATTACH;FMTTYPE=image/jpeg:https://onemontgomerygreen.org/wp-content/uploads/2022/10/e8d483f7-7d17-0749-cb37-542d20f1635a-scaled.jpg
END:VEVENT
BEGIN:VEVENT
DTSTART;TZID=America/New_York:20210624T160000
DTEND;TZID=America/New_York:20210624T203000
DTSTAMP:20260419T111439
CREATED:20210610T221426Z
LAST-MODIFIED:20210618T204224Z
UID:7782-1624550400-1624566600@onemontgomerygreen.org
SUMMARY:OMG 2021 Gala - In Person / Virtual Hybrid
DESCRIPTION:To find out more\, visit: \nhttps://onemontgomerygreen.org/index.php/gala-2021/ \nand to purchase tickets: \nhttps://www.eventbrite.com/e/green-gala-2021-hybrid-tickets-158506498203
URL:https://onemontgomerygreen.org/index.php/calendarevent/omg-2021-gala-in-person-virtual-hybrid/
LOCATION:Brookside Gardens Visitors Center\, 1800 Glenallan Avenue\, Wheaton\, MD\, 20902\, United States
CATEGORIES:fundraiser,Gala,In Person,Virtual Event,Zoom event
ATTACH;FMTTYPE=image/jpeg:https://onemontgomerygreen.org/wp-content/uploads/2021/06/OMG_2021Gala_flyerF.jpg
ORGANIZER;CN="One Montgomery Green":MAILTO:info@onemontgomerygreen.org
END:VEVENT
BEGIN:VEVENT
DTSTART;TZID=America/New_York:20210321T193000
DTEND;TZID=America/New_York:20210321T210000
DTSTAMP:20260419T111439
CREATED:20210315T003547Z
LAST-MODIFIED:20210315T015421Z
UID:7486-1616355000-1616360400@onemontgomerygreen.org
SUMMARY:MD Sierra Club: Women Leaders in Sustainability
DESCRIPTION:Virtual Benefit for MD Sierra Club:\nWomen Leaders in Sustainability \nSun\, Mar 21\, 2021  7:30 – 8:30 PM  (Local Time) \n \n  \nOrganized By: Sierra Club Maryland Chapter \nEvent Organizers: Rosa Hance\, rosa.hance@mdsierra.org\, (240) 808-4233 \nCome join us to celebrate the voices of intergenerational female leaders advocating for a healthier environment and sustainable community in institutions of government\, business and community for camaraderie\, inspiration and entertainment!  Special honored guests include Delegate Brooke Lierman\, Rabbi Nina Cardin & Dr Rose Brusaferro of Backyard Basecamp! \nFOR MORE INFO AND TO REGISTER
URL:https://onemontgomerygreen.org/index.php/calendarevent/7486/
LOCATION:MD
CATEGORIES:fundraiser,Virtual Event
ATTACH;FMTTYPE=image/jpeg:https://onemontgomerygreen.org/wp-content/uploads/2019/01/SierraClubLogo-e1597001237437.jpg
END:VEVENT
BEGIN:VEVENT
DTSTART;TZID=America/New_York:20200310T170000
DTEND;TZID=America/New_York:20200310T210000
DTSTAMP:20260419T111439
CREATED:20200226T222410Z
LAST-MODIFIED:20200226T222410Z
UID:5678-1583859600-1583874000@onemontgomerygreen.org
SUMMARY:Leaders in Energy & Circular Economy Happy Hour
DESCRIPTION:Leaders in Energy & Circular Economy Happy Hour \nTuesday\, March 10  •  5 – 9 pm \nPLNT Burger\, 833 Wayne Avenue (inside Whole Foods)\, Silver Spring\, MD 20910 \nMarch CE Happy Hour – Monday\, March 9th and Tuesday\, March 10th from 5 – 9 pm at PLNT Burger in Silver Spring. This drop-in event is a fundraiser for our big\, collaborative public event that is being held later in the month. So come\, have a tasty burger and help support our work. Note that the fundraiser itself runs for two days\, so if you can’t make it on Monday for our get-together\, you can head up on your own on Tuesday evening and support the event. \n 
URL:https://onemontgomerygreen.org/index.php/calendarevent/leaders-in-energy-circular-economy-happy-hour-2/
LOCATION:PLNT BURGER\, Inside the Whole Foods\, 833 Wayne Ave\, Silver Spring\, MD\, 20910\, United States
CATEGORIES:fundraiser,happy hour
ATTACH;FMTTYPE=image/png:https://onemontgomerygreen.org/wp-content/uploads/2020/02/PLNT_Fundraiser_LIE-Social-02-_2_.png
ORGANIZER;CN="Leaders in Energy":MAILTO:info@leadersinenergy.org
END:VEVENT
BEGIN:VEVENT
DTSTART;TZID=America/New_York:20200309T170000
DTEND;TZID=America/New_York:20200309T210000
DTSTAMP:20260419T111439
CREATED:20200226T222039Z
LAST-MODIFIED:20200226T222039Z
UID:5672-1583773200-1583787600@onemontgomerygreen.org
SUMMARY:Leaders in Energy & Circular Economy Happy Hour
DESCRIPTION:Leaders in Energy & Circular Economy Happy Hour \nMonday\, March 9  •  5 – 9 pm \nPLNT Burger\, 833 Wayne Avenue (inside Whole Foods)\, Silver Spring\, MD 20910 \nMarch CE Happy Hour – Monday\, March 9th and 10th from 5 – 9 pm at PLNT Burger in Silver Spring. This drop-in event is a fundraiser for our big\, collaborative public event that is being held later in the month. So come\, have a tasty burger and help support our work. Note that the fundraiser itself runs for two days\, so if you can’t make it on Monday for our get-together\, you can head up on your own on Tuesday evening and support the event. \n 
URL:https://onemontgomerygreen.org/index.php/calendarevent/leaders-in-energy-circular-economy-happy-hour/
LOCATION:PLNT BURGER\, Inside the Whole Foods\, 833 Wayne Ave\, Silver Spring\, MD\, 20910\, United States
CATEGORIES:fundraiser,happy hour
ATTACH;FMTTYPE=image/png:https://onemontgomerygreen.org/wp-content/uploads/2020/02/PLNT_Fundraiser_LIE-Social-02-_2_.png
ORGANIZER;CN="Leaders in Energy":MAILTO:info@leadersinenergy.org
END:VEVENT
BEGIN:VEVENT
DTSTART;TZID=America/New_York:20180821T190000
DTEND;TZID=America/New_York:20180821T220000
DTSTAMP:20260419T111439
CREATED:20180521T223820Z
LAST-MODIFIED:20180706T214122Z
UID:2422-1534878000-1534888800@onemontgomerygreen.org
SUMMARY:Washington Nationals GreenSlam Fundraiser Night
DESCRIPTION:Take Your Green Self Out to the Ball Game! \nWashington Nationals GreenSlam Fundraiser Night \nPhillies at Nationals\nTUESDAY\, AUGUST 21   •   7:05 PM EST  \nPurchase Deadline Aug 20th @ 5:00 PM EST \nEnjoy a night at the ballpark while supporting your favorite area environmental organization! Discounted tickets are available in the designated seating areas\, and be sure to select your favorite cause at checkout—that would be ONE MONTGOMERY GREEN!  \nHelp spread the word\, and we look forward to seeing you at Nationals Park on August 21st!  To purchase tickets: \nhttps://groupmatics.events/event/Greenslam
URL:https://onemontgomerygreen.org/index.php/calendarevent/washington-nationals-greenslam-fundraiser-night/
LOCATION:Washington Nationals Ballpark\, 1500 S Capitol St SE\, Washington\, DC\, 20003\, United States
CATEGORIES:baseball game,fun,Fun for kids,fundraiser
ATTACH;FMTTYPE=image/png:https://onemontgomerygreen.org/wp-content/uploads/2018/05/greengroups.png
END:VEVENT
BEGIN:VEVENT
DTSTART;TZID=America/New_York:20180628T180000
DTEND;TZID=America/New_York:20180628T210000
DTSTAMP:20260419T111439
CREATED:20180405T153647Z
LAST-MODIFIED:20180521T225222Z
UID:2244-1530208800-1530219600@onemontgomerygreen.org
SUMMARY:One Montgomery Green GALA 2018
DESCRIPTION:One Montgomery Green Drinks GALA 2018 \nThursday\,  June 28\, 2018  •  6-9 pm \nBrookside Gardens Visitors Center Reception Hall \n1800 Glenallan Ave\, Silver Spring\, MD 20902 \nhttps://www.montgomeryparks.org/brookside/ \nWhat to Expect:   Mouth Watering Appetizers\, Local Beer & Wine\, Delicious Refreshments\, Informational Green Vendors\, Fun Door Prizes! \nEat\, Drink and Be Green!  \nJoin One Montgomery Green\, the Maryland Green Registry and U.S. Green Building Council (Maryland) for a night of good drinks\, great eats and grand meets with environmentally minded folks. Network with organizations focused on sustainability. Enjoy appetizers and drinks from local restaurants and vendors like Hollywood East Café and Green Plate Catering.  Learn from leaders who strive to implement sustainable practices at work and home. Recognize the Maryland Green Registry Leadership Award winners and all registry members’ work. Educate Montgomery County residents and statewide representatives of sustainable communities about your products and services. \nFor Exhibit/Sponsorship Information contact Wendy or Laura\, info@onemontgomerygreen.org \nSponsor Information Here \nTickets: Early Bird $50 (before June 3) | Regular $60 a person | $75 at door \n \nHelp us create a “greener” Montgomery County! \nRSVP  https://omggreengala2018.eventbrite.com \nFACEBOOK EVENT PAGE:  https://www.facebook.com/events/2048640725411684
URL:https://onemontgomerygreen.org/index.php/calendarevent/one-montgomery-green-gala-2018/
LOCATION:Brookside Gardens Visitors Center\, 1800 Glenallen Avenue\, Wheaton\, MD\, 20902\, United States
CATEGORIES:celebration,Community,food,fundraiser,Gala,Green,Green Drinks
ATTACH;FMTTYPE=image/jpeg:https://onemontgomerygreen.org/wp-content/uploads/2017/05/GreenWheatonGala2017-600x440.jpg
ORGANIZER;CN="One Montgomery Green":MAILTO:info@onemontgomerygreen.org
END:VEVENT
BEGIN:VEVENT
DTSTART;TZID=America/New_York:20180426T170000
DTEND;TZID=America/New_York:20180426T200000
DTSTAMP:20260419T111439
CREATED:20180315T170553Z
LAST-MODIFIED:20180315T170915Z
UID:2141-1524762000-1524772800@onemontgomerygreen.org
SUMMARY:Night on the Wild Side @ Patuxent Research Refuge
DESCRIPTION:Night on the Wild Side @ Patuxent Research Refuge \nExperience YOUR Wildlife Refuge \nThursday\, April 26\, 2018 • 5-8 pm \nNational Wildlife Visitor Center at Patuxent Research Refuge\n10901 Scarlet Tanager Loop\, Laurel\, MD 20708 \n\nMeet a live owl and other critters\nTalk with wildlife scientists\nEnjoy great food\, music\, adult beverages\nGrand Prize drawing at 6:45pm (auditorium)\nDiscover fun activities—hiking\, photography\, fishing and more\nTake a fascinating conservation tram ride\nMusic by Chuggalug\nDoor Prizes\n\nEveryone is reminded that underaged consumption of alcohol is strictly prohibited. \nHosted by Friends of Patuxent  •  Donations always appreciated \nRSVP required by April 13 to event@friendsofpatuxent.org or call 301-497-5789 \n  \nHosted by Friends of Patuxent\nhttp://www.friendsofpatuxent.org/ \nDonations always appreciated
URL:https://onemontgomerygreen.org/index.php/calendarevent/night-on-the-wild-side-patuxent-research-refuge/
LOCATION:National Wildlife Visitor Center at Patuxent Research Refuge\, 10901 Scarlet Tanager Loop\, Laurel\, MD\, 20708\, United States
CATEGORIES:celebration,Community,Education,Environment,fundraiser
ATTACH;FMTTYPE=image/png:https://onemontgomerygreen.org/wp-content/uploads/2018/03/WildSide.png
ORGANIZER;CN="Friends of Patuxent":MAILTO:friendsprr@friendsofpatuxent.org
END:VEVENT
BEGIN:VEVENT
DTSTART;TZID=America/New_York:20180315T180000
DTEND;TZID=America/New_York:20180315T210000
DTSTAMP:20260419T111439
CREATED:20180131T230348Z
LAST-MODIFIED:20180131T230348Z
UID:1987-1521136800-1521147600@onemontgomerygreen.org
SUMMARY:USGBC-NCR Green Tie Affair 2018
DESCRIPTION:USGBC-NCR Green Tie Affair 2018 \nUSGBC National Capital Region \nThursday\, March 15\, 2018 from 6:00 PM to 9:00 PM \nDistrict Winery\, 385 Water Street Southeast\, Washington\, DC 20003 \nWelcome the Spring with the U.S. Green Building Council National Capital Region (USGBC-NCR) at our 17th annual Green Tie Affair celebration and fundraiser! We’re hosting 300 of your green building colleagues from across the DMV for an evening of networking at the District Winery\, DC’s only operational commercial winery\, which opened this past Fall in The Yards waterfront neighborhood. In addition to beautiful views of the Anacostia River boardwalk from the mezzanine and outdoor deck complete with a green roof\, attendees will enjoy an open bar featuring local beer and delicious wines made onsite along with an array of hors d’oeuvres. \nProceeds from this event will support our local education\, advocacy\, and community outreach initiatives. Join us and raise a glass to making the DC region a greener\, healthier\, more resilient place to live\, work\, and play! \nSponsorship opportunities are available. Contact Mark Bryan for more information. \nTo register and for more information: https://www.eventbrite.com/e/usgbc-ncr-green-tie-affair-2018-tickets-42004408316
URL:https://onemontgomerygreen.org/index.php/calendarevent/usgbc-ncr-green-tie-affair-2018/
LOCATION:District Winery\, 385 Water Street Southeast\, Washington\, DC\, 20003\, United States
CATEGORIES:celebration,fun,fundraiser,green building
ATTACH;FMTTYPE=image/jpeg:https://onemontgomerygreen.org/wp-content/uploads/2018/01/GreenTie.jpg
END:VEVENT
END:VCALENDAR