BEGIN:VCALENDAR
VERSION:2.0
PRODID:-//One Montgomery Green - ECPv6.15.20//NONSGML v1.0//EN
CALSCALE:GREGORIAN
METHOD:PUBLISH
X-WR-CALNAME:One Montgomery Green
X-ORIGINAL-URL:https://onemontgomerygreen.org
X-WR-CALDESC:Events for One Montgomery Green
REFRESH-INTERVAL;VALUE=DURATION:PT1H
X-Robots-Tag:noindex
X-PUBLISHED-TTL:PT1H
BEGIN:VTIMEZONE
TZID:America/New_York
BEGIN:DAYLIGHT
TZOFFSETFROM:-0500
TZOFFSETTO:-0400
TZNAME:EDT
DTSTART:20170312T070000
END:DAYLIGHT
BEGIN:STANDARD
TZOFFSETFROM:-0400
TZOFFSETTO:-0500
TZNAME:EST
DTSTART:20171105T060000
END:STANDARD
BEGIN:DAYLIGHT
TZOFFSETFROM:-0500
TZOFFSETTO:-0400
TZNAME:EDT
DTSTART:20180311T070000
END:DAYLIGHT
BEGIN:STANDARD
TZOFFSETFROM:-0400
TZOFFSETTO:-0500
TZNAME:EST
DTSTART:20181104T060000
END:STANDARD
BEGIN:DAYLIGHT
TZOFFSETFROM:-0500
TZOFFSETTO:-0400
TZNAME:EDT
DTSTART:20190310T070000
END:DAYLIGHT
BEGIN:STANDARD
TZOFFSETFROM:-0400
TZOFFSETTO:-0500
TZNAME:EST
DTSTART:20191103T060000
END:STANDARD
BEGIN:DAYLIGHT
TZOFFSETFROM:-0500
TZOFFSETTO:-0400
TZNAME:EDT
DTSTART:20200308T070000
END:DAYLIGHT
BEGIN:STANDARD
TZOFFSETFROM:-0400
TZOFFSETTO:-0500
TZNAME:EST
DTSTART:20201101T060000
END:STANDARD
BEGIN:DAYLIGHT
TZOFFSETFROM:-0500
TZOFFSETTO:-0400
TZNAME:EDT
DTSTART:20210314T070000
END:DAYLIGHT
BEGIN:STANDARD
TZOFFSETFROM:-0400
TZOFFSETTO:-0500
TZNAME:EST
DTSTART:20211107T060000
END:STANDARD
BEGIN:DAYLIGHT
TZOFFSETFROM:-0500
TZOFFSETTO:-0400
TZNAME:EDT
DTSTART:20220313T070000
END:DAYLIGHT
BEGIN:STANDARD
TZOFFSETFROM:-0400
TZOFFSETTO:-0500
TZNAME:EST
DTSTART:20221106T060000
END:STANDARD
BEGIN:DAYLIGHT
TZOFFSETFROM:-0500
TZOFFSETTO:-0400
TZNAME:EDT
DTSTART:20230312T070000
END:DAYLIGHT
BEGIN:STANDARD
TZOFFSETFROM:-0400
TZOFFSETTO:-0500
TZNAME:EST
DTSTART:20231105T060000
END:STANDARD
BEGIN:DAYLIGHT
TZOFFSETFROM:-0500
TZOFFSETTO:-0400
TZNAME:EDT
DTSTART:20240310T070000
END:DAYLIGHT
BEGIN:STANDARD
TZOFFSETFROM:-0400
TZOFFSETTO:-0500
TZNAME:EST
DTSTART:20241103T060000
END:STANDARD
BEGIN:DAYLIGHT
TZOFFSETFROM:-0500
TZOFFSETTO:-0400
TZNAME:EDT
DTSTART:20250309T070000
END:DAYLIGHT
BEGIN:STANDARD
TZOFFSETFROM:-0400
TZOFFSETTO:-0500
TZNAME:EST
DTSTART:20251102T060000
END:STANDARD
BEGIN:DAYLIGHT
TZOFFSETFROM:-0500
TZOFFSETTO:-0400
TZNAME:EDT
DTSTART:20260308T070000
END:DAYLIGHT
BEGIN:STANDARD
TZOFFSETFROM:-0400
TZOFFSETTO:-0500
TZNAME:EST
DTSTART:20261101T060000
END:STANDARD
END:VTIMEZONE
BEGIN:VEVENT
DTSTART;TZID=America/New_York:20250517T110000
DTEND;TZID=America/New_York:20250517T150000
DTSTAMP:20260423T014605
CREATED:20250331T175336Z
LAST-MODIFIED:20250331T175336Z
UID:11943-1747479600-1747494000@onemontgomerygreen.org
SUMMARY:Bethesda Green Living Fair
DESCRIPTION:Bethesda Green Living Fair  \nJoin us for a day of sustainability\, community\, and eco-friendly inspiration at the Green Living Fair on Saturday\, May 17th! Explore local green businesses\, discover sustainable products\, and learn simple ways to live a greener lifestyle.  \n📍 Where: Bethesda Green\, 4825 Cordell Avenue\n⏰ When: Saturday\, May 17th\n🎉 What: Vendors\, activities\, giveaways\, and more! \nStay tuned for more details—and mark your calendar! 🌱 \n\nHome Page
URL:https://onemontgomerygreen.org/index.php/calendarevent/bethesda-green-living-fair/
LOCATION:Bethesda Green\, 4825 Cordell Avenue\, Suite 200\, Bethesda\, 20814\, United States
CATEGORIES:Fairs & Festivals,green business
ATTACH;FMTTYPE=image/png:https://onemontgomerygreen.org/wp-content/uploads/2025/03/48e9b42b-6cdc-a093-d336-80edda1c5480.png
ORGANIZER;CN="Bethesda Green":MAILTO:info@bethesdagreen.org
END:VEVENT
BEGIN:VEVENT
DTSTART;TZID=America/New_York:20241009T080000
DTEND;TZID=America/New_York:20241009T100000
DTSTAMP:20260423T014605
CREATED:20240912T215923Z
LAST-MODIFIED:20240912T215923Z
UID:11303-1728460800-1728468000@onemontgomerygreen.org
SUMMARY:MoCo Green Business Certification Program Breakfast
DESCRIPTION:To register: https://bit.ly/GreenBizBreakfast
URL:https://onemontgomerygreen.org/index.php/calendarevent/moco-green-business-certification-program-breakfast/
LOCATION:District Bistro\, 11230 Grandview Ave\, Wheaton\, MD\, 20902\, United States
CATEGORIES:1OMG,breakfast meeting,green business
ATTACH;FMTTYPE=image/jpeg:https://onemontgomerygreen.org/wp-content/uploads/2024/09/100924_GreenCertProgram-F.jpg
ORGANIZER;CN="Bethesda Green":MAILTO:info@bethesdagreen.org
END:VEVENT
BEGIN:VEVENT
DTSTART;TZID=America/New_York:20190627T180000
DTEND;TZID=America/New_York:20190627T210000
DTSTAMP:20260423T014605
CREATED:20190426T213142Z
LAST-MODIFIED:20190426T213142Z
UID:4146-1561658400-1561669200@onemontgomerygreen.org
SUMMARY:One Montgomery Green Gala 2019
DESCRIPTION:One Montgomery Green Gala 2019 \nhttps://omggala2019.eventbrite.com
URL:https://onemontgomerygreen.org/index.php/calendarevent/one-montgomery-green-gala-2019/
LOCATION:Brookside Gardens Visitors Center\, 1800 Glenallen Avenue\, Wheaton\, MD\, 20902\, United States
CATEGORIES:event,events,fun for families,Gala,Green,green business,Green Drinks
ATTACH;FMTTYPE=application/pdf:https://onemontgomerygreen.org/wp-content/uploads/2019/04/OMGreenDrinksGala2019-flyer.pdf
ORGANIZER;CN="One Montgomery Green":MAILTO:info@onemontgomerygreen.org
END:VEVENT
BEGIN:VEVENT
DTSTART;TZID=America/New_York:20180927T073000
DTEND;TZID=America/New_York:20180927T093000
DTSTAMP:20260423T014605
CREATED:20180906T221336Z
LAST-MODIFIED:20180906T221336Z
UID:2947-1538033400-1538040600@onemontgomerygreen.org
SUMMARY:Multi-Chamber Energy Efficiency and Sustainability Workshop and Breakfast
DESCRIPTION:Multi-Chamber Energy Efficiency and Sustainability Workshop and Breakfast \nThursday\, September 27th\, 7:30 to 9:30 am \nManor Country Club\, 14901 Carrolton Road\, Rockville \nThe free event will have representatives from Pepco’s Energy Savings for Businesses program\, the Montgomery County Green Bank’s Commercial Loan for Energy Efficiency and Renewables (CLEER)\, the county’s Commercial Property Assessed Clean Energy (C-PACE) financing program\, and the county’s Green Business Certification Program\, as well as representatives from the business community who have benefitted from these programs. Click here to learn more and register.
URL:https://onemontgomerygreen.org/index.php/calendarevent/multi-chamber-energy-efficiency-and-sustainability-workshop-and-breakfast/
LOCATION:Manor Country Club\, 14901 Carrolton Road\, Rockville\, MD\, 20853\, United States
CATEGORIES:breakfast meeting,energy professionals,Environment,green business,meet & greet,neighborhood,networking,Public Meeting,Rockville,sustainability,workshop
ATTACH;FMTTYPE=image/jpeg:https://onemontgomerygreen.org/wp-content/uploads/2018/09/MultiChamberEvent.jpg
ORGANIZER;CN="Rockville Chamber of Commerce":MAILTO:amy@rockvillechamber.org
END:VEVENT
BEGIN:VEVENT
DTSTART;TZID=America/New_York:20180912T090000
DTEND;TZID=America/New_York:20180912T110000
DTSTAMP:20260423T014605
CREATED:20180906T212346Z
LAST-MODIFIED:20180906T213558Z
UID:2932-1536742800-1536750000@onemontgomerygreen.org
SUMMARY:Bethesda Green's Be Impact Training: Measuring and Improving Environmental and Social Impact
DESCRIPTION:Bethesda Green’s Be Impact Training:\nMeasuring and Improving Environmental and Social Impact \nWednesday\, September 12\, 9:00 to 11:00 AM \n Bethesda Green\, 4825 Cordell Ave\, Suite 200\, Bethesda\, MD 20814 \nBethesda Green\, in partnership with B Lab\, is offering a three-part training program to help businesses benchmark and improve their environmental and social impact. Learn how to utilize B Lab’s software-based toolkit accessed by over 10\,000 businesses worldwide and benefit from in-person technical support. Training will put your business on the path toward recognition by the Montgomery County Green Business Certification Program! Click here to learn more register. \n 
URL:https://onemontgomerygreen.org/index.php/calendarevent/bethesda-greens-be-impact-training-measuring-and-improving-environmental-and-social-impact/
LOCATION:Bethesda Green\, 4825 Cordell Avenue\, Suite 200\, Bethesda\, MD\, 20814\, United States
CATEGORIES:Community,Education,Green,green business,green training,sustainability
ATTACH;FMTTYPE=image/png:https://onemontgomerygreen.org/wp-content/uploads/2018/09/Screen-Shot-2018-09-06-at-5.11.26-PM.png
ORGANIZER;CN="Bethesda Green":MAILTO:info@bethesdagreen.org
END:VEVENT
END:VCALENDAR