BEGIN:VCALENDAR
VERSION:2.0
PRODID:-//One Montgomery Green - ECPv6.15.20//NONSGML v1.0//EN
CALSCALE:GREGORIAN
METHOD:PUBLISH
X-WR-CALNAME:One Montgomery Green
X-ORIGINAL-URL:https://onemontgomerygreen.org
X-WR-CALDESC:Events for One Montgomery Green
REFRESH-INTERVAL;VALUE=DURATION:PT1H
X-Robots-Tag:noindex
X-PUBLISHED-TTL:PT1H
BEGIN:VTIMEZONE
TZID:America/New_York
BEGIN:DAYLIGHT
TZOFFSETFROM:-0500
TZOFFSETTO:-0400
TZNAME:EDT
DTSTART:20250309T070000
END:DAYLIGHT
BEGIN:STANDARD
TZOFFSETFROM:-0400
TZOFFSETTO:-0500
TZNAME:EST
DTSTART:20251102T060000
END:STANDARD
BEGIN:DAYLIGHT
TZOFFSETFROM:-0500
TZOFFSETTO:-0400
TZNAME:EDT
DTSTART:20260308T070000
END:DAYLIGHT
BEGIN:STANDARD
TZOFFSETFROM:-0400
TZOFFSETTO:-0500
TZNAME:EST
DTSTART:20261101T060000
END:STANDARD
BEGIN:DAYLIGHT
TZOFFSETFROM:-0500
TZOFFSETTO:-0400
TZNAME:EDT
DTSTART:20270314T070000
END:DAYLIGHT
BEGIN:STANDARD
TZOFFSETFROM:-0400
TZOFFSETTO:-0500
TZNAME:EST
DTSTART:20271107T060000
END:STANDARD
END:VTIMEZONE
BEGIN:VEVENT
DTSTART;TZID=America/New_York:20260516T090000
DTEND;TZID=America/New_York:20260516T103000
DTSTAMP:20260423T093833
CREATED:20260422T220316Z
LAST-MODIFIED:20260422T220316Z
UID:12926-1778922000-1778927400@onemontgomerygreen.org
SUMMARY:Walk Our Watershed – Muddy Branch Greenway Trail
DESCRIPTION:Walk in your watershed\n \nJoin us for the Muddy Branch Alliance’s “Walk Our Watershed” series! The walks will be led on a series of routes along the Muddy Branch Greenway Trail. Come experience the beautiful spring foliage of our lovely Muddy Branch headwaters in Gaithersburg! The hike will take place on Saturday\, May 16\, from 9:00 until 10:15. Starting at the Izaak Walton League parking area\, we will follow the Muddy Branch downstream on a pleasant out-and-back walk around Lake Halcyon\, under Great Seneca Highway\, and then returning. All ages and abilities welcome for this 2.2-mile round trip; please wear appropriate attire and bring water. We hope to see you there! Please RSVP by clicking here.
URL:https://onemontgomerygreen.org/index.php/calendarevent/walk-our-watershed-muddy-branch-greenway-trail/
LOCATION:Isaak Walton League of America Headquarters\, 707 Conservation Ln\, Gaithersburg\, MD\, 20878\, United States
CATEGORIES:hike,nature hike
ORGANIZER;CN="Muddy Branch Alliance":MAILTO:muddybranchalliance@gmail.com
END:VEVENT
END:VCALENDAR