BEGIN:VCALENDAR
VERSION:2.0
PRODID:-//One Montgomery Green - ECPv6.15.20//NONSGML v1.0//EN
CALSCALE:GREGORIAN
METHOD:PUBLISH
X-ORIGINAL-URL:https://onemontgomerygreen.org
X-WR-CALDESC:Events for One Montgomery Green
REFRESH-INTERVAL;VALUE=DURATION:PT1H
X-Robots-Tag:noindex
X-PUBLISHED-TTL:PT1H
BEGIN:VTIMEZONE
TZID:America/New_York
BEGIN:DAYLIGHT
TZOFFSETFROM:-0500
TZOFFSETTO:-0400
TZNAME:EDT
DTSTART:20170312T070000
END:DAYLIGHT
BEGIN:STANDARD
TZOFFSETFROM:-0400
TZOFFSETTO:-0500
TZNAME:EST
DTSTART:20171105T060000
END:STANDARD
BEGIN:DAYLIGHT
TZOFFSETFROM:-0500
TZOFFSETTO:-0400
TZNAME:EDT
DTSTART:20180311T070000
END:DAYLIGHT
BEGIN:STANDARD
TZOFFSETFROM:-0400
TZOFFSETTO:-0500
TZNAME:EST
DTSTART:20181104T060000
END:STANDARD
BEGIN:DAYLIGHT
TZOFFSETFROM:-0500
TZOFFSETTO:-0400
TZNAME:EDT
DTSTART:20190310T070000
END:DAYLIGHT
BEGIN:STANDARD
TZOFFSETFROM:-0400
TZOFFSETTO:-0500
TZNAME:EST
DTSTART:20191103T060000
END:STANDARD
BEGIN:DAYLIGHT
TZOFFSETFROM:-0500
TZOFFSETTO:-0400
TZNAME:EDT
DTSTART:20200308T070000
END:DAYLIGHT
BEGIN:STANDARD
TZOFFSETFROM:-0400
TZOFFSETTO:-0500
TZNAME:EST
DTSTART:20201101T060000
END:STANDARD
END:VTIMEZONE
BEGIN:VEVENT
DTSTART;TZID=America/New_York:20190427T130000
DTEND;TZID=America/New_York:20190427T150000
DTSTAMP:20260419T125148
CREATED:20190218T180701Z
LAST-MODIFIED:20190218T180732Z
UID:3854-1556370000-1556377200@onemontgomerygreen.org
SUMMARY:Rachel Carson Historic Site Tour and Nature Walk
DESCRIPTION:Rachel Carson Historic Site Tour and Nature Walk\nSat\, April 27\, 2019  •  1:00 PM – 3:00 PM EDT\n\nRachel Carson House\, 11701 Berwick Road\, Silver Spring\, Maryland 20904\n\nView Map \n\nCome see where Rachel Carson wrote Silent Spring\, the monumental 1962 expose documenting the environmental dangers of the indiscriminate use of pesticides then being used\, such as the now-banned DDT. Her Silver Spring home has been maintained by the Rachel Carson Landmark Alliance as it was when she lived there while working as an editor for the U.S. Fish and Wildlife Service. Learn about the personal challenges she faced while she wrote and defended the book\, including her fight against cancer which claimed her life just two years later. Following the tour\, we’ll take an easy walk along the nearby Rachel Carson Greenway Trail and reflect on her contributions to our environment today. \nSponsored by Montgomery History.  Register at  https://www.eventbrite.com/e/rachel-carson-historic-site-tour-and-nature-walk-tickets-56204701776
URL:https://onemontgomerygreen.org/index.php/calendarevent/rachel-carson-historic-site-tour-and-nature-walk/
LOCATION:Rachel Carson House\, 11701 Berwick Road\, Silver Spring\, MD\, 20904\, United States
CATEGORIES:Community,hike,history,open house,tour,Walking Tour
ATTACH;FMTTYPE=image/jpeg:https://onemontgomerygreen.org/wp-content/uploads/2017/04/RachelCarsonHouse.jpg
END:VEVENT
BEGIN:VEVENT
DTSTART;TZID=America/New_York:20180810T193000
DTEND;TZID=America/New_York:20180810T210000
DTSTAMP:20260419T125148
CREATED:20180724T174021Z
LAST-MODIFIED:20180724T174021Z
UID:2756-1533929400-1533934800@onemontgomerygreen.org
SUMMARY:JOSIAH: AFI Documentary Film Screening and Discussion
DESCRIPTION:American Film Institute \nJOSIAH: DOCUMENTARY FILM SCREENING AND DISCUSSION \n(benefitting Josiah Henson Park) \nFriday\, August 10th  •  7:30 p.m. \n\nAFI Silver Theatre and Cultural CenterThe Montgomery Parks Foundation and AFI Silver Theatre present a special screening of the documentary film Josiah. The screening will take place on Friday\, August 10\, 2018\, from 7:30 p.m. to 9:30 p.m. at the \nDirected/Produced by Jared Brock\, this is an unmissable documentary that restores a hero of the abolitionist movement to his rightful place in history.\nThe film traces Henson’s harrowing journey from slavery in Maryland and Kentucky to freedom in Canada through interviews with leading experts and Josiah Henson’s descendants.\nThe film will be followed by a Q&A with filmmaker\, Jared Brock. Proceeds from this event will go to the Josiah Henson Park.\nRead more about Josiah and purchase tickets
URL:https://onemontgomerygreen.org/index.php/calendarevent/josiah-afi-documentary-film-screening-and-discussion/
LOCATION:AFI Silver Theatre and Cultural Center\, 8633 Colesville Road\, Silver Spring\, MD\, 20910\, United States
CATEGORIES:documentary showing,Education,film screening,history,movie showing,neighborhood
ATTACH;FMTTYPE=image/jpeg:https://onemontgomerygreen.org/wp-content/uploads/2018/07/fce5159f-c905-4c07-80a7-c89a727aa01a.jpg
ORGANIZER;CN="Montgomery County Parks":MAILTO:Info@MontgomeryParks.org
END:VEVENT
END:VCALENDAR