BEGIN:VCALENDAR
VERSION:2.0
PRODID:-//One Montgomery Green - ECPv6.15.20//NONSGML v1.0//EN
CALSCALE:GREGORIAN
METHOD:PUBLISH
X-ORIGINAL-URL:https://onemontgomerygreen.org
X-WR-CALDESC:Events for One Montgomery Green
REFRESH-INTERVAL;VALUE=DURATION:PT1H
X-Robots-Tag:noindex
X-PUBLISHED-TTL:PT1H
BEGIN:VTIMEZONE
TZID:America/New_York
BEGIN:DAYLIGHT
TZOFFSETFROM:-0500
TZOFFSETTO:-0400
TZNAME:EDT
DTSTART:20160313T070000
END:DAYLIGHT
BEGIN:STANDARD
TZOFFSETFROM:-0400
TZOFFSETTO:-0500
TZNAME:EST
DTSTART:20161106T060000
END:STANDARD
BEGIN:DAYLIGHT
TZOFFSETFROM:-0500
TZOFFSETTO:-0400
TZNAME:EDT
DTSTART:20170312T070000
END:DAYLIGHT
BEGIN:STANDARD
TZOFFSETFROM:-0400
TZOFFSETTO:-0500
TZNAME:EST
DTSTART:20171105T060000
END:STANDARD
BEGIN:DAYLIGHT
TZOFFSETFROM:-0500
TZOFFSETTO:-0400
TZNAME:EDT
DTSTART:20180311T070000
END:DAYLIGHT
BEGIN:STANDARD
TZOFFSETFROM:-0400
TZOFFSETTO:-0500
TZNAME:EST
DTSTART:20181104T060000
END:STANDARD
END:VTIMEZONE
BEGIN:VEVENT
DTSTART;TZID=America/New_York:20170923T093000
DTEND;TZID=America/New_York:20170923T230000
DTSTAMP:20260425T210214
CREATED:20170908T141628Z
LAST-MODIFIED:20170908T141628Z
UID:1384-1506159000-1506207600@onemontgomerygreen.org
SUMMARY:Organic Lawn Care Workshop
DESCRIPTION:Organic Lawn Care Workshop\nSaturday\, Sept 23rd at Casey Community Center in Gaithersburg\, MD @ 9:30AM\nhttps://www.facebook.com/events/519163638417922\n\nLawn Care Protects our Waterways\, our Wildlife & our Health. \n\n\nLearn the essentials of pesticide-free lawn care from an organic lawn care expert at this free 90 minute workshop hosted by the City of Gaithersburg and its Environmental Affairs Committee\, the Kentlands Community Foundation GO GREEN Group\, and Sierra Club Maryland. \n\n\n\nAccredited Organic Lawn Care Professional\, Zack Kline\, head of A.I.R. Lawn Care\, Natural\, Organic Lawn Care and Sustainable Landscaping Services\, has worked with communities and residents throughout Montgomery County to transition lawns to organic care\, meaning without the use of synthetic herbicides\, insecticides or fertilizers. His company also provides organic lawn care at the Maryland State House grounds.  \nYou’ll learn from an expert and you’ll also come away with a list of important questions to ask when hiring an organic lawn care professional. \nPart of the workshop will be conducted outside\, weather permitting. \n\nMore details and register at bit.ly/organiclawns\, or email Dyan Backe at: dyan.backe@gaithersburgmd.gov
URL:https://onemontgomerygreen.org/index.php/calendarevent/organic-lawn-care-workshop/
LOCATION:Casey Community Center\, 810 S Frederick Ave\, Gaithersburg\, MD\, 20877\, United States
CATEGORIES:Environment,Green,lawn care,Science,sustainability,workshop
ATTACH;FMTTYPE=image/png:https://onemontgomerygreen.org/wp-content/uploads/2017/09/image.png
END:VEVENT
END:VCALENDAR