BEGIN:VCALENDAR
VERSION:2.0
PRODID:-//One Montgomery Green - ECPv6.15.20//NONSGML v1.0//EN
CALSCALE:GREGORIAN
METHOD:PUBLISH
X-ORIGINAL-URL:https://onemontgomerygreen.org
X-WR-CALDESC:Events for One Montgomery Green
REFRESH-INTERVAL;VALUE=DURATION:PT1H
X-Robots-Tag:noindex
X-PUBLISHED-TTL:PT1H
BEGIN:VTIMEZONE
TZID:America/New_York
BEGIN:DAYLIGHT
TZOFFSETFROM:-0500
TZOFFSETTO:-0400
TZNAME:EDT
DTSTART:20190310T070000
END:DAYLIGHT
BEGIN:STANDARD
TZOFFSETFROM:-0400
TZOFFSETTO:-0500
TZNAME:EST
DTSTART:20191103T060000
END:STANDARD
BEGIN:DAYLIGHT
TZOFFSETFROM:-0500
TZOFFSETTO:-0400
TZNAME:EDT
DTSTART:20200308T070000
END:DAYLIGHT
BEGIN:STANDARD
TZOFFSETFROM:-0400
TZOFFSETTO:-0500
TZNAME:EST
DTSTART:20201101T060000
END:STANDARD
BEGIN:DAYLIGHT
TZOFFSETFROM:-0500
TZOFFSETTO:-0400
TZNAME:EDT
DTSTART:20210314T070000
END:DAYLIGHT
BEGIN:STANDARD
TZOFFSETFROM:-0400
TZOFFSETTO:-0500
TZNAME:EST
DTSTART:20211107T060000
END:STANDARD
BEGIN:DAYLIGHT
TZOFFSETFROM:-0500
TZOFFSETTO:-0400
TZNAME:EDT
DTSTART:20220313T070000
END:DAYLIGHT
BEGIN:STANDARD
TZOFFSETFROM:-0400
TZOFFSETTO:-0500
TZNAME:EST
DTSTART:20221106T060000
END:STANDARD
BEGIN:DAYLIGHT
TZOFFSETFROM:-0500
TZOFFSETTO:-0400
TZNAME:EDT
DTSTART:20230312T070000
END:DAYLIGHT
BEGIN:STANDARD
TZOFFSETFROM:-0400
TZOFFSETTO:-0500
TZNAME:EST
DTSTART:20231105T060000
END:STANDARD
BEGIN:DAYLIGHT
TZOFFSETFROM:-0500
TZOFFSETTO:-0400
TZNAME:EDT
DTSTART:20240310T070000
END:DAYLIGHT
BEGIN:STANDARD
TZOFFSETFROM:-0400
TZOFFSETTO:-0500
TZNAME:EST
DTSTART:20241103T060000
END:STANDARD
END:VTIMEZONE
BEGIN:VEVENT
DTSTART;TZID=America/New_York:20230721T103000
DTEND;TZID=America/New_York:20230721T113000
DTSTAMP:20260423T103445
CREATED:20230705T202628Z
LAST-MODIFIED:20230705T202807Z
UID:10416-1689935400-1689939000@onemontgomerygreen.org
SUMMARY:Latino Conservation Week: Nature Walk at Brookside Gardens – Caminata Ecológica at Brookside Gardens
DESCRIPTION:Latino Conservation Week:  \n \nNature Walk at Brookside Gardens \nFriday\, July 21 | 10:30 – 11:30 Brookside Gardens\, 1800 Glenallan Ave.\, Wheaton\, MD 20902\n\nDiscover the biodiversity of wild animals that live around the water ponds and stream at Brookside Gardens. Also the connection and importance of plants to animals and humans. Meet at the Visitor Center. Tour will focus on the Upper and Lower Aquatic Gardens and be led entirely in Spanish.\n\nThe event is free\, registration is required.\n\n—————————————-\n\nCaminata Ecológica at Brookside Gardens\n\nViernes\, 21 de julio | 10:30 – 11:30 | Brookside Gardens\,1800 Glenallan Ave.\, Wheaton\, MD 20902\n\nDescubra la biodiversidad de animales salvajes que viven al rededor de los estanques de agua y el arroyo en Brookside Gardens. También la conección y la importancia que tienen las plantas para los animales y para los seres humanos. Nos encontraremos en el Centro de Visitantes. El tour se centrará en los Jardines Acuáticos Superior e Inferior y se realizará íntegramente en español.\n\nEl evento es gratuito\, requiere inscripción.\n\n——————————————\n\nFor more information: https://www.facebook.com/events/995043091541465
URL:https://onemontgomerygreen.org/index.php/calendarevent/latino-conservation-week-nature-walk-at-brookside-gardens-caminata-ecologica-at-brookside-gardens/
LOCATION:Brookside Gardens\, 1800 Glenallan Avenue\, Wheaton\, MD\, 20902\, United States
CATEGORIES:nature walk
ATTACH;FMTTYPE=image/jpeg:https://onemontgomerygreen.org/wp-content/uploads/2023/07/https___cdn.evbuc_.com_images_527322689_174230963775_1_original.jpg
END:VEVENT
BEGIN:VEVENT
DTSTART;TZID=America/New_York:20221106T093000
DTEND;TZID=America/New_York:20221106T110000
DTSTAMP:20260423T103445
CREATED:20221018T191858Z
LAST-MODIFIED:20221018T191858Z
UID:9801-1667727000-1667732400@onemontgomerygreen.org
SUMMARY:DC EcoWomen Nature Hike thru Huntley Meadows Park\, Alex.\, VA
DESCRIPTION:Join DC EcoWomen on Sunday\, November 6 at 9:30 AM for a 2.8 mile trek through Huntley Meadows Park. \nAs a historical wetland and wildlife conservation area and one of Fairfax County’s largest parks\, Huntley Meadows is a great place to visit to immerse yourself in nature and learn about local wildlife\, including birds\, reptiles\, and even muskrats. Exact meeting location and voluntary carpool sign-up will be sent to registered participants. \nThis event is open to all who identify as women and their friends and families. To register\, please do so at the Eventbrite link below\, before November 4th\, 11 PM ET. \nRegister Here>>>
URL:https://onemontgomerygreen.org/index.php/calendarevent/dc-ecowomen-nature-hike-thru-huntley-meadows-park-alex-va/
LOCATION:Huntley Meadows Park\, 3701 Lockheed Blvd\, Alexandria\, VA\, 22306\, United States
CATEGORIES:hike,nature walk
ATTACH;FMTTYPE=image/png:https://onemontgomerygreen.org/wp-content/uploads/2022/10/Nature_Hike_11.6.22.png
END:VEVENT
BEGIN:VEVENT
DTSTART;TZID=America/New_York:20211120T100000
DTEND;TZID=America/New_York:20211120T120000
DTSTAMP:20260423T103445
CREATED:20211115T203346Z
LAST-MODIFIED:20211115T203444Z
UID:8399-1637402400-1637409600@onemontgomerygreen.org
SUMMARY:DC EcoWomen: Theodore Roosevelt Island Nature Hike
DESCRIPTION:That chill air is coming and we can only spend so many hours next to patio heat lamps\, so let’s keep warm on a hike. Join DC EcoWomen on Saturday\, November 20th at 10am for an easy hike at Theodore Roosevelt Island! \nThis is the first in a series of social hikes that DC EcoWomen is hosting this year. We’re looking forward to seeing old friends and getting to know new ones. Attend one or attend all\, but please register for each separately – registration links will become available throughout the year for the later hikes in the series. Additional hikes will be held on: \n* Saturday\, January 15\, 2022\, 10am – Rock Creek Park \n* Saturday\, March 12\, 2022\, 10am – Kingman and Heritage Islands \n* Saturday\, May 14\, 2022\, 10am – National Arboretum \n* Saturday\, July 16\, 2022\, 10am – Kenilworth Park and Aquatic Gardens \nThis event is open to all who identify as women and their friends and families. \nRegister Here>>>
URL:https://onemontgomerygreen.org/index.php/calendarevent/8399/
LOCATION:Theodore Roosevelt Island\, Washington\, DC\, United States
CATEGORIES:event,hike,nature walk
ATTACH;FMTTYPE=image/gif:https://onemontgomerygreen.org/wp-content/uploads/2020/05/dcecowomen_logo.gif
END:VEVENT
BEGIN:VEVENT
DTSTART;TZID=America/New_York:20200219T100000
DTEND;TZID=America/New_York:20200219T123000
DTSTAMP:20260423T103445
CREATED:20200131T211639Z
LAST-MODIFIED:20200131T211639Z
UID:5534-1582106400-1582115400@onemontgomerygreen.org
SUMMARY:Audubon Naturalist Society Wonders at Woodend: Forest Bathing through the Seasons
DESCRIPTION:Wonders at Woodend: Forest Bathing through the Seasons \nWednesday\, February 19  •  10:00 am – 12:30 pm \nLeader: Melanie Choukas-Bradley\nMembers $26; nonmembers $36 \nREGISTER \nSavor the natural joys of each season on forest bathing walks led by Melanie Choukas-Bradley\, a longtime ANS field trip leader and the author of The Joy of Forest Bathing—Reconnect with Wild Places & Rejuvenate Your Life. Discover the magic of shinrin-yoku\, translated as “forest bathing\,” a nature-oriented mindfulness practice that originated in Japan and has become popular all over the world. Our leader is a Nature & Forest Therapy Guide with certification from the Association of Nature & Forest Therapy Guides and Programs of Sonoma County\, California. Experience the restoration of Woodend as we explore and commune with the living things in our meadows\, forest\, and Blair Garden. A serving of maple sap “tea” and a sharing of nature poetry will conclude each walk. 
URL:https://onemontgomerygreen.org/index.php/calendarevent/audubon-naturalist-society-wonders-at-woodend-forest-bathing-through-the-seasons/
LOCATION:Audubon Naturalist Society Woodend Sanctuary\, 8940 Jones Mill Road\, Chevy Chase\, MD\, 20815\, United States
CATEGORIES:Nature,nature walk
ATTACH;FMTTYPE=image/jpeg:https://onemontgomerygreen.org/wp-content/uploads/2019/05/AudubonNaturalistSocietyLogo.jpg
ORGANIZER;CN="Audubon Naturalist Society":MAILTO:contact@anshome.org
END:VEVENT
END:VCALENDAR