BEGIN:VCALENDAR
VERSION:2.0
PRODID:-//One Montgomery Green - ECPv6.15.20//NONSGML v1.0//EN
CALSCALE:GREGORIAN
METHOD:PUBLISH
X-ORIGINAL-URL:https://onemontgomerygreen.org
X-WR-CALDESC:Events for One Montgomery Green
REFRESH-INTERVAL;VALUE=DURATION:PT1H
X-Robots-Tag:noindex
X-PUBLISHED-TTL:PT1H
BEGIN:VTIMEZONE
TZID:America/New_York
BEGIN:DAYLIGHT
TZOFFSETFROM:-0500
TZOFFSETTO:-0400
TZNAME:EDT
DTSTART:20180311T070000
END:DAYLIGHT
BEGIN:STANDARD
TZOFFSETFROM:-0400
TZOFFSETTO:-0500
TZNAME:EST
DTSTART:20181104T060000
END:STANDARD
BEGIN:DAYLIGHT
TZOFFSETFROM:-0500
TZOFFSETTO:-0400
TZNAME:EDT
DTSTART:20190310T070000
END:DAYLIGHT
BEGIN:STANDARD
TZOFFSETFROM:-0400
TZOFFSETTO:-0500
TZNAME:EST
DTSTART:20191103T060000
END:STANDARD
BEGIN:DAYLIGHT
TZOFFSETFROM:-0500
TZOFFSETTO:-0400
TZNAME:EDT
DTSTART:20200308T070000
END:DAYLIGHT
BEGIN:STANDARD
TZOFFSETFROM:-0400
TZOFFSETTO:-0500
TZNAME:EST
DTSTART:20201101T060000
END:STANDARD
BEGIN:DAYLIGHT
TZOFFSETFROM:-0500
TZOFFSETTO:-0400
TZNAME:EDT
DTSTART:20210314T070000
END:DAYLIGHT
BEGIN:STANDARD
TZOFFSETFROM:-0400
TZOFFSETTO:-0500
TZNAME:EST
DTSTART:20211107T060000
END:STANDARD
BEGIN:DAYLIGHT
TZOFFSETFROM:-0500
TZOFFSETTO:-0400
TZNAME:EDT
DTSTART:20220313T070000
END:DAYLIGHT
BEGIN:STANDARD
TZOFFSETFROM:-0400
TZOFFSETTO:-0500
TZNAME:EST
DTSTART:20221106T060000
END:STANDARD
BEGIN:DAYLIGHT
TZOFFSETFROM:-0500
TZOFFSETTO:-0400
TZNAME:EDT
DTSTART:20230312T070000
END:DAYLIGHT
BEGIN:STANDARD
TZOFFSETFROM:-0400
TZOFFSETTO:-0500
TZNAME:EST
DTSTART:20231105T060000
END:STANDARD
BEGIN:DAYLIGHT
TZOFFSETFROM:-0500
TZOFFSETTO:-0400
TZNAME:EDT
DTSTART:20240310T070000
END:DAYLIGHT
BEGIN:STANDARD
TZOFFSETFROM:-0400
TZOFFSETTO:-0500
TZNAME:EST
DTSTART:20241103T060000
END:STANDARD
END:VTIMEZONE
BEGIN:VEVENT
DTSTART;TZID=America/New_York:20231010T170000
DTEND;TZID=America/New_York:20231010T190000
DTSTAMP:20260422T013848
CREATED:20230924T201752Z
LAST-MODIFIED:20230924T201752Z
UID:10573-1696957200-1696964400@onemontgomerygreen.org
SUMMARY:CBT Environmental Sustainability in the Small Business Community
DESCRIPTION:Join Us October 10\, 2023\nfor a panel discussion with local small business owners focused on environmental sustainability.\n5PM Panel Discussion  |  6PM Reception\nNot available to join us in-person?\nRegister to attend online via Zoom! \nHosted by the Chesapeake Bay Trust\n108 Severn Avenue\, Annapolis\, MD \n\n\n\n\n\n\n\n\nModerated by Will Rowel\n\n\n\n\nCity of Annapolis\, Senior Advisory/\nCommunity Relations Specialist \nFEATURED PANELISTS:\n\nMonica Alvarado\nOwner\,  Bread & Butter Kitchen\nTilly Coyle\nExecutive Director\, Annapolis Green\nAli Mulaga\nFounder\, Green & Bean Boutique\nBilly Sadtler\nGeneral Manager\, Annapolis Subaru\nMike Tomasini\nPresident\, Eastport Business Association\n\nFor more information and to register: https://cbtrust.org/2023smallbusinesspanel/
URL:https://onemontgomerygreen.org/index.php/calendarevent/cbt-environmental-sustainability-in-the-small-business-community/
LOCATION:Chesapeake Bay Trust\, 108 Severn Avenue\, Annapolis\, MD\, 21403\, United States
CATEGORIES:panel,panel discussion
ATTACH;FMTTYPE=image/png:https://onemontgomerygreen.org/wp-content/uploads/2023/03/chesapeakebaytrust.png
ORGANIZER;CN="Chesapeake Bay Trust":MAILTO:info@cbtrust.org
END:VEVENT
BEGIN:VEVENT
DTSTART;TZID=America/New_York:20230613T170000
DTEND;TZID=America/New_York:20230613T190000
DTSTAMP:20260422T013848
CREATED:20230526T230043Z
LAST-MODIFIED:20230526T230043Z
UID:10339-1686675600-1686682800@onemontgomerygreen.org
SUMMARY:Chesapeake Bay Trust: Communities Addressing Climate Change Together
DESCRIPTION:Join us on Tuesday\, June 13th \nFor a Climate Change Panel Discussion with Maryland Mayors \nJoin us for a gathering of community leaders to discuss how cities and towns throughout Maryland can prepare for and mitigate the effects of climate change. Learn more about how these mayors are implementing innovative solutions to address environmental issues that empower and connect their communities.  \nIn-Person with Reception following from 5pm-7pm\n \nOR \nJoin via Zoom Webinar from 5pm-6pm \nFor questions\, contact Suzanne Armstro​ng\,\nVice President for Development at the Chesapeake Bay Trust \n 
URL:https://onemontgomerygreen.org/index.php/calendarevent/chesapeake-bay-trust-communities-addressing-climate-change-together/
CATEGORIES:event,hybrid event,panel
ATTACH;FMTTYPE=image/png:https://onemontgomerygreen.org/wp-content/uploads/2023/03/chesapeakebaytrust.png
END:VEVENT
BEGIN:VEVENT
DTSTART;TZID=America/New_York:20211118T150000
DTEND;TZID=America/New_York:20211118T160000
DTSTAMP:20260422T013848
CREATED:20211115T204356Z
LAST-MODIFIED:20211115T204356Z
UID:8404-1637247600-1637251200@onemontgomerygreen.org
SUMMARY:COP26 Conclusions and Action Steps
DESCRIPTION:COP26 Conclusions and Action Steps\nAdriana Hochberg\, new acting director of Montgomery County’s Department of Environmental Protection\, will be participating during the speaker panel for the final event of the COP26 Climate Action Marathon\, COP26 Conclusions and Action Steps on Thursday\, November 18th at 3pm EST/12pm PST sign up at: www.commonenergy.us/impact-events/cop26 
URL:https://onemontgomerygreen.org/index.php/calendarevent/cop26-conclusions-and-action-steps/
CATEGORIES:panel,Virtual Event,virtual meeting,Zoom event,Zoom meeting
ATTACH;FMTTYPE=image/jpeg:https://onemontgomerygreen.org/wp-content/uploads/2021/11/it-cop26-topic-4-1200x675_crop-1.jpg
END:VEVENT
BEGIN:VEVENT
DTSTART;VALUE=DATE:20210226
DTEND;VALUE=DATE:20210301
DTSTAMP:20260422T013848
CREATED:20210219T170325Z
LAST-MODIFIED:20210219T171111Z
UID:7376-1614297600-1614556799@onemontgomerygreen.org
SUMMARY:"Hometown Habitat" Film Screening and Discussion Panel
DESCRIPTION:“Hometown Habitat” Film Screening and Discussion Panel\n\n\n\nby Izaak Walton League of America  \n\nRegister for “Hometown Habitat” Film Screening and Panel Discussion\nView Friday 2/26 – Sunday 2/28 & Join Panel Discussion 3/2 \nHow can people in the region help pollinators\, save water and conserve the natural world for future generations?  To answer those questions\, a free\, virtual screening of the film “Hometown Habitat” will be offered in late February with a panel discussion to follow on March 2.  \nWith registration\, anyone can view the film any time between 8:00 pm Friday\, February 26\, 2021 and midnight Sunday\, February 28. The virtual panel discussion will be held on March 2 from 7:00 to 8:00 pm featuring experts in regenerative landscaping and stormwater management. The panel discussion will focus on gardening with beautiful plants\, creating a haven for butterflies and birds and promoting the health of the Chesapeake Bay. \nThe film screening is limited to 100 households with priority given to residents of the City of Gaithersburg\, Maryland. If additional spots are available\, other registrants may use them. \nTO REGISTER: https://www.eventbrite.com/e/hometown-habitat-film-screening-and-discussion-panel-registration-139932314319
URL:https://onemontgomerygreen.org/index.php/calendarevent/7376/
CATEGORIES:film screening,panel,Virtual Event
ATTACH;FMTTYPE=image/jpeg:https://onemontgomerygreen.org/wp-content/uploads/2021/02/https___cdn.evbuc_.com_images_125410525_405248565815_1_original.jpg
END:VEVENT
BEGIN:VEVENT
DTSTART;TZID=America/New_York:20201021T180000
DTEND;TZID=America/New_York:20201021T200000
DTSTAMP:20260422T013848
CREATED:20201015T193606Z
LAST-MODIFIED:20201015T193606Z
UID:6858-1603303200-1603310400@onemontgomerygreen.org
SUMMARY:Sierra Club Maryland Monthly Movie Panel Discussion: Generation: Green New Deal (2020)
DESCRIPTION:Sierra Club Maryland Monthly Movie Panel Discussion:\nGeneration: Green New Deal (2020) \nWednesday Oct 21st   •   6:00 PM \nSee the September film Panel Discussion webinar of the 2020 film “Unbreathable”. \nThen watch the new film “Generation:Green New Deal” and attend the panel discussion with the film Director. GOTV and support our young people who are fighting for their lives\, the country\, and the planet. Our October Film Panel Discussion will look into the core principles of the GND: climate and equity to heal the planet and the soul of America. Support the energy and power of the new generation: Change is here! \nSonia Demiray\, Film Club \n  \n\n\n\n\n\n\n\n\n\n\n\nWatch -Generation: Green New Deal\n\n\n\n\n\n\n\n\n\n\n\n  \n 
URL:https://onemontgomerygreen.org/index.php/calendarevent/sierra-club-maryland-monthly-movie-panel-discussion-generation-green-new-deal-2020/
CATEGORIES:film screening,movie showing,panel,Virtual Event,Virtual Screening,Zoom meeting
ATTACH;FMTTYPE=image/jpeg:https://onemontgomerygreen.org/wp-content/uploads/2019/01/SierraClubLogo-e1597001237437.jpg
END:VEVENT
BEGIN:VEVENT
DTSTART;TZID=America/New_York:20200326T180000
DTEND;TZID=America/New_York:20200326T200000
DTSTAMP:20260422T013848
CREATED:20200306T235303Z
LAST-MODIFIED:20200320T150546Z
UID:5691-1585245600-1585252800@onemontgomerygreen.org
SUMMARY:POSTPONED: Working Circular: Incorporating Circular Economy Principles in the Workplace
DESCRIPTION:Working Circular: Incorporating Circular Economy Principles in the Workplace\nPOSTPONED!  Saturday\, March 26th  •  6 – 8 pm \nThe Aspen Institute\, 2300 N Street Northwest #700\, Washington\, DC 20037 \nHosts: Aspen Institute\, DC Ecowomen\, and Leaders in Energy \n“Circular economy” is a sustainability framework that aims to design out waste and pollution\, keep products and materials in use\, and regenerate natural systems. \nHere in the DMV region\, it can feel like we spend more time in our workplaces than anywhere else. This panel and workshop will dive into a huge topic — the circular economy — at a tangible\, workplace scale. On March 26 at 6pm\, join the Leaders in Energy Circular Economy Working Group\, DC EcoWomen\, and the Aspen Institute Green Team for a panel and workshop that will give tangible tools on how to implement circular economy principles at your workplace. \nFor more information and to register: \nhttps://www.eventbrite.com/e/working-circular-integrating-circular-economy-principles-in-the-workplace-registration-90486275887
URL:https://onemontgomerygreen.org/index.php/calendarevent/working-circular-incorporating-circular-economy-principles-in-the-workplace/
LOCATION:The Aspen Institute\, 2300 N Street Northwest #700\, Washington\, DC\, 20037\, United States
CATEGORIES:panel
ATTACH;FMTTYPE=image/png:https://onemontgomerygreen.org/wp-content/uploads/2020/03/CE-March-26-Event-1024x533-1.png
END:VEVENT
BEGIN:VEVENT
DTSTART;TZID=America/New_York:20200303T180000
DTEND;TZID=America/New_York:20200303T193000
DTSTAMP:20260422T013848
CREATED:20200114T215634Z
LAST-MODIFIED:20200114T215634Z
UID:5470-1583258400-1583263800@onemontgomerygreen.org
SUMMARY:Thrive Montgomery 2050 Winter Speakers Series: Housing for All
DESCRIPTION:Thrive Montgomery 2050 Winter Speakers Series\nThe Montgomery County Planning Department is hosting a three-part “Big Ideas Series” held in January\, February and March 2020 from 6 to 7:30 p.m. at the Planning Department Headquarters (8787 Georgia Ave.\, Silver Spring\, MD). The series will feature speakers who will discuss ideas for planning for the future. The speakers’ series  is  part of Montgomery Planning’s  effort to update the county’s General Plan\, known as Thrive Montgomery 2050. RSVPs are encouraged but not required. The sessions include: \n\nHousing for All: March 3\, 2020\n\nThe 2020 Big Ideas Series will feature three moderated discussions on ideas about the evolving nature of food production and farming\, how economic health relates to multimodal transportation and how to provide housing for all. The series is free and open to the public and planning professionals. Credits for certification maintenance (CM) for members of the American Institute of Certified Planners (AICP) and American Society of Landscape Architects (ASLA) attending the series are available. \nAbout the Sessions\nThe Big Ideas Series will be held at the Planning Department headquarters (8787 Georgia Avenue\, Silver Spring\, MD) from 6 to 7:30 p.m. Sessions will also be available live and on-demand online. \n  \n\nHousing for All: March 3\, 2020 6 to 7:30 p.m.\nHow can housing in the future become more affordable\, address climate change\, promote diversity and make beautiful communities with a strong sense of place? The City of Minneapolis recently adopted a bold new comprehensive plan that will transform the way the housing in the city will grow in the future. The plan allows the development of tri-plex housing citywide\, eliminates minimum parking requirements\, and allows more high-density housing along transportation corridors. Participate in an innovative discussion from national leaders in housing planning and development on big ideas to achieve this vision. \nFor more information: https://montgomeryplanning.org/event/2020-winter-speaker-series/ \nRSVP
URL:https://onemontgomerygreen.org/index.php/calendarevent/thrive-montgomery-2050-winter-speakers-series-housing-for-all/
LOCATION:Montgomery County Planning Department\, 8787 Georgia Avenue\, Silver Spring\, MD\, 20910\, United States
CATEGORIES:discussion,panel
ATTACH;FMTTYPE=image/gif:https://onemontgomerygreen.org/wp-content/uploads/2020/01/big-ideas-960x540-short.gif
ORGANIZER;CN="Montgomery County Planning Department":MAILTO:david.anspacher@montgomeryplanning.or
END:VEVENT
BEGIN:VEVENT
DTSTART;TZID=America/New_York:20200211T180000
DTEND;TZID=America/New_York:20200211T193000
DTSTAMP:20260422T013848
CREATED:20200114T215054Z
LAST-MODIFIED:20200114T215054Z
UID:5468-1581444000-1581449400@onemontgomerygreen.org
SUMMARY:Thrive Montgomery 2050 Winter Speakers Series: Multimodal Transportation and a Healthy Economy
DESCRIPTION:Thrive Montgomery 2050 Winter Speakers Series\nThe Montgomery County Planning Department is hosting a three-part “Big Ideas Series” held in January\, February and March 2020 from 6 to 7:30 p.m. at the Planning Department Headquarters (8787 Georgia Ave.\, Silver Spring\, MD). The series will feature speakers who will discuss ideas for planning for the future. The speakers’ series  is  part of Montgomery Planning’s  effort to update the county’s General Plan\, known as Thrive Montgomery 2050. RSVPs are encouraged but not required. The sessions include: \n\nMultimodal Transportation and a Healthy Economy: February 11\, 2020\nHousing for All: March 3\, 2020\n\nThe 2020 Big Ideas Series will feature three moderated discussions on ideas about the evolving nature of food production and farming\, how economic health relates to multimodal transportation and how to provide housing for all. The series is free and open to the public and planning professionals. Credits for certification maintenance (CM) for members of the American Institute of Certified Planners (AICP) and American Society of Landscape Architects (ASLA) attending the series are available. \nAbout the Sessions\nThe Big Ideas Series will be held at the Planning Department headquarters (8787 Georgia Avenue\, Silver Spring\, MD) from 6 to 7:30 p.m. Sessions will also be available live and on-demand online. \n  \n\n \nMultimodal Transportation and a Healthy Economy: February 11\, 2020\, 6 to 7:30 p.m.\nMontgomery County is home to a diverse and robust economy\, and is a home to global companies\, government sectors\, and local businesses.  It will be necessary to continue to foster a culture of innovation and learning that propels our economy towards shared prosperity. How can we ensure that streets become economically competitive places that move people\, not just corridors for moving automobiles? Listen to an esteemed panel of experts lead this discussion on the future of multimodal transportation as it relates to economic development. \nFor more information: https://montgomeryplanning.org/event/2020-winter-speaker-series/ \nRSVP
URL:https://onemontgomerygreen.org/index.php/calendarevent/thrive-montgomery-2050-winter-speakers-series-multimodal-transportation-and-a-healthy-economy/
LOCATION:Montgomery County Planning Department\, 8787 Georgia Avenue\, Silver Spring\, MD\, 20910\, United States
CATEGORIES:discussion,panel
ATTACH;FMTTYPE=image/gif:https://onemontgomerygreen.org/wp-content/uploads/2020/01/big-ideas-960x540-short.gif
ORGANIZER;CN="Montgomery County Planning Department":MAILTO:david.anspacher@montgomeryplanning.or
END:VEVENT
BEGIN:VEVENT
DTSTART;TZID=America/New_York:20200111T140000
DTEND;TZID=America/New_York:20200111T160000
DTSTAMP:20260422T013848
CREATED:20191213T205023Z
LAST-MODIFIED:20191213T213640Z
UID:5346-1578751200-1578758400@onemontgomerygreen.org
SUMMARY:WDC Climate Change Discussion with the Experts
DESCRIPTION:WDC CLIMATE CHANGE DISCUSSION WITH THE EXPERTS\n\n\n\nEverything You Need to Know about Climate Change But Were Afraid to Ask!\nSaturday\, January 11  •  2 – 4 pm | Rockville Memorial Library |  \nFree Event Register on Eventbrite \nThere’s so much on the news about climate change! Join the discussion with our expert climate change panelists. Learn what it is\, how it affects you\, how it will affect your children and grandchildren’s future\, and how to talk to your friends and relatives about climate change. Expert panelists include:  \n\nJoyce Tuten\, a Clarksburg High School science teacher and NOAA trained climate education steward. \nMike Tidwell\, Director of the Chesapeake Climate Action Network and Takoma Park resident. \nDr. Edward Maibach\, Director of the George Mason University Center for Climate Change Communication and a Potomac resident.\n\nFor more information: https://womensdemocraticclub.org/events/wdc-climate-change-discussion-with-the-experts \nTo register: https://www.eventbrite.com/e/everything-you-need-to-know-about-climate-change-but-were-afraid-to-ask-tickets-83479618787
URL:https://onemontgomerygreen.org/index.php/calendarevent/wdc-climate-change-discussion-with-the-experts/
LOCATION:Rockville Memorial Library\, 21 Maryland Avenue\, Rockville\, MD\, 20850\, United States
CATEGORIES:forum,library,library event,meeting,open meeting,panel
ATTACH;FMTTYPE=image/jpeg:https://onemontgomerygreen.org/wp-content/uploads/2019/12/FacebookClimateChange.jpg
END:VEVENT
BEGIN:VEVENT
DTSTART;TZID=America/New_York:20191015T193000
DTEND;TZID=America/New_York:20191015T210000
DTSTAMP:20260422T013848
CREATED:20191001T004820Z
LAST-MODIFIED:20191001T004821Z
UID:5044-1571167800-1571173200@onemontgomerygreen.org
SUMMARY:Friends of Sligo Creek host panel on "Sligo Creek's Water: Cause for Concern\, Reason to Hope"
DESCRIPTION:Friends of Sligo Creek host panel on “Sligo Creek’s Water: Cause for Concern\, Reason to Hope” \nTuesday\, October 15\, 7:30 pm  •  Silver Spring Civic Center \nThe program will provide a general overview of water quality in Sligo from currently available chemistry data collected by FOSC\, bacteria data collected by WSSC\, and biological data collected by FOSC\, DNR\, and MoCo DEP.  Digging deeper\, the program will translate what this data means in terms of safety and health.  Finally\, we’ll discuss what can be done to improve water quality and what neighbors and individuals can do to advocate and to help in this regard.  The panel will consist of: \n\nPat Ratkowski\, Chair\, FOSC Water Quality Committee\nPaul Chrostowski\, PhD\, registered Qualified Environmental Professional and FOSC board member\nChris Victoria\, Environmental Scientist for the Anne Arundel County Watershed Protection and Restoration Program.\n\nLocation:  Silver Spring Civic Center\nContact:  Dee Clarkin (clarkin.dee@gmail.com).  
URL:https://onemontgomerygreen.org/index.php/calendarevent/friends-of-sligo-creek-host-panel-on-sligo-creeks-water-cause-for-concern-reason-to-hope/
LOCATION:Silver Spring Civic Building at Veterans Plaza\, 1 Veterans Plaza\, Silver Spring\, MD\, 20910\, United States
CATEGORIES:panel
ATTACH;FMTTYPE=image/jpeg:https://onemontgomerygreen.org/wp-content/uploads/2019/09/fosc-e1607974574936.jpg
END:VEVENT
BEGIN:VEVENT
DTSTART;TZID=America/New_York:20190309T100000
DTEND;TZID=America/New_York:20190309T123000
DTSTAMP:20260422T013848
CREATED:20190301T163222Z
LAST-MODIFIED:20190301T163222Z
UID:3881-1552125600-1552134600@onemontgomerygreen.org
SUMMARY:21st Century Transportation Solutions
DESCRIPTION:21st Century Transportation Solutions\nSaturday\, March 9  •  10 am – 12:30 pm\nNewport Mill Middle School\, 11311 Newport Mill Road\, Kensington\, MD 20895 \nRegister here. \nUpset about 270/495 expansion?\nWonder what BRT’s all about?\nHow about the Purple Line?\nBike lanes? \nJoin Do The Most Good Montgomery County and our panel of experts for this timely forum on how we can best resolve the transportation snarls and gaps that Montgomery County residents face every day.
URL:https://onemontgomerygreen.org/index.php/calendarevent/21st-century-transportation-solutions/
LOCATION:Newport Middle School\, 11311 Newport Mill Road\, Kensington\, MD\, 20895\, United States
CATEGORIES:Green,open meeting,panel,Transportation
ATTACH;FMTTYPE=image/jpeg:https://onemontgomerygreen.org/wp-content/uploads/2019/03/DTMG_TRANSPORTATION.jpg
ORGANIZER;CN="Do The Most Good Montgomery County":MAILTO:info@dothemostgoodmoco.org
END:VEVENT
END:VCALENDAR