BEGIN:VCALENDAR
VERSION:2.0
PRODID:-//One Montgomery Green - ECPv6.15.20//NONSGML v1.0//EN
CALSCALE:GREGORIAN
METHOD:PUBLISH
X-ORIGINAL-URL:https://onemontgomerygreen.org
X-WR-CALDESC:Events for One Montgomery Green
REFRESH-INTERVAL;VALUE=DURATION:PT1H
X-Robots-Tag:noindex
X-PUBLISHED-TTL:PT1H
BEGIN:VTIMEZONE
TZID:America/New_York
BEGIN:DAYLIGHT
TZOFFSETFROM:-0500
TZOFFSETTO:-0400
TZNAME:EDT
DTSTART:20170312T070000
END:DAYLIGHT
BEGIN:STANDARD
TZOFFSETFROM:-0400
TZOFFSETTO:-0500
TZNAME:EST
DTSTART:20171105T060000
END:STANDARD
BEGIN:DAYLIGHT
TZOFFSETFROM:-0500
TZOFFSETTO:-0400
TZNAME:EDT
DTSTART:20180311T070000
END:DAYLIGHT
BEGIN:STANDARD
TZOFFSETFROM:-0400
TZOFFSETTO:-0500
TZNAME:EST
DTSTART:20181104T060000
END:STANDARD
BEGIN:DAYLIGHT
TZOFFSETFROM:-0500
TZOFFSETTO:-0400
TZNAME:EDT
DTSTART:20190310T070000
END:DAYLIGHT
BEGIN:STANDARD
TZOFFSETFROM:-0400
TZOFFSETTO:-0500
TZNAME:EST
DTSTART:20191103T060000
END:STANDARD
BEGIN:DAYLIGHT
TZOFFSETFROM:-0500
TZOFFSETTO:-0400
TZNAME:EDT
DTSTART:20200308T070000
END:DAYLIGHT
BEGIN:STANDARD
TZOFFSETFROM:-0400
TZOFFSETTO:-0500
TZNAME:EST
DTSTART:20201101T060000
END:STANDARD
BEGIN:DAYLIGHT
TZOFFSETFROM:-0500
TZOFFSETTO:-0400
TZNAME:EDT
DTSTART:20210314T070000
END:DAYLIGHT
BEGIN:STANDARD
TZOFFSETFROM:-0400
TZOFFSETTO:-0500
TZNAME:EST
DTSTART:20211107T060000
END:STANDARD
END:VTIMEZONE
BEGIN:VEVENT
DTSTART;TZID=America/New_York:20200119T130000
DTEND;TZID=America/New_York:20200119T150000
DTSTAMP:20260420T063739
CREATED:20200110T210900Z
LAST-MODIFIED:20200110T210900Z
UID:5451-1579438800-1579446000@onemontgomerygreen.org
SUMMARY:4th Annual Silver Spring Timeshare Skill Share
DESCRIPTION:It’s Skill Share time again\nSunday\, January 19  •  1:00 – 3:00 pm\nSilver Spring Civic Building\, One Veterans Plaza\, Silver Spring \nOur 4th annual Skill Share is FREE and open to the public\, showcasing Silver Spring Timebank members’ unique talents. Come have fun and learn something new for the New Year! Stay for an hour or even for two. Bring friends and family\, and please share event details far and wide. \nThere will be six short talks plus a variety of exciting Q&A topics and demonstrations: \nTalks include: \n\nRaising Your Credit Score\nThe Eco-Friendly Kitty: How to Reduce Your Cat’s Carbon Footprint\nTransitioning to a Plant-based Diet\nMaking a Living Working Remotely\nCreate a Tribute Video on YouTube\nMaking Effective Infographics\n\nQ&A topics and demonstrations include: \n\nAsk a Recycling Expert\nHand-made Photo Collages\nCareer Counseling\nGarden and Wellness: Mindfulness through Gardening\nAura Readings\nCar-buying Tactics\n\nThere will also be an on-site HELP desk for anyone who has questions about timebanking or using the hOurworld software for exchanges\, and timebank applicants can receive same-day new member activation.  \nFor videos about the Silver Spring Timebank and past Skill Shares\, see our website. And\, watch our FB event page for updates about this event. We look forward to seeing you there! 
URL:https://onemontgomerygreen.org/index.php/calendarevent/4th-annual-silver-spring-timeshare-skill-share/
LOCATION:Silver Spring Civic Building at Veterans Plaza\, 1 Veterans Plaza\, Silver Spring\, MD\, 20910\, United States
CATEGORIES:skills sharing
ATTACH;FMTTYPE=image/jpeg:https://onemontgomerygreen.org/wp-content/uploads/2020/01/15a12173-783d-492b-8e50-4ab7209a6242.jpg
END:VEVENT
BEGIN:VEVENT
DTSTART;TZID=America/New_York:20190907T140000
DTEND;TZID=America/New_York:20190907T160000
DTSTAMP:20260420T063739
CREATED:20190715T221936Z
LAST-MODIFIED:20190715T221936Z
UID:4621-1567864800-1567872000@onemontgomerygreen.org
SUMMARY:Silver Spring Coffee & Conversation @ Kefa Cafe
DESCRIPTION:Meet up at our next Coffee and Conversation!\nSaturday\, September 7  •  2:00 – 4:00 p.m.\nKefa Cafe – Side Room\n963 Bonifant Street in downtown Silver Spring \nCome with questions about exchanging services or to meet other timebank members and set up exchanges. No RSVP necessary. Watch our FB event page for details. 
URL:https://onemontgomerygreen.org/index.php/calendarevent/silver-spring-coffee-conversation-kefa-cafe/
LOCATION:Kefa Cafe\, 963 Bonifant Street\, Silver Spring\, MD\, 20910\, United States
CATEGORIES:coffee,coffee and conversation,information,Recycling,reuse,skills sharing,sustainability,timebank
ATTACH;FMTTYPE=image/jpeg:https://onemontgomerygreen.org/wp-content/uploads/2019/07/5c8ca423-5559-474d-80ec-80ddf70682ce.jpg
ORGANIZER;CN="Greater Silver Spring Chamber of Commerce":MAILTO:info@gsscc.org
END:VEVENT
BEGIN:VEVENT
DTSTART;TZID=America/New_York:20190726T130000
DTEND;TZID=America/New_York:20190726T140000
DTSTAMP:20260420T063739
CREATED:20190715T222547Z
LAST-MODIFIED:20190715T222547Z
UID:4624-1564146000-1564149600@onemontgomerygreen.org
SUMMARY:Silver Spring Timebank Orientation and Refresher
DESCRIPTION:Our next Orientation and Refresher session  \nwill be held on Friday\, July 26 at 1:00 p.m. at the Silver Spring Library.  \nPlease RSVP if you plan to attend.  \nIf you’ve applied to the Silver Spring Timebank\, this is the best way to become an active member. Over the course of an hour\, you’ll learn about timebanking\, receive suggestions for successful exchanges\, and get specific tips on how to use the hOurworld software for exchanges. Finally\, you’ll get to meet other timebank members to start to build the relationships that are a bonus to timebanking!  \nIf you’ve been a member for a while and would like a refresher on using the software\, you are always welcome to attend as well.
URL:https://onemontgomerygreen.org/index.php/calendarevent/silver-spring-timebank-orientation-and-refresher/
LOCATION:MD
CATEGORIES:orientation,refresher,skills sharing,timebank,training
ATTACH;FMTTYPE=image/png:https://onemontgomerygreen.org/wp-content/uploads/2018/04/Silver-Spring-Time-Bank.png
END:VEVENT
BEGIN:VEVENT
DTSTART;TZID=America/New_York:20190504T140000
DTEND;TZID=America/New_York:20190504T160000
DTSTAMP:20260420T063739
CREATED:20190423T172954Z
LAST-MODIFIED:20190423T172954Z
UID:4126-1556978400-1556985600@onemontgomerygreen.org
SUMMARY:Silver Spring Time Bank Coffee & Conversation
DESCRIPTION:Silver Spring Time Bank Coffee & Conversation \nSaturday\, May 4  •  2 – 4 pm \nKefa Cafe – Side Room \n963 Bonifant Street\, Downtown Silver Spring\, MD 20910 \n  \nFor more information\, visit www.sstimebank.org
URL:https://onemontgomerygreen.org/index.php/calendarevent/silver-spring-time-bank-coffee-conversation/
LOCATION:Kefa Cafe\, 963 Bonifant Street\, Silver Spring\, MD\, 20910\, United States
CATEGORIES:conversation,discussion,Education,skills sharing
ATTACH;FMTTYPE=image/jpeg:https://onemontgomerygreen.org/wp-content/uploads/2019/04/5bef7648-017a-400e-a821-955f37994e77.jpg
END:VEVENT
BEGIN:VEVENT
DTSTART;TZID=America/New_York:20190405T090000
DTEND;TZID=America/New_York:20190405T170000
DTSTAMP:20260420T063739
CREATED:20190313T204925Z
LAST-MODIFIED:20190313T204925Z
UID:3987-1554454800-1554483600@onemontgomerygreen.org
SUMMARY:EQ Skills for Green Leaders
DESCRIPTION:EQ Skills for Green Leaders \nFriday\, April 5  •  9 am – 5 pm \nHosted by the National Association of Homebuilders\, 1201 15th Street\, Washington\, DC  20005 \nOur environmental challenges today are real. We believe everyone is a Green Leader – but we can’t do it all alone. \nThis workshop will provide you with effective leadership and management strategies for working with colleagues\, staff members\, senior leaders\, and volunteers as a Green Leader. \nAt this workshop\, you will: \n\nNetwork with fellow Green Leaders\nIdentify strategies for effectively engaging and activating others in support of Green outcomes\nGain management and leadership skills for propelling your Green Career forward\nReceive a 50+page report personalized report based on a pre-assessment you complete\, including strategies\, tools\, and resources for effective relational and transformative leadership.\n\nLearn more at our workshop web page. Earlier bird (until March 29th) and student/jobseeker discounts available.\nRegister here
URL:https://onemontgomerygreen.org/index.php/calendarevent/eq-skills-for-green-leaders/
LOCATION:National Association of Home Builders\, 1201 15th Street NW\, Washington\, DC\, 20005\, United States
CATEGORIES:Community,Education,Green,green leader training,green training,skills sharing,sustainability
ATTACH;FMTTYPE=image/png:https://onemontgomerygreen.org/wp-content/uploads/2019/03/Copy-of-EQ-Skills-for-Green-Leaders-April-5_-2019-9_00-am-5_00-pm.png
ORGANIZER;CN="Leaders in Energy":MAILTO:info@leadersinenergy.org
END:VEVENT
BEGIN:VEVENT
DTSTART;TZID=America/New_York:20181209T140000
DTEND;TZID=America/New_York:20181209T180000
DTSTAMP:20260420T063739
CREATED:20181207T225405Z
LAST-MODIFIED:20181207T225405Z
UID:3441-1544364000-1544378400@onemontgomerygreen.org
SUMMARY:Silver Spring Timebank Holiday Gift Wrap Pop-Up
DESCRIPTION:Silver Spring Timebank Holiday Gift Wrap Pop-Up \nSunday\, December 9 • 2 pm – 6 pm \nLoyaltyBooks\, 931 Ellsworth Drive\, Silver Spring\, MD 20910 \n\nPlan to BRING some gifts to be wrapped that day!  \nSuggested donation of $2 per wrapped gift. \nBuy an item or two from this new pop-up book store so we can make this a permanent fixture in our neighborhood!!! \nSee Flyer above. Please help spread the word!
URL:https://onemontgomerygreen.org/index.php/calendarevent/silver-spring-timebank-holiday-gift-wrap-pop-up/
LOCATION:Loyalty Bookstore\, 931 Ellsworth Drive\, Silver Spring\, MD\, 20910\, United States
CATEGORIES:shopping,skills sharing
ATTACH;FMTTYPE=image/jpeg:https://onemontgomerygreen.org/wp-content/uploads/2018/12/GiftWrapPopUp.jpg
END:VEVENT
BEGIN:VEVENT
DTSTART;TZID=America/New_York:20180121T140000
DTEND;TZID=America/New_York:20180121T170000
DTSTAMP:20260420T063739
CREATED:20171212T172120Z
LAST-MODIFIED:20171215T221546Z
UID:1790-1516543200-1516554000@onemontgomerygreen.org
SUMMARY:Silver Spring Time Bank Skills Share
DESCRIPTION:Silver Spring Time Bank Skills Share\nSunday\, January 21\, 2018  •  2:00  – 5:00 PM \nSilver Spring Civic Building\, 1 Veterans Place\, Silver Spring\, MD\, 20910 \n\n\n\n\n\n\n\nThe SSTB is hosting its second Skills Share on Sunday\, January 21 from 2-5pm at the Silver Spring Civic Center. \nThis event will promote our timebank’s talents to the entire community. It is free and open to the public.  \nLast year members shared their passion and expertise on a variety of topics including de-cluttering and organizing\, self defense skills\, sewing reversible tote bags\, packing healthy school lunches\, repairing home electronics\, perfecting your Spanish pronunciation\, writing winning resumes\, and more.  \nSSTB members can earn 4 time bank hours (3 for activity and 1 for prep) for presenting a topic or hosting an information table. \n\nVisit Facebook page for details and updates: https://www.facebook.com/events/404597933292353/ \n\nStay tuned for details about our second SSTB Skills Share at the Silver Spring Civic Building! \n\nhttp://www.sstimebank.org/calendar/2018/1/21/sstb-skills-share
URL:https://onemontgomerygreen.org/index.php/calendarevent/silver-spring-time-bank-skills-share/
LOCATION:Silver Spring Civic Building at Veterans Plaza\, 1 Veterans Plaza\, Silver Spring\, MD\, 20910\, United States
CATEGORIES:art,Community,demonstrations,open house,open meeting,skills sharing,sustainability,time sharing
ATTACH;FMTTYPE=image/jpeg:https://onemontgomerygreen.org/wp-content/uploads/2017/12/9a19cbdf-123e-4852-bfff-3090144c86dd.jpg
END:VEVENT
END:VCALENDAR