BEGIN:VCALENDAR
VERSION:2.0
PRODID:-//One Montgomery Green - ECPv6.15.20//NONSGML v1.0//EN
CALSCALE:GREGORIAN
METHOD:PUBLISH
X-ORIGINAL-URL:https://onemontgomerygreen.org
X-WR-CALDESC:Events for One Montgomery Green
REFRESH-INTERVAL;VALUE=DURATION:PT1H
X-Robots-Tag:noindex
X-PUBLISHED-TTL:PT1H
BEGIN:VTIMEZONE
TZID:America/New_York
BEGIN:DAYLIGHT
TZOFFSETFROM:-0500
TZOFFSETTO:-0400
TZNAME:EDT
DTSTART:20250309T070000
END:DAYLIGHT
BEGIN:STANDARD
TZOFFSETFROM:-0400
TZOFFSETTO:-0500
TZNAME:EST
DTSTART:20251102T060000
END:STANDARD
BEGIN:DAYLIGHT
TZOFFSETFROM:-0500
TZOFFSETTO:-0400
TZNAME:EDT
DTSTART:20260308T070000
END:DAYLIGHT
BEGIN:STANDARD
TZOFFSETFROM:-0400
TZOFFSETTO:-0500
TZNAME:EST
DTSTART:20261101T060000
END:STANDARD
BEGIN:DAYLIGHT
TZOFFSETFROM:-0500
TZOFFSETTO:-0400
TZNAME:EDT
DTSTART:20270314T070000
END:DAYLIGHT
BEGIN:STANDARD
TZOFFSETFROM:-0400
TZOFFSETTO:-0500
TZNAME:EST
DTSTART:20271107T060000
END:STANDARD
END:VTIMEZONE
BEGIN:VEVENT
DTSTART;TZID=America/New_York:20260314T120000
DTEND;TZID=America/New_York:20260314T140000
DTSTAMP:20260420T083222
CREATED:20260311T190314Z
LAST-MODIFIED:20260311T190414Z
UID:12814-1773489600-1773496800@onemontgomerygreen.org
SUMMARY:Trash Pickup at Diamond Farms Park\, Gaithersburg
DESCRIPTION:Join us Saturday 3/14 for a Litter Pickup!\nThis month\, we’re hosting a bonus litter cleanup at Diamond Farms Park! The City of Gaithersburg is working on a project to plant more trees in this park\, and we’re also doing our part to keep this segment of our stream beautiful and healthy. Plan to join us! \nWhen? Saturday 3/14 from 12pm-2pm \nWhere? Diamond Farms Park (857 Quince Orchard Boulevard) \nThis event is in the Seneca Creek watershed\, and is hosted by one of our Neighborhood Leaders. Learn more about the Neighborhood Leaders program. \nThank you for helping to protect our beautiful watershed!
URL:https://onemontgomerygreen.org/index.php/calendarevent/trash-pickup-at-diamond-farms-park-gaithersburg/
LOCATION:Diamond Farms Park\, 857 Quince Orchard Blvd\, Gaithersburg\, MD\, 20878\, United States
CATEGORIES:trash pickup
ATTACH;FMTTYPE=image/jpeg:https://onemontgomerygreen.org/wp-content/uploads/2020/02/cef5bab9-f6d5-47f1-8f7b-b25ce4b2883b.jpg
ORGANIZER;CN="Muddy Branch Alliance":MAILTO:muddybranchalliance@gmail.com
END:VEVENT
END:VCALENDAR