BEGIN:VCALENDAR
VERSION:2.0
PRODID:-//One Montgomery Green - ECPv6.15.20//NONSGML v1.0//EN
CALSCALE:GREGORIAN
METHOD:PUBLISH
X-WR-CALNAME:One Montgomery Green
X-ORIGINAL-URL:https://onemontgomerygreen.org
X-WR-CALDESC:Events for One Montgomery Green
REFRESH-INTERVAL;VALUE=DURATION:PT1H
X-Robots-Tag:noindex
X-PUBLISHED-TTL:PT1H
BEGIN:VTIMEZONE
TZID:America/New_York
BEGIN:DAYLIGHT
TZOFFSETFROM:-0500
TZOFFSETTO:-0400
TZNAME:EDT
DTSTART:20210314T070000
END:DAYLIGHT
BEGIN:STANDARD
TZOFFSETFROM:-0400
TZOFFSETTO:-0500
TZNAME:EST
DTSTART:20211107T060000
END:STANDARD
BEGIN:DAYLIGHT
TZOFFSETFROM:-0500
TZOFFSETTO:-0400
TZNAME:EDT
DTSTART:20220313T070000
END:DAYLIGHT
BEGIN:STANDARD
TZOFFSETFROM:-0400
TZOFFSETTO:-0500
TZNAME:EST
DTSTART:20221106T060000
END:STANDARD
BEGIN:DAYLIGHT
TZOFFSETFROM:-0500
TZOFFSETTO:-0400
TZNAME:EDT
DTSTART:20230312T070000
END:DAYLIGHT
BEGIN:STANDARD
TZOFFSETFROM:-0400
TZOFFSETTO:-0500
TZNAME:EST
DTSTART:20231105T060000
END:STANDARD
END:VTIMEZONE
BEGIN:VEVENT
DTSTART;TZID=America/New_York:20220504T193000
DTEND;TZID=America/New_York:20220504T203000
DTSTAMP:20260424T212317
CREATED:20220124T230937Z
LAST-MODIFIED:20220124T233725Z
UID:8704-1651692600-1651696200@onemontgomerygreen.org
SUMMARY:Ask An EV Owner
DESCRIPTION:May 4\, 2022 @ 7:30 pm – 8:30 pm\nOn the 1st Wednesday of the every month join EVADC for our on-line Ask An EV Owner event.  Are you shopping for an EV?  Do you have questions about your new EV? Or are you just curious about EVs?  If you can answer yes to any of these questions then this event is for you. \nRegister here: https://evadc.wildapricot.org/Ask 
URL:https://onemontgomerygreen.org/index.php/calendarevent/ask-an-ev-owner-5/
LOCATION:MD
CATEGORIES:Virtual Event
ATTACH;FMTTYPE=image/png:https://onemontgomerygreen.org/wp-content/uploads/2022/01/AskAnEVOwner.png
END:VEVENT
BEGIN:VEVENT
DTSTART;TZID=America/New_York:20220507T093000
DTEND;TZID=America/New_York:20220507T123000
DTSTAMP:20260424T212317
CREATED:20220328T173336Z
LAST-MODIFIED:20220328T173336Z
UID:9060-1651915800-1651926600@onemontgomerygreen.org
SUMMARY:Conservation Montgomery's Spring Big Tree Tour: The Champion Trees of Chevy Chase
DESCRIPTION:Conservation Montgomery’s Spring Big Tree Tour: The Champion Trees of Chevy Chase\nSaturday\, May 7 from 9:30 am – 12:30 pm\n\n\nThe inimitable Joe Howard has has once again graciously offered to lead a Spring tour of big tree champions in the Chevy Chase area. Most of the trees we’ll see are at private homes. We’ll visit champions of the following trees: Shagbark hickory\, Burr oak\, Honeylocust\, Post Oak\, Deodar cedar\, Black Oak\, Siberian elm and Pecan. On the grounds of Audubon Naturalist Society lives the champion Atlas cedar. All are awe inspiring and this is a rare chance to see most of them.\n\nWith Covid restrictions lifted\, we are again able to rent a bus. Meet starting at 9:15 AM in the parking lot of Chevy Chase Elementary School\, 4015 Rosemary St.\, Chevy Chase\, 20815. Since we are providing transportation for the group\, we will charge a fee of $30 per participant to cover transportation costs. A nonrefundable payment must be made in advance and attendees must RSVP at the link below. All participants will be required to be fully vaccinated\, boosted and wear a mask while on the tour bus. \n\n\nMake a Reservation for the Big Tree Tour
URL:https://onemontgomerygreen.org/index.php/calendarevent/conservation-montgomerys-spring-big-tree-tour-the-champion-trees-of-chevy-chase/
LOCATION:Chevy Chase Elementary School\, 4015 Rosemary Street\, Chevy Chase\, 20815
CATEGORIES:Nature,tour
ATTACH;FMTTYPE=image/jpeg:https://onemontgomerygreen.org/wp-content/uploads/2019/10/high-res-logo-in-jpeg.jpeg
ORGANIZER;CN="Conservation Montgomery":MAILTO:ConservationMontgomery@live.com
END:VEVENT
BEGIN:VEVENT
DTSTART;TZID=America/New_York:20220512T180000
DTEND;TZID=America/New_York:20220512T190000
DTSTAMP:20260424T212317
CREATED:20220407T213950Z
LAST-MODIFIED:20220407T214257Z
UID:9126-1652378400-1652382000@onemontgomerygreen.org
SUMMARY:Capital Area Solar Co-op Info Session: Maryland
DESCRIPTION:Have you ever thought about adding solar panels to your home? Now’s your chance! \nThanks to all the support for our previous solar co-op\, we’re thrilled to announce another opportunity to go solar with us: \nThe Capital Area Solar Co-op is officially open! \nThe solar co-op is here to make it easier for you and your neighbors in the DMV to go solar! \nJoin us at a free information session to learn more: \n\n\n\nMaryland information session\nThursday\, May 12  •  6 p.m. ET •  Virtual event \nEach session will educate attendees about solar and the co-op process. They are broken down by location to provide area-specific information about solar.
URL:https://onemontgomerygreen.org/index.php/calendarevent/capital-area-solar-co-op-info-session-maryland/
LOCATION:MD
CATEGORIES:Virtual Event
ATTACH;FMTTYPE=image/png:https://onemontgomerygreen.org/wp-content/uploads/2018/12/SolarUnitedNeighbors.png
ORGANIZER;CN="Solar United Neighbors":MAILTO:info@solarunitedneighbors.org
END:VEVENT
BEGIN:VEVENT
DTSTART;TZID=America/New_York:20220512T190000
DTEND;TZID=America/New_York:20220512T200000
DTSTAMP:20260424T212317
CREATED:20220511T221442Z
LAST-MODIFIED:20220511T221442Z
UID:9168-1652382000-1652385600@onemontgomerygreen.org
SUMMARY:SAPPlings Forum: End of Year Wrap-Up
DESCRIPTION:Registration link: https://us02web.zoom.us/meeting/register/tZUrf-yspjwvHdZ_uMEju_I1KhDk932YEVjt
URL:https://onemontgomerygreen.org/index.php/calendarevent/sapplings-forum-end-of-year-wrap-up/
LOCATION:MD
CATEGORIES:forum,Zoom event,Zoom meeting
ATTACH;FMTTYPE=image/png:https://onemontgomerygreen.org/wp-content/uploads/2022/05/SAPPlings-Forum-End-of-Year-Wrap-Up-05.12-Flyer-1.png
ORGANIZER;CN="One Montgomery Green":MAILTO:info@onemontgomerygreen.org
END:VEVENT
BEGIN:VEVENT
DTSTART;TZID=America/New_York:20220519T190000
DTEND;TZID=America/New_York:20220519T200000
DTSTAMP:20260424T212317
CREATED:20220517T013254Z
LAST-MODIFIED:20220517T013254Z
UID:9186-1652986800-1652990400@onemontgomerygreen.org
SUMMARY:A SAPPlings Webinar – Saving the Chesapeake Bay: What Part Will You Play?
DESCRIPTION:Rick Mittler is the Chesapeake Bay Foundation’s (CBF) Virginia Student Leadership Coordinator. In this role he educates and engages high school students from across Chesapeake Bay Watershed in support of clean water\, clean air\, and healthy communities. Prior to his current role\, Rick managed two other environmental education programs at CBF\, was an educator with the Blue Sky Fund\, led Youth Conservation Corps crews\, and taught environmental education in schools across western Massachusetts through AmeriCorps and the Student Conservation Association. He earned a degree in Geography with a minor in Natural Resources Recreation from Virginia Tech in 2011 and currently calls Richmond\, VA home. Outside of work\, Rick serves as the Chair-Elect for the Virginia Association for Environmental Education Board\, is an avid disc golfer\, and aspiring whitewater canoeist. \nRegistration Link: https://us02web.zoom.us/webinar/register/WN_nv-mqJt7TKi2rSC12xIQ2g 
URL:https://onemontgomerygreen.org/index.php/calendarevent/a-sapplings-webinar-saving-the-chesapeake-bay-what-part-will-you-play/
LOCATION:MD
CATEGORIES:Virtual Event,webinar,Zoom event,Zoom meeting
ATTACH;FMTTYPE=image/png:https://onemontgomerygreen.org/wp-content/uploads/2022/05/SAPPlings-Webinar-Saving-the-Chesapeake-Bay-05.19-Flyer-1.png
ORGANIZER;CN="One Montgomery Green":MAILTO:info@onemontgomerygreen.org
END:VEVENT
BEGIN:VEVENT
DTSTART;TZID=America/New_York:20220524T190000
DTEND;TZID=America/New_York:20220524T210000
DTSTAMP:20260424T212317
CREATED:20220524T153123Z
LAST-MODIFIED:20220524T161002Z
UID:9213-1653418800-1653426000@onemontgomerygreen.org
SUMMARY:350MoCo May Meeting: Book Discussion "The Ministry for the Future"
DESCRIPTION:350MoCo May Meeting:\nBook Discussion “The Ministry for the Future” \nNOW VIRTUAL!  See below! \n\nBesides updates on key climate topics from around the County\, the meeting will feature a book club-type discussion of the influential climate-future novel\, The Ministry for the Future. It covers key themes in a very engaging fashion. The questions addressed include:\n\n\n\nDo you think an individual country government is justified in conducting a geoengineering project that affects the entire global climate? What does this suggest about the near term future of international governance and climate change?\nThe novel includes some voices that support violence to stop climate change. What forms of such climate change-related violence do you anticipate\, either in the novel or in our world?\nMinistry leaders discuss possible leverage points they can work with to save the world. (54-6) Which do you think are the most effective?\n\n\nOur discussion will focus on the first third of the book. Go get your copy from a friend\, library or online today and start reading! It’s a Big Book but it’s easy reading.\n \nWe look forward to seeing everyone on Tuesday\, May 24\, 7:00 – 9:00pm at the Davis Library in Bethesda.\n \nQuestions?  Contact 350moco@gmail.com \n  \n350 Montgomery County MD is inviting you to a scheduled Zoom meeting. \nTopic: 350MoCo May Monthly Zoom Meeting\nTime: May 24\, 2022 07:00 PM Eastern Time (US and Canada) \nJoin Zoom Meeting\nhttps://us02web.zoom.us/j/83746055767?pwd=YWRXb0JuWld6MmliMlZNaEZ1OVYxdz09 \nMeeting ID: 837 4605 5767\nPasscode: 466269\nOne tap mobile\n+13017158592\,\,83746055767#\,\,\,\,*466269# US (Washington DC)\n+19292056099\,\,83746055767#\,\,\,\,*466269# US (New York) \nDial by your location\n      +1 301 715 8592 US (Washington DC)\n      +1 929 205 6099 US (New York)\n      +1 312 626 6799 US (Chicago)\n      +1 669 900 6833 US (San Jose)\n      +1 253 215 8782 US (Tacoma)\n      +1 346 248 7799 US (Houston)\nMeeting ID: 837 4605 5767\nPasscode: 466269\nFind your local number: https://us02web.zoom.us/u/kZYVMMplm
URL:https://onemontgomerygreen.org/index.php/calendarevent/350moco-may-meeting-book-discussion-the-ministry-for-the-future/
LOCATION:MD
CATEGORIES:library,library event,Zoom event,Zoom meeting
ATTACH;FMTTYPE=image/png:https://onemontgomerygreen.org/wp-content/uploads/2022/05/350MoCo_stuff.png
END:VEVENT
BEGIN:VEVENT
DTSTART;TZID=America/New_York:20220525T120000
DTEND;TZID=America/New_York:20220525T123000
DTSTAMP:20260424T212317
CREATED:20220524T155645Z
LAST-MODIFIED:20220524T155645Z
UID:9224-1653480000-1653481800@onemontgomerygreen.org
SUMMARY:Maryland Zero Emission Vehicle Infrastructure Plan
DESCRIPTION:Maryland Zero Emission Vehicle Infrastructure Plan\n\n\n\n\n\n\n\n\n\n\nWed\, May 25\, 2022 |  12:00 PM – 12:30 PM EDT\n\n\n\n\n\n\n\n\n\n\nJoin us for our webinar session on May 25\, 2022 at 12 noon to learn more about the Maryland Zero Emission Vehicle Infrastructure Plan Vision\, Goals\, Priorities and EV Charging locations. The plan is required by the Bipartisan Infrastructure Law (BIL)\, enacted as the Infrastructure Investment and Jobs Act (IIJA)\, to access National Electric Vehicle Infrastructure (NEVI) formula program funding. For more information on how to share your feedback on this plan visit: https://evplan.mdot.maryland.gov/\n\nTo register: https://register.gotowebinar.com/register/7367624430023081484
URL:https://onemontgomerygreen.org/index.php/calendarevent/maryland-zero-emission-vehicle-infrastructure-plan/
LOCATION:MD
CATEGORIES:Virtual Event,virtual meeting
ATTACH;FMTTYPE=image/jpeg:https://onemontgomerygreen.org/wp-content/uploads/2022/05/39d0aca1c9be704b71113ec99844bdd5.jpg
END:VEVENT
END:VCALENDAR