BEGIN:VCALENDAR
VERSION:2.0
PRODID:-//One Montgomery Green - ECPv6.15.20//NONSGML v1.0//EN
CALSCALE:GREGORIAN
METHOD:PUBLISH
X-WR-CALNAME:One Montgomery Green
X-ORIGINAL-URL:https://onemontgomerygreen.org
X-WR-CALDESC:Events for One Montgomery Green
REFRESH-INTERVAL;VALUE=DURATION:PT1H
X-Robots-Tag:noindex
X-PUBLISHED-TTL:PT1H
BEGIN:VTIMEZONE
TZID:America/New_York
BEGIN:DAYLIGHT
TZOFFSETFROM:-0500
TZOFFSETTO:-0400
TZNAME:EDT
DTSTART:20210314T070000
END:DAYLIGHT
BEGIN:STANDARD
TZOFFSETFROM:-0400
TZOFFSETTO:-0500
TZNAME:EST
DTSTART:20211107T060000
END:STANDARD
BEGIN:DAYLIGHT
TZOFFSETFROM:-0500
TZOFFSETTO:-0400
TZNAME:EDT
DTSTART:20220313T070000
END:DAYLIGHT
BEGIN:STANDARD
TZOFFSETFROM:-0400
TZOFFSETTO:-0500
TZNAME:EST
DTSTART:20221106T060000
END:STANDARD
BEGIN:DAYLIGHT
TZOFFSETFROM:-0500
TZOFFSETTO:-0400
TZNAME:EDT
DTSTART:20230312T070000
END:DAYLIGHT
BEGIN:STANDARD
TZOFFSETFROM:-0400
TZOFFSETTO:-0500
TZNAME:EST
DTSTART:20231105T060000
END:STANDARD
END:VTIMEZONE
BEGIN:VEVENT
DTSTART;TZID=America/New_York:20221102T193000
DTEND;TZID=America/New_York:20221102T203000
DTSTAMP:20260424T032351
CREATED:20220124T234143Z
LAST-MODIFIED:20220124T234143Z
UID:8739-1667417400-1667421000@onemontgomerygreen.org
SUMMARY:Ask An EV Owner
DESCRIPTION:November 2\, 2022 @ 7:30 pm – 8:30 pm\nOn the 1st Wednesday of the every month join EVADC for our on-line Ask An EV Owner event.  Are you shopping for an EV?  Do you have questions about your new EV? Or are you just curious about EVs?  If you can answer yes to any of these questions then this event is for you. \nRegister here: https://evadc.wildapricot.org/Ask 
URL:https://onemontgomerygreen.org/index.php/calendarevent/ask-an-ev-owner-11/
LOCATION:MD
CATEGORIES:Virtual Event,Zoom meeting
ATTACH;FMTTYPE=image/png:https://onemontgomerygreen.org/wp-content/uploads/2022/01/AskAnEVOwner.png
END:VEVENT
BEGIN:VEVENT
DTSTART;TZID=America/New_York:20221104T180000
DTEND;TZID=America/New_York:20221104T200000
DTSTAMP:20260424T032351
CREATED:20221004T211051Z
LAST-MODIFIED:20221004T211121Z
UID:9764-1667584800-1667592000@onemontgomerygreen.org
SUMMARY:Conservation Montgomery 2022 Annual Meeting
DESCRIPTION:You are invited to Conservation Montgomery’s 2022 Annual Meeting\n\nIn person again! Nov. 4th at 6 pm at the Writer’s Center in Bethesda.\n\nProgram Topic: An Update on the County Climate Action Plan\n\nRSVP here or click the link below.\n\nThe CM annual meeting is a celebration\, a chance to network with like-minded county residents and honor the recipient of the Joe Howard Environmental Award. This year\, we are thrilled to announce Wheaton resident Ed Murtagh as the recipient of the 2022 Joe Howard Environmental Award. Read more about this local environmental hero here.\n\nAnd if you’ve been wondering about the status of the Montgomery County Climate Action Plan\, you’ll be in the right place on Nov. 4th. Adriana Hochberg\, Climate Change Officer\, and Acting Director of the Montgomery County Department of Environmental Protection will tell us what has been accomplished so far and what’s ahead.\n\nWe request that guests be vaccinated\, boosted and use masks when distancing is not possible. We are also looking into setting up an outdoor event tent. RSVP by clicking the link above or below.\n\nRSVP here.
URL:https://onemontgomerygreen.org/index.php/calendarevent/conservation-montgomery-2022-annual-meeting/
LOCATION:The Writers Center\, 4508 Walsh Street\, Bethesda\, MD\, 20815\, United States
CATEGORIES:annual meeting,in person event,in-person
ATTACH;FMTTYPE=image/jpeg:https://onemontgomerygreen.org/wp-content/uploads/2022/10/ConservationMontgomeryLogo.jpg
ORGANIZER;CN="Conservation Montgomery":MAILTO:ConservationMontgomery@live.com
END:VEVENT
BEGIN:VEVENT
DTSTART;TZID=America/New_York:20221105T090000
DTEND;TZID=America/New_York:20221105T120000
DTSTAMP:20260424T032351
CREATED:20221025T171332Z
LAST-MODIFIED:20221025T171332Z
UID:9819-1667638800-1667649600@onemontgomerygreen.org
SUMMARY:Shredding and Electronics Recycling Event - Gaithersburg
DESCRIPTION:Free\, Contactless Shredding and Electronics Recycling Event to be Held in Gaithersburg on Saturday\, Nov. 5\nA free Community Shredding and Electronics Recycling event will take place at the Activity Center at Bohrer Park in Gaithersburg from 9 a.m.-noon on Saturday\, Nov. 5. The event will be presented by the City of Gaithersburg\, in partnership with the Gaithersburg Environmental Affairs Committee\, Georgetown Paper and e-End. While the shredding services are free\, food donations to support the efforts of the Gaithersburg HELP pantry also will be collected. \nThe event will be held in the parking lot of Bohrer Park\, which is located 506 South Frederick Ave. in Gaithersburg. The collection area will be next to the Skate Park and Water Park. The event is open to all\, not just City of Gaithersburg residents. \nVisitors will be asked to pop their trunks upon proceeding to the shred truck. Staff will remove boxes without making contact. Acceptable items for shredding include all types of paper\, including receipts\, tax and medical records and financial and legal documents. Paper with staples and paperclips (no binder clips) will be accepted\, as will envelopes with plastic windows. If paper is in three-ring binders or is spiral bound\, bindings must be removed before coming to the event. \nLearn more about shredding at www.gtownpaper.com. All shredding will be done on site. \nE-waste will be accepted in a designated truck. For the safety of residents\, staff and volunteers\, only one car may approach the E-waste truck at a time. Visitors will be asked to deposit E-waste into the truck themselves. Please consider donating items before disposing of them. Items that will be accepted include: \n\nCDs and computer disks\nTowers\nLaptops\nCircuit boards\nTablets\nMobile phones\nToner and ink cartridges\n\nE-waste will be stored in a secure location before being picked up by e-End\, a secure data destruction company. \nDonations of nonperishable food items to benefit the Gaithersburg HELP food pantry are encouraged. They will be removed from donors’ trunks by volunteers. Suggested items include canned soup\, canned vegetables\, canned tomatoes with low salt\, fruit cup up in its own juice\, cereal\, fortified pastas\, rice and dried beans of all kinds\, baby food\, macaroni and cheese mixes\, canned tuna\, peanut or other nut butters\, gluten free pastas and spaghetti sauce. No fruit juices will be accepted. The pantry is also in need of baby formula and diapers. Learn more about the organization at www.gaithersburghelp.org. \nFor more information about the community shredding event and environmental initiatives in Gaithersburg\, visit www.gaithersburgmd.gov.
URL:https://onemontgomerygreen.org/index.php/calendarevent/shredding-and-electronics-recycling-event-gaithersburg/
LOCATION:Bohrer Park\, 506 South Frederick Avenue\, Gaithersburg\, MD\, 20877\, United States
ATTACH;FMTTYPE=image/png:https://onemontgomerygreen.org/wp-content/uploads/2022/10/637039788166370000.png
END:VEVENT
BEGIN:VEVENT
DTSTART;TZID=America/New_York:20221105T123000
DTEND;TZID=America/New_York:20221105T143000
DTSTAMP:20260424T032351
CREATED:20220823T224321Z
LAST-MODIFIED:20220823T224321Z
UID:9576-1667651400-1667658600@onemontgomerygreen.org
SUMMARY:Free E-Scooter Training at Wheaton Ice Arena
DESCRIPTION:For more information\, visit: https://www.montgomerycountymd.gov/DOT-DIR/commuter/bikewalk/index.html
URL:https://onemontgomerygreen.org/index.php/calendarevent/free-e-scooter-training-at-wheaton-ice-arena/
LOCATION:Wheaton Ice Arena\, back left parking lot - 11717 Orebaugh Ave\, Wheaton\, MD\, 20902\, United States
CATEGORIES:e-scooter training,training
ATTACH;FMTTYPE=application/pdf:https://onemontgomerygreen.org/wp-content/uploads/2022/08/E-ScooterClasses-Fall2022.pdf
END:VEVENT
BEGIN:VEVENT
DTSTART;TZID=America/New_York:20221106T093000
DTEND;TZID=America/New_York:20221106T110000
DTSTAMP:20260424T032351
CREATED:20221018T191858Z
LAST-MODIFIED:20221018T191858Z
UID:9801-1667727000-1667732400@onemontgomerygreen.org
SUMMARY:DC EcoWomen Nature Hike thru Huntley Meadows Park\, Alex.\, VA
DESCRIPTION:Join DC EcoWomen on Sunday\, November 6 at 9:30 AM for a 2.8 mile trek through Huntley Meadows Park. \nAs a historical wetland and wildlife conservation area and one of Fairfax County’s largest parks\, Huntley Meadows is a great place to visit to immerse yourself in nature and learn about local wildlife\, including birds\, reptiles\, and even muskrats. Exact meeting location and voluntary carpool sign-up will be sent to registered participants. \nThis event is open to all who identify as women and their friends and families. To register\, please do so at the Eventbrite link below\, before November 4th\, 11 PM ET. \nRegister Here>>>
URL:https://onemontgomerygreen.org/index.php/calendarevent/dc-ecowomen-nature-hike-thru-huntley-meadows-park-alex-va/
LOCATION:Huntley Meadows Park\, 3701 Lockheed Blvd\, Alexandria\, VA\, 22306\, United States
CATEGORIES:hike,nature walk
ATTACH;FMTTYPE=image/png:https://onemontgomerygreen.org/wp-content/uploads/2022/10/Nature_Hike_11.6.22.png
END:VEVENT
BEGIN:VEVENT
DTSTART;TZID=America/New_York:20221110T173000
DTEND;TZID=America/New_York:20221110T193000
DTSTAMP:20260424T032351
CREATED:20221031T210737Z
LAST-MODIFIED:20221102T155003Z
UID:9824-1668101400-1668108600@onemontgomerygreen.org
SUMMARY:Wheaton Sustainable Innovation Zone (WSIZ) Mixer
DESCRIPTION:For more information and to register:  https://conta.cc/3DJdjiz \n  \n \n 
URL:https://onemontgomerygreen.org/index.php/calendarevent/wheaton-sustainable-innovation-zone-wsiz-mixer/
LOCATION:Worksource Montgomery\, 11510 Georgia Ave\, Wheaton\, MD\, 20902\, United States
CATEGORIES:In Person,in person event,in-person,information,mixer
ATTACH;FMTTYPE=image/jpeg:https://onemontgomerygreen.org/wp-content/uploads/2022/10/WSIZ_Mixer_111022-English-2.jpg
ORGANIZER;CN="One Montgomery Green":MAILTO:info@onemontgomerygreen.org
END:VEVENT
BEGIN:VEVENT
DTSTART;TZID=America/New_York:20221110T190000
DTEND;TZID=America/New_York:20221110T200000
DTSTAMP:20260424T032351
CREATED:20221101T191356Z
LAST-MODIFIED:20221103T161611Z
UID:9841-1668106800-1668110400@onemontgomerygreen.org
SUMMARY:SAPPlings Public Webinar – Melting Glaciers\, Rising Seas
DESCRIPTION:  \nSPEAKERS: \nDr. Richard Alley (PhD 1987 Wisconsin; Evan Pugh University Professor\, Geosciences\, Penn State) studies the Antarctic and Greenland ice sheets to help predict future climate and sea-level changes. He has been honored for research\, teaching\, and service. He participated in the UN Intergovernmental Panel on Climate Change (co-recipient\, 2007 Nobel Peace Prize)\, and provided requested advice to high government officials from both major political parties. He has authored or coauthored over 300 refereed scientific papers. His was presenter for the PBS TV miniseries Earth: The Operators’ Manual\, based on his book. His popular account of climate change and ice cores\, The Two-Mile Time Machine\, was Phi Beta Kappa’s science book of the year. He is happily married with two grown daughters\, a bicycle\, and a pair of soccer cleats. \nJeremy Cox is a reporter with the Chesapeake Bay Journal\, a nonprofit news organization that covers the environment in the 64\,000-square-mile Chesapeake watershed. He also hosts the Journal’s official podcast\, Chesapeake Uncharted. The first season focused entirely on climate change. Jeremy lives near Salisbury\, Maryland\, and enjoys kayaking\, bird-watching and running. \nRegister in advance for this meeting: https://us02web.zoom.us/webinar/register/WN_l_Wr-PKqS5y6h_ZXDRItwg
URL:https://onemontgomerygreen.org/index.php/calendarevent/sapplings-public-webinar-melting-glaciers-rising-seas-whats-happening-in-antarctica-and-what-it-means-for-the-world/
LOCATION:MD
CATEGORIES:SAPPlings,virtual meeting,webinar,Zoom event,Zoom meeting
ATTACH;FMTTYPE=image/jpeg:https://onemontgomerygreen.org/wp-content/uploads/2022/11/11.10.22_SAPPlingsForum_Glaciers2.jpg
ORGANIZER;CN="One Montgomery Green":MAILTO:info@onemontgomerygreen.org
END:VEVENT
BEGIN:VEVENT
DTSTART;TZID=America/New_York:20221112T100000
DTEND;TZID=America/New_York:20221112T130000
DTSTAMP:20260424T032351
CREATED:20220823T222021Z
LAST-MODIFIED:20220823T222021Z
UID:9548-1668247200-1668258000@onemontgomerygreen.org
SUMMARY:Learn to Ride: Adult Bike Class @ GEICO\, Chevy Chase
DESCRIPTION:For more information\, visit: https://www.montgomerycountymd.gov/DOT-DIR/commuter/bikewalk/index.html
URL:https://onemontgomerygreen.org/index.php/calendarevent/learn-to-ride-adult-bike-class-geico-chevy-chase/
LOCATION:GEICO\, 5260 Western Avenue (parking lot)\, Chevy Chase\, MD\, 20815\, United States
CATEGORIES:Biking,training
ATTACH;FMTTYPE=application/pdf:https://onemontgomerygreen.org/wp-content/uploads/2022/08/BikeClass-LearntoRide-FALL22-somesoldout.pdf
END:VEVENT
BEGIN:VEVENT
DTSTART;TZID=America/New_York:20221123T180000
DTEND;TZID=America/New_York:20221123T190000
DTSTAMP:20260424T032351
CREATED:20220921T183531Z
LAST-MODIFIED:20220921T183531Z
UID:9659-1669226400-1669230000@onemontgomerygreen.org
SUMMARY:Maryland Solar Action Team Meeting
DESCRIPTION:Maryland Solar Action Team Meeting\n\nWednesday\, November 23 @ 6:00 pm – 7:00 pm EDT\n\n\n\nJoin fellow solar supporters throughout the state! We gather every other month to discuss solar in Maryland and how we can take action to support pro-solar initiatives. \nPlease don’t hesitate to contact our MD team with questions at mdteam@solarunitedneighbors.org. \nTo register: https://www.solarunitedneighbors.org/event/md-solar-action-team-meeting-3/
URL:https://onemontgomerygreen.org/index.php/calendarevent/maryland-solar-action-team-meeting-4/
LOCATION:MD
CATEGORIES:virtual meeting
ATTACH;FMTTYPE=image/png:https://onemontgomerygreen.org/wp-content/uploads/2018/12/SolarUnitedNeighbors.png
END:VEVENT
BEGIN:VEVENT
DTSTART;TZID=America/New_York:20221129T190000
DTEND;TZID=America/New_York:20221129T203000
DTSTAMP:20260424T032351
CREATED:20221128T231619Z
LAST-MODIFIED:20221128T231619Z
UID:9900-1669748400-1669753800@onemontgomerygreen.org
SUMMARY:Zero Waste: Building a Better Community -- Beyond Recycling: Reduce\, Reuse\, Repair
DESCRIPTION:Zero Waste: Building a Better Community —\nBeyond Recycling: Reduce\, Reuse\, Repair \nTuesday\, November 29\, 2022\, 7:00 – 8:30 pm EDT via Zoom \nNew businesses and community services can help citizens reach the goal of a Zero Waste community. Hear from a panel of entrepreneurs who are setting great examples in reducing waste by supporting reuse and repair. \nSpeakers \n\nTheresa Esterlund\, Upcycle Creative Reuse Center – Collecting cast-offs from our community to create new products\nChiara D’Amore\, The Repair Café at Freetown Farms\, MD – Giving new life to broken items\nJustin Marino\, Mason & Greens – A place to find products packaged in old ways to move beyond the throwaway culture\n\nModerator \n\nJoan McIntyre\, Chair\, Arlington Climate Change\, Energy and Environment Commission\n\nSponsors \nFaith Alliance for Climate Solutions Arlington Hub\, EcoAction Arlington\, Sierra Club Potomac River Branch\, Leaders in Energy\, Alliance for Regional Cooperation \n  \nRegister Here
URL:https://onemontgomerygreen.org/index.php/calendarevent/zero-waste-building-a-better-community-beyond-recycling-reduce-reuse-repair/
LOCATION:MD
CATEGORIES:Zoom event,Zoom meeting,Zoom workshop
ATTACH;FMTTYPE=image/png:https://onemontgomerygreen.org/wp-content/uploads/2022/11/Nov-29-no-text-1536x1536-1.png
ORGANIZER;CN="Leaders in Energy":MAILTO:info@leadersinenergy.org
END:VEVENT
BEGIN:VEVENT
DTSTART;TZID=America/New_York:20221130T120000
DTEND;TZID=America/New_York:20221130T130000
DTSTAMP:20260424T032351
CREATED:20221128T225258Z
LAST-MODIFIED:20221128T225258Z
UID:9889-1669809600-1669813200@onemontgomerygreen.org
SUMMARY:Bethesda Green Innovation Lab Open House
DESCRIPTION:Are you an entrepreneur working on climate solutions? The Bethesda Green Innovation Lab wants to hear from you! Join us for an upcoming virtual open house to learn more about our expansive suite of programs to support entrepreneurs working on innovative solutions to elevate sustainability and promote environmental and social impact throughout the economy. We’ll also go over how to apply for our 2023 Accelerator Cohort!  \nWednesday\, November 30th from 12pm to 1pm EST. \nRegister Here
URL:https://onemontgomerygreen.org/index.php/calendarevent/bethesda-green-innovation-lab-open-house/
LOCATION:MD
CATEGORIES:Virtual Event,virtual meeting,Virtual Workshop
ATTACH;FMTTYPE=image/jpeg:https://onemontgomerygreen.org/wp-content/uploads/2022/11/c52c08ad-720e-9e44-25cb-4f88ea6faa6a.jpg
ORGANIZER;CN="Bethesda Green":MAILTO:info@bethesdagreen.org
END:VEVENT
BEGIN:VEVENT
DTSTART;TZID=America/New_York:20221130T173000
DTEND;TZID=America/New_York:20221130T190000
DTSTAMP:20260424T032351
CREATED:20221128T224512Z
LAST-MODIFIED:20221128T224633Z
UID:9886-1669829400-1669834800@onemontgomerygreen.org
SUMMARY:Race\, History and Rock Creek: The History and Future of the Carter Barron Amphitheater
DESCRIPTION:Race\, History and Rock Creek:\nThe History and Future of the Carter Barron Amphitheater \n \nWednesday\, November 30\, 5:30 pm to 7:00 pm ET (VIRTUAL) \nA panel discussion will explore the history and significance of the Carter Barron Amphitheater. National Parks Conservation Association (NPCA)’s Alan Spears\, and community leader Donna Potts will discuss their perspectives. Tony Richardson\, leader of the Carter Barron Alliance at the Conservancy\, will moderate\, and National Park Service (NPS) staff will share their vision for the future of the amphitheater. \nRegister Here
URL:https://onemontgomerygreen.org/index.php/calendarevent/9886/
LOCATION:MD
CATEGORIES:Virtual Event,virtual meeting
ATTACH;FMTTYPE=image/png:https://onemontgomerygreen.org/wp-content/uploads/2022/03/RockCreekConservancy.png
END:VEVENT
END:VCALENDAR