BEGIN:VCALENDAR
VERSION:2.0
PRODID:-//One Montgomery Green - ECPv6.15.20//NONSGML v1.0//EN
CALSCALE:GREGORIAN
METHOD:PUBLISH
X-WR-CALNAME:One Montgomery Green
X-ORIGINAL-URL:https://onemontgomerygreen.org
X-WR-CALDESC:Events for One Montgomery Green
REFRESH-INTERVAL;VALUE=DURATION:PT1H
X-Robots-Tag:noindex
X-PUBLISHED-TTL:PT1H
BEGIN:VTIMEZONE
TZID:America/New_York
BEGIN:DAYLIGHT
TZOFFSETFROM:-0500
TZOFFSETTO:-0400
TZNAME:EDT
DTSTART:20230312T070000
END:DAYLIGHT
BEGIN:STANDARD
TZOFFSETFROM:-0400
TZOFFSETTO:-0500
TZNAME:EST
DTSTART:20231105T060000
END:STANDARD
BEGIN:DAYLIGHT
TZOFFSETFROM:-0500
TZOFFSETTO:-0400
TZNAME:EDT
DTSTART:20240310T070000
END:DAYLIGHT
BEGIN:STANDARD
TZOFFSETFROM:-0400
TZOFFSETTO:-0500
TZNAME:EST
DTSTART:20241103T060000
END:STANDARD
BEGIN:DAYLIGHT
TZOFFSETFROM:-0500
TZOFFSETTO:-0400
TZNAME:EDT
DTSTART:20250309T070000
END:DAYLIGHT
BEGIN:STANDARD
TZOFFSETFROM:-0400
TZOFFSETTO:-0500
TZNAME:EST
DTSTART:20251102T060000
END:STANDARD
END:VTIMEZONE
BEGIN:VEVENT
DTSTART;TZID=America/New_York:20240802T180000
DTEND;TZID=America/New_York:20240802T203000
DTSTAMP:20260421T160259
CREATED:20240731T181327Z
LAST-MODIFIED:20240731T181959Z
UID:11239-1722621600-1722630600@onemontgomerygreen.org
SUMMARY:OMG Hosts Beer Garden @ Wheaton TGIF Concerts
DESCRIPTION:Find Us at the Marian Fryer TGIF Concert and Beer Garden\n2424 Reedie Drive\, Wheaton\, MD 20902 \nOMG will be at the Beer Garden\, selling cocktails\, beer\, wine and seltzers. We will be giving out our reusable water bottles and water bottle handles while supplies last! All proceeds made during this event will help fund our youth programs\, park clean-ups and community outreach events. \nDates OMG Will Be Operating the Beer Garden: \n\nFriday\, Aug 2\, 2024  \nFriday\, Aug 9\, 2024\n\nConcert Lineup: \n\nFriday\, Aug 2\, 2024 – Billy Mayfield\nFriday\, Aug 9\, 2024 – Gorden Sterling and the People\n\nWe hope to see you there! \nFor more information: https://www.wheatonmd.org/do/tgif-summer-concert-series-3
URL:https://onemontgomerygreen.org/index.php/calendarevent/omg-hosts-beer-garden-wheaton-tgif-concerts/
LOCATION:Marian Fryer Town Plaza\, 2424 Reedie Drive\, Wheaton\, MD\, 20902\, United States
CATEGORIES:1OMG,festival,fundraiser,MUSIC,TGIF,TGIF music & fun
ATTACH;FMTTYPE=image/png:https://onemontgomerygreen.org/wp-content/uploads/2024/07/TGIF24-flyer_Final.png
ORGANIZER;CN="One Montgomery Green":MAILTO:info@onemontgomerygreen.org
END:VEVENT
BEGIN:VEVENT
DTSTART;TZID=America/New_York:20240803T090000
DTEND;TZID=America/New_York:20240803T120000
DTSTAMP:20260421T160259
CREATED:20240724T220355Z
LAST-MODIFIED:20240724T220355Z
UID:11230-1722675600-1722686400@onemontgomerygreen.org
SUMMARY:Muddy Branch Alliance Meadow Tour
DESCRIPTION:Please join us for a Meadow Tour!\nWhen: Saturday\, August 3\, 2024 at 9:00am \nWhere: Izaak Walton League of America Meadow\, 707 Conservation Ln\, Gaithersburg\, MD 20878 \nWould you like to know how to transition larger areas of turf to a gorgeous low-maintenance meadow? This is a FREE event courtesy of the Muddy Branch Alliance Lands Green Waters Clean program. \nJoin us on Saturday\, August 3 at 9:00 AM for a Meadow Tour at the Izaak Walton League of America Meadow (707 Conservation Ln\, Gaithersburg\, MD 20878)! \nOur meadow managers will be there to walk you through the process of creating a meadow\, what we did\, what is working well and what we need to do to keep it looking beautiful. This walk and talk is perfect for HOA Green Teams\, grounds managers and anyone who wants to add meadow to their property. You will be able to see what a maturing meadow looks like and ask our sustainable landscaping professional questions. We can discuss funding opportunities\, native plant identification\, why native plants help pollinators\, how native plants help manage stormwater\, weed identification\, weed management strategies\, and much more! \nPlease RSVP HERE for your household to help us plan for the number of attendees. We’ll send you more details ahead of the event\, as well as announcements about weather delays or any other changes in plans.
URL:https://onemontgomerygreen.org/index.php/calendarevent/muddy-branch-alliance-meadow-tour/
LOCATION:Isaak Walton League of America Headquarters\, 707 Conservation Ln\, Gaithersburg\, MD\, 20878\, United States
CATEGORIES:meadow tour
ATTACH;FMTTYPE=image/jpeg:https://onemontgomerygreen.org/wp-content/uploads/2020/02/cef5bab9-f6d5-47f1-8f7b-b25ce4b2883b.jpg
ORGANIZER;CN="Muddy Branch Alliance":MAILTO:muddybranchalliance@gmail.com
END:VEVENT
BEGIN:VEVENT
DTSTART;TZID=America/New_York:20240808T130000
DTEND;TZID=America/New_York:20240808T140000
DTSTAMP:20260421T160259
CREATED:20240731T222243Z
LAST-MODIFIED:20240731T222243Z
UID:11272-1723122000-1723125600@onemontgomerygreen.org
SUMMARY:Stop the Money Pipeline Frontline Dispatch Webinar Part 2
DESCRIPTION:“Cancer Alley\,” a region along the Mississippi River in Louisiana\, has some of the highest cancer rates in the country due to its dense concentration of polluting industries. Despite this\, there are plans to expand this chemical corridor with even more factories. \nSharon Lavigne\, the 2021 Goldman Environmental Prize winner\, 2022 Laetare Medal recipient (The Laetare Medal is the most prestigious award given to American Catholics)\, and one of Times “The 100 Most Influential People of 2024” leads the charge against these expansions with her organization\, Rise St. James. \nRise St. James is a faith-based grassroots organization\, founded by Sharon Lavigne in 2018\, that is fighting for environmental justice as it works to defeat the proliferation of petrochemical industries in St. James Parish\, Louisiana. Under her leadership\, the community successfully blocked the construction of a $1.25 billion plastics manufacturing plant in 2018. Now\, they are battling against Formosa Plastics’ proposal to build a massive multibillion-dollar plant in the area. \nThe webinar will take place on Thursday\, August 8th at 10 AM PT / 12 PM CT / 1 PM ET. RSVP now!
URL:https://onemontgomerygreen.org/index.php/calendarevent/stop-the-money-pipeline-frontline-dispatch-webinar-part-2/
CATEGORIES:webinar
ATTACH;FMTTYPE=image/png:https://onemontgomerygreen.org/wp-content/uploads/2024/07/insta_fb-frontline_dispatch_stop_formosa.png
END:VEVENT
BEGIN:VEVENT
DTSTART;TZID=America/New_York:20240809T180000
DTEND;TZID=America/New_York:20240809T203000
DTSTAMP:20260421T160259
CREATED:20240731T181941Z
LAST-MODIFIED:20240731T190857Z
UID:11242-1723226400-1723235400@onemontgomerygreen.org
SUMMARY:OMG Hosts Beer Garden @ Wheaton TGIF Concerts
DESCRIPTION:Find Us at the Marian Fryer TGIF Concert and Beer Garden\n2424 Reedie Drive\, Wheaton\, MD 20902 \nOMG will be at the Beer Garden\, selling cocktails\, beer\, wine and seltzers. We will be giving out our reusable water bottles and water bottle handles while supplies last! All proceeds made during this event will help fund our youth programs\, park clean-ups and community outreach events. \nDates OMG Will Be Operating the Beer Garden: \n\nFriday\, Aug 2\, 2024  \nFriday\, Aug 9\, 2024\n\nConcert Lineup: \n\nFriday\, Aug 2\, 2024 – Billy Mayfield\nFriday\, Aug 9\, 2024 – Gorden Sterling and the People\n\nWe hope to see you there! \nFor more information: https://www.wheatonmd.org/do/tgif-summer-concert-series-3
URL:https://onemontgomerygreen.org/index.php/calendarevent/omg-hosts-beer-garden-wheaton-tgif-concerts-2/
LOCATION:Marian Fryer Town Plaza\, 2424 Reedie Drive\, Wheaton\, MD\, 20902\, United States
CATEGORIES:1OMG,MUSIC
ATTACH;FMTTYPE=image/png:https://onemontgomerygreen.org/wp-content/uploads/2024/07/TGIF24-flyer_Final.png
ORGANIZER;CN="One Montgomery Green":MAILTO:info@onemontgomerygreen.org
END:VEVENT
BEGIN:VEVENT
DTSTART;TZID=America/New_York:20240810T100000
DTEND;TZID=America/New_York:20240810T120000
DTSTAMP:20260421T160259
CREATED:20240731T201547Z
LAST-MODIFIED:20240731T201547Z
UID:11254-1723284000-1723291200@onemontgomerygreen.org
SUMMARY:OMG & FOSC Cleanup: Wheaton Branch Stormwater Mgmt Pond
DESCRIPTION:Wheaton Branch Stormwater Management Pond\n1640 Dennis Ave\, Silver Spring\, MD 20902 \nSaturday\, August 10 from 10 am – 12 pm\nhttps://lp.constantcontactpages.com/ev/reg/89ujrny \n\nOTHER UPCOMING CLEANUPS! \nDale Drive Neighborhood Park\n125 Dale Dr\, Silver Spring\, MD 20910 \nSaturday\, August 10 from 1:30 – 3:30 pm\nhttps://lp.constantcontactpages.com/ev/reg/fv9ye2a \n\nWhite Oak Community Recreation Center\n1700 April Ln\, Silver Spring 20904 \nSaturday\, September 14 from 10 am – 12 pm\nhttps://lp.constantcontactpages.com/ev/reg/z3v6g72 \n\nLong Branch Community Center\n8700 Piney Branch Rd\, Silver Spring\, MD 20901 \nSaturday\, October 5 from 1:30 – 3:30 pm\nhttps://lp.constantcontactpages.com/ev/reg/4gaaufh \n\nWheaton Branch Stormwater Management Pond\n1640 Dennis Ave\, Silver Spring\, MD 20902 \nSaturday\, November 2 from 10 am – 12 pm\nhttps://lp.constantcontactpages.com/ev/reg/c8dk2ss \n\nLong Branch Community Center\n8700 Piney Branch Rd\, Silver Spring\, MD 20901 \nSaturday\, November 2 from 1:30 – 3:30 pm\nhttps://lp.constantcontactpages.com/ev/reg/vrpqpmt \n  \nSign up and see more at www.anacostiariverkeeper.org/events-calendar 
URL:https://onemontgomerygreen.org/index.php/calendarevent/omg-fosc-cleanup-wheaton-branch-stormwater-mgmt-pond/
LOCATION:Wheaton Branch Pond\, 1640 Dennis Ave\, Wheaton\, MD\, 20902\, United States
CATEGORIES:1OMG,Cleanup
ATTACH;FMTTYPE=image/jpeg:https://onemontgomerygreen.org/wp-content/uploads/2024/07/2024_Cleanups_GraphicOnly.jpg
ORGANIZER;CN="One Montgomery Green":MAILTO:info@onemontgomerygreen.org
END:VEVENT
BEGIN:VEVENT
DTSTART;TZID=America/New_York:20240810T133000
DTEND;TZID=America/New_York:20240810T153000
DTSTAMP:20260421T160259
CREATED:20240731T202315Z
LAST-MODIFIED:20240731T202802Z
UID:11257-1723296600-1723303800@onemontgomerygreen.org
SUMMARY:OMG & FOSC Cleanup: Dale Drive Neighborhood Park
DESCRIPTION:Dale Drive Neighborhood Park\n125 Dale Dr\, Silver Spring\, MD 20910 \nSaturday\, August 10 from 1:30 – 3:30 pm\nhttps://lp.constantcontactpages.com/ev/reg/fv9ye2a \n\nOTHER UPCOMING CLEANUPS! \nWhite Oak Community Recreation Center\n1700 April Ln\, Silver Spring 20904 \nSaturday\, September 14 from 10 am – 12 pm\nhttps://lp.constantcontactpages.com/ev/reg/z3v6g72 \n\nLong Branch Community Center\n8700 Piney Branch Rd\, Silver Spring\, MD 20901 \nSaturday\, October 5 from 1:30 – 3:30 pm\nhttps://lp.constantcontactpages.com/ev/reg/4gaaufh \n\nWheaton Branch Stormwater Management Pond\n1640 Dennis Ave\, Silver Spring\, MD 20902 \nSaturday\, November 2 from 10 am – 12 pm\nhttps://lp.constantcontactpages.com/ev/reg/c8dk2ss \n\nLong Branch Community Center\n8700 Piney Branch Rd\, Silver Spring\, MD 20901 \nSaturday\, November 2 from 1:30 – 3:30 pm\nhttps://lp.constantcontactpages.com/ev/reg/vrpqpmt \n  \nSign up and see more at https://www.anacostiariverkeeper.org/events-calendar
URL:https://onemontgomerygreen.org/index.php/calendarevent/omg-fosc-cleanup-dale-drive-neighborhood-park/
LOCATION:Dale Drive Neighborhood Park\, 125 Dale Dr\, Silver Spring\, MD\, 20910\, United States
CATEGORIES:1OMG,Cleanup
ATTACH;FMTTYPE=image/jpeg:https://onemontgomerygreen.org/wp-content/uploads/2024/07/2024_Cleanups_GraphicOnly.jpg
ORGANIZER;CN="One Montgomery Green":MAILTO:info@onemontgomerygreen.org
END:VEVENT
BEGIN:VEVENT
DTSTART;TZID=America/New_York:20240811T080000
DTEND;TZID=America/New_York:20240811T100000
DTSTAMP:20260421T160259
CREATED:20240731T175913Z
LAST-MODIFIED:20240731T175913Z
UID:11237-1723363200-1723370400@onemontgomerygreen.org
SUMMARY:Weed Warriors event @ Malcolm King Park
DESCRIPTION:Weed Warriors Event!\nHelp us remove invasive plants in Malcolm King Park\, and learn about the native plants that are found there. We are pulling out plants like multiflora rose\, porcelain berry\, and oriental bittersweet\, that crowd out the beautiful native plants and the wildlife they support. Wander and enjoy the beauty of this gorgeous park after the event and have fun with other volunteers! \nTo help\, you must be wearing long pants\, sturdy shoes and be aware that the plants can be thorny. See you there! \nWhen? Sun.\, August 11\, 2024 from 8am to 10am. \nWhere? Malcolm King Park at the West Side Dr. Entrance \nFind the exact location in Google Maps here. \nQuestions? Contact Mary Hlavinka @ mjhlavinka@gmail.com
URL:https://onemontgomerygreen.org/index.php/calendarevent/weed-warriors-event-malcolm-king-park/
LOCATION:Malcolm King Park\, 1200 West Side Dr\, Gaithersburg\, MD\, 20878\, United States
ATTACH;FMTTYPE=image/jpeg:https://onemontgomerygreen.org/wp-content/uploads/2020/02/cef5bab9-f6d5-47f1-8f7b-b25ce4b2883b.jpg
ORGANIZER;CN="Muddy Branch Alliance":MAILTO:muddybranchalliance@gmail.com
END:VEVENT
BEGIN:VEVENT
DTSTART;TZID=America/New_York:20240830T180000
DTEND;TZID=America/New_York:20240830T190000
DTSTAMP:20260421T160259
CREATED:20240829T172808Z
LAST-MODIFIED:20240829T172808Z
UID:11283-1725040800-1725044400@onemontgomerygreen.org
SUMMARY:OMG at TGIF Wheaton for PLTP Presentation
DESCRIPTION:Purple Line Transit Partners (PLTP) Selects One Montgomery Green to Receive a ‘Beyond the Rails’ Community Grant \n \nJoin OMG for the Presentation on Friday Aug 30 before the Wheaton TGIF 2024 Summer Concert Series! \nPresentation begins at 6pm in Marian Fryer Plaza. Join us in your OMG wear for the presentation and stay for the Chopteeth \nAs Purple Line Transit Partners (PLTP) builds the Purple Line in partnership with the Maryland Transit Administration\, connecting with neighboring Prince George’s and Montgomery county communities as their long-term partner is a top priority. To tangibly support organizations working to make our communities better places to live\, work\, and play\, PLTP sponsor a community grant program called Beyond the Rails. PLTP is the sole funder and administrator of the program. https://purplelinemd.com/beyond-the-rails-grant-program \n 
URL:https://onemontgomerygreen.org/index.php/calendarevent/omg-at-tgif-wheaton-for-pltp-presentation/
LOCATION:Marian Fryer Town Plaza\, 2424 Reedie Drive\, Wheaton\, MD\, 20902\, United States
CATEGORIES:1OMG,presentations
ATTACH;FMTTYPE=image/jpeg:https://onemontgomerygreen.org/wp-content/uploads/2024/08/pl-overview-fact-sheet_202404_v4.jpg
ORGANIZER;CN="One Montgomery Green":MAILTO:info@onemontgomerygreen.org
END:VEVENT
END:VCALENDAR