BEGIN:VCALENDAR
VERSION:2.0
PRODID:-//One Montgomery Green - ECPv6.15.20//NONSGML v1.0//EN
CALSCALE:GREGORIAN
METHOD:PUBLISH
X-ORIGINAL-URL:https://onemontgomerygreen.org
X-WR-CALDESC:Events for One Montgomery Green
REFRESH-INTERVAL;VALUE=DURATION:PT1H
X-Robots-Tag:noindex
X-PUBLISHED-TTL:PT1H
BEGIN:VTIMEZONE
TZID:America/New_York
BEGIN:DAYLIGHT
TZOFFSETFROM:-0500
TZOFFSETTO:-0400
TZNAME:EDT
DTSTART:20250309T070000
END:DAYLIGHT
BEGIN:STANDARD
TZOFFSETFROM:-0400
TZOFFSETTO:-0500
TZNAME:EST
DTSTART:20251102T060000
END:STANDARD
BEGIN:DAYLIGHT
TZOFFSETFROM:-0500
TZOFFSETTO:-0400
TZNAME:EDT
DTSTART:20260308T070000
END:DAYLIGHT
BEGIN:STANDARD
TZOFFSETFROM:-0400
TZOFFSETTO:-0500
TZNAME:EST
DTSTART:20261101T060000
END:STANDARD
BEGIN:DAYLIGHT
TZOFFSETFROM:-0500
TZOFFSETTO:-0400
TZNAME:EDT
DTSTART:20270314T070000
END:DAYLIGHT
BEGIN:STANDARD
TZOFFSETFROM:-0400
TZOFFSETTO:-0500
TZNAME:EST
DTSTART:20271107T060000
END:STANDARD
END:VTIMEZONE
BEGIN:VEVENT
DTSTART;TZID=America/New_York:20260422T170000
DTEND;TZID=America/New_York:20260422T190000
DTSTAMP:20260420T121358
CREATED:20260415T223515Z
LAST-MODIFIED:20260416T153344Z
UID:12890-1776877200-1776884400@onemontgomerygreen.org
SUMMARY:Roots and Resilience: Supporting Conservation Careers in Transition
DESCRIPTION:April 22 – Roots & Resilience: Supporting Conservation Careers in Transition\nIn a time of transition for DC’s workforce\, come together for a panel discussion focused on supporting those most affected by the federal cuts in the fields of environmental and wildlife conservation. Join DC EcoWomen\, The Conservation Collective\, Root to Flourish Collective\, and WellFed on Earth Day for a night of sharing resources\, honest conversation\, and empowerment. Connect with colleagues navigating similar challenges and walk away having identified tangible steps to finding your next opportunity. Panel is 5:30-6:30. Come early or stick around after the panel for a networking happy hour. \n📅 Date: Wednesday\, April 22\n⏰ Time: 5-7 pm\n📍 Busboys and Poets 450 K St NW\, Washington\, DC \nRegister at: https://luma.com/o7kkz3qp
URL:https://onemontgomerygreen.org/index.php/calendarevent/roots-and-resilience-supporting-conservation-careers-in-transition/
CATEGORIES:panel,panel discussion
ATTACH;FMTTYPE=image/gif:https://onemontgomerygreen.org/wp-content/uploads/2020/05/dcecowomen_logo.gif
END:VEVENT
BEGIN:VEVENT
DTSTART;TZID=America/New_York:20260425T110000
DTEND;TZID=America/New_York:20260425T160000
DTSTAMP:20260420T121358
CREATED:20260208T222919Z
LAST-MODIFIED:20260208T223008Z
UID:12722-1777114800-1777132800@onemontgomerygreen.org
SUMMARY:2026 GreenFest
DESCRIPTION:The Montgomery County GreenFest is the largest environmental festival in Montgomery County\, MD\, and is made possible thanks to a coalition of public\, private and nonprofit partners. \n\n\n250 Actions\nMontgomery County GreenFest is going big in 2026! To honor the 250th anniversary of Montgomery County (founded in 1776)\, this year’s theme centers on legacy and collective action. We invite every resident to celebrate Montgomery County’s 250 years by committing to 250 actions that safeguard our environment and public health. \n\n\nFor more Information: https://montgomerycountygreenfest.org/
URL:https://onemontgomerygreen.org/index.php/calendarevent/2026-greenfest/
LOCATION:BlackRock Center for the Arts\, 12901 Town Commons Drive\, Germantown\, MD\, 20874\, United States
CATEGORIES:1OMG,festival,Green Festival,GreenFest
ATTACH;FMTTYPE=image/jpeg:https://onemontgomerygreen.org/wp-content/uploads/2026/02/2026_MoCo_DEP_GreenFest_md1.4-02.jpg
END:VEVENT
BEGIN:VEVENT
DTSTART;VALUE=DATE:20260428
DTEND;VALUE=DATE:20260430
DTSTAMP:20260420T121358
CREATED:20260115T204848Z
LAST-MODIFIED:20260115T205112Z
UID:12705-1777334400-1777507199@onemontgomerygreen.org
SUMMARY:Montgomery County Energy Summit: Elevating Building Performance
DESCRIPTION:Montgomery County Energy Summit: \nElevating Building Performance\nApril 28 – 29  •  Silver Spring Civic Center\nDon’t miss your chance to register at early-bird rates for the 2026 Montgomery County Energy Summit\, happening April 28 – 29 at the Silver Spring Civic Building. This year’s Summit\, themed “Elevating Building Performance\,” delivers top-tier content for building owners\, property managers\, developers\, energy contractors\, and sustainability professionals. \n🔔 Register Now – Save Early\nSecure your spot and unlock special pricing during the early-bird window! The Summit provides a transformative opportunity to: \n\nExplore education sessions showcasing advanced strategies and innovative technologies\nConnect with leading experts in energy efficiency\, resilience\, and sustainability\nPrepare your building portfolio to meet performance standards\n\n➤ Register for the 2026 Summit  at early-bird rates through January 27 \n\nHome
URL:https://onemontgomerygreen.org/index.php/calendarevent/montgomery-county-energy-summit-elevating-building-performance/
LOCATION:Silver Spring Civic Building at Veterans Plaza\, 1 Veterans Plaza\, Silver Spring\, MD\, 20910\, United States
CATEGORIES:Energy Summit,Summit
ATTACH;FMTTYPE=image/png:https://onemontgomerygreen.org/wp-content/uploads/2026/01/mces2026_crop.png
END:VEVENT
BEGIN:VEVENT
DTSTART;TZID=America/New_York:20260430T190000
DTEND;TZID=America/New_York:20260430T210000
DTSTAMP:20260420T121358
CREATED:20260413T184044Z
LAST-MODIFIED:20260413T185331Z
UID:12873-1777575600-1777582800@onemontgomerygreen.org
SUMMARY:RainScape Your Yard - Session I: Evaluating Stormwater Solutions for Home Landscapes
DESCRIPTION:RainScape Your Yard – Session I: Evaluating Stormwater Solutions for Home Landscapes\nThursday\, April 30  |  7 pm – 9 pm\nBrookside Garden Virtual Classroom\n\nMontgomery Count Department of Environmental Protection StaffSession I: Learn how environmentally friendly landscapes\, such as conservation landscapes and rain gardens\, can help manage stormwater issues on residential properties. We’ll review steps to planning a RainScape including site evaluation and determining the type and scale of project that best suits your needs.A RainScape is a landscape or design technique that helps reduce stormwater runoff from individual properties. RainScape projects can include rain gardens\, conservation landscapes\, green roofs\, and permeable pavements. The Montgomery County Department of Environmental Protection offers a rebate program for approved RainScape projects for homeowners. To be eligible for a rebate\, participants must apply and be approved for installation based on a submitted plan before projects are installed. These two sessions are intended to help homeowners create a RainScape design plan. Classes are open to anyone regardless if applying for a RainScape rebate.\n\n\n\nNOTE: This class is offered virtually as a live\, online webinar though the Zoom platform with audience Q & A. After registering\, a link will be emailed to you 24 hours prior to the live webinar. A recording of the lecture will be sent to registrants to access online for up to 30 days. Please ensure your Active Montgomery account is updated with your correct email address.\n\n\nTo register through Active Montgomery: https://mdmontgomeryctyweb.myvscloud.com/webtrac/web/iteminfo.html?Module=AR&FMID=495116870
URL:https://onemontgomerygreen.org/index.php/calendarevent/rainscape-your-yard-session-i-evaluating-stormwater-solutions-for-home-landscapes/
CATEGORIES:webinar
ATTACH;FMTTYPE=image/png:https://onemontgomerygreen.org/wp-content/uploads/2026/04/MC-DEP.png
END:VEVENT
END:VCALENDAR